{"text_format":"1","workbook":"xlsx","n_sheets":3,"sheets":["Step 1 -- Commenter information","hidden_data","Step 2 -- Comment submission"],"not_rendered":{"charts":0,"images":2,"macros":0,"external_links":0,"defined_names":0,"comments":0,"pivot_tables":0},"unopened":[],"bounds":{"document_bytes":16777216,"sheet_cells":100000,"rows_first":2000,"rows_last":500,"rows_between":2000,"halvings":0,"cell_chars":16384,"cell_head_chars":4096},"cells_cut":0,"cells_raw":0,"read":"whole","date_system":"1900"}

{"sheet":"Step 1 -- Commenter information","index":0,"n_rows":11,"n_cols":2,"rows_kept":11,"cut":false,"hidden":false,"merged":[]}
[]
["Commenter Name"]
["Commenter Affiliation"]
["Commenter Email"]
["Commenter Phone"]
[]
["Draft file name"]
[]
[]
[null,"Version 1.1.1"]
[null,"2015-10-28"]

{"sheet":"hidden_data","index":1,"n_rows":50,"n_cols":3,"rows_kept":50,"cut":false,"hidden":true,"merged":[]}
["Technical","Yes",1]
["Editorial","No",2]
[null,null,3]
[null,null,4]
[null,null,5]
[null,null,6]
[null,null,7]
[null,null,8]
[null,null,9]
[null,null,10]
[null,null,11]
[null,null,12]
[null,null,13]
[null,null,14]
[null,null,15]
[null,null,16]
[null,null,17]
[null,null,18]
[null,null,19]
[null,null,20]
[null,null,21]
[null,null,22]
[null,null,23]
[null,null,24]
[null,null,25]
[null,null,26]
[null,null,27]
[null,null,28]
[null,null,29]
[null,null,30]
[null,null,31]
[null,null,32]
[null,null,33]
[null,null,34]
[null,null,35]
[null,null,36]
[null,null,37]
[null,null,38]
[null,null,39]
[null,null,40]
[null,null,41]
[null,null,42]
[null,null,43]
[null,null,44]
[null,null,45]
[null,null,46]
[null,null,47]
[null,null,48]
[null,null,49]
[null,null,50]

{"sheet":"Step 2 -- Comment submission","index":2,"n_rows":500,"n_cols":11,"rows_kept":500,"cut":false,"hidden":false,"merged":[]}
["Comment\nCategory","Required","Page","Sub-clause","Line","Comment","Proposed Change","Commenter\nName","Commenter\nAffiliation","Commenter\nEmail","Commenter\nPhone"]
[null,null,null,null,null,null,null,{"$f":"IF($A2<>\"\",'Step 1 -- Commenter information'!$B$2,\"\")","v":""},{"$f":"IF($A2<>\"\",'Step 1 -- Commenter information'!$B$3,\"\")","v":""},{"$f":"IF($A2<>\"\",'Step 1 -- Commenter information'!$B$4,\"\")","v":""},{"$f":"IF($A2<>\"\",'Step 1 -- Commenter information'!$B$5,\"\")","v":""}]
[null,null,null,null,null,null,null,{"$f":"IF($A3<>\"\",'Step 1 -- Commenter information'!$B$2,\"\")","v":""},{"$f":"IF($A3<>\"\",'Step 1 -- Commenter information'!$B$3,\"\")","v":""},{"$f":"IF($A3<>\"\",'Step 1 -- Commenter information'!$B$4,\"\")","v":""},{"$f":"IF($A3<>\"\",'Step 1 -- Commenter information'!$B$5,\"\")","v":""}]
[null,null,null,null,null,null,null,{"$f":"IF($A4<>\"\",'Step 1 -- Commenter information'!$B$2,\"\")","v":""},{"$f":"IF($A4<>\"\",'Step 1 -- Commenter information'!$B$3,\"\")","v":""},{"$f":"IF($A4<>\"\",'Step 1 -- Commenter information'!$B$4,\"\")","v":""},{"$f":"IF($A4<>\"\",'Step 1 -- Commenter information'!$B$5,\"\")","v":""}]
[null,null,null,null,null,null,null,{"$f":"IF($A5<>\"\",'Step 1 -- Commenter information'!$B$2,\"\")","v":""},{"$f":"IF($A5<>\"\",'Step 1 -- Commenter information'!$B$3,\"\")","v":""},{"$f":"IF($A5<>\"\",'Step 1 -- Commenter information'!$B$4,\"\")","v":""},{"$f":"IF($A5<>\"\",'Step 1 -- Commenter information'!$B$5,\"\")","v":""}]
[null,null,null,null,null,null,null,{"$f":"IF($A6<>\"\",'Step 1 -- Commenter information'!$B$2,\"\")","v":""},{"$f":"IF($A6<>\"\",'Step 1 -- Commenter information'!$B$3,\"\")","v":""},{"$f":"IF($A6<>\"\",'Step 1 -- Commenter information'!$B$4,\"\")","v":""},{"$f":"IF($A6<>\"\",'Step 1 -- Commenter information'!$B$5,\"\")","v":""}]
[null,null,null,null,null,null,null,{"$f":"IF($A7<>\"\",'Step 1 -- Commenter information'!$B$2,\"\")","v":""},{"$f":"IF($A7<>\"\",'Step 1 -- Commenter information'!$B$3,\"\")","v":""},{"$f":"IF($A7<>\"\",'Step 1 -- Commenter information'!$B$4,\"\")","v":""},{"$f":"IF($A7<>\"\",'Step 1 -- Commenter information'!$B$5,\"\")","v":""}]
[null,null,null,null,null,null,null,{"$f":"IF($A8<>\"\",'Step 1 -- Commenter information'!$B$2,\"\")","v":""},{"$f":"IF($A8<>\"\",'Step 1 -- Commenter information'!$B$3,\"\")","v":""},{"$f":"IF($A8<>\"\",'Step 1 -- Commenter information'!$B$4,\"\")","v":""},{"$f":"IF($A8<>\"\",'Step 1 -- Commenter information'!$B$5,\"\")","v":""}]
[null,null,null,null,null,null,null,{"$f":"IF($A9<>\"\",'Step 1 -- Commenter information'!$B$2,\"\")","v":""},{"$f":"IF($A9<>\"\",'Step 1 -- Commenter information'!$B$3,\"\")","v":""},{"$f":"IF($A9<>\"\",'Step 1 -- Commenter information'!$B$4,\"\")","v":""},{"$f":"IF($A9<>\"\",'Step 1 -- Commenter information'!$B$5,\"\")","v":""}]
[null,null,null,null,null,null,null,{"$f":"IF($A10<>\"\",'Step 1 -- Commenter information'!$B$2,\"\")","v":""},{"$f":"IF($A10<>\"\",'Step 1 -- Commenter information'!$B$3,\"\")","v":""},{"$f":"IF($A10<>\"\",'Step 1 -- Commenter information'!$B$4,\"\")","v":""},{"$f":"IF($A10<>\"\",'Step 1 -- Commenter information'!$B$5,\"\")","v":""}]
[null,null,null,null,null,null,null,{"$f":"IF($A11<>\"\",'Step 1 -- Commenter information'!$B$2,\"\")","v":""},{"$f":"IF($A11<>\"\",'Step 1 -- Commenter information'!$B$3,\"\")","v":""},{"$f":"IF($A11<>\"\",'Step 1 -- Commenter information'!$B$4,\"\")","v":""},{"$f":"IF($A11<>\"\",'Step 1 -- Commenter information'!$B$5,\"\")","v":""}]
[null,null,null,null,null,null,null,{"$f":"IF($A12<>\"\",'Step 1 -- Commenter information'!$B$2,\"\")","v":""},{"$f":"IF($A12<>\"\",'Step 1 -- Commenter information'!$B$3,\"\")","v":""},{"$f":"IF($A12<>\"\",'Step 1 -- Commenter information'!$B$4,\"\")","v":""},{"$f":"IF($A12<>\"\",'Step 1 -- Commenter information'!$B$5,\"\")","v":""}]
[null,null,null,null,null,null,null,{"$f":"IF($A13<>\"\",'Step 1 -- Commenter information'!$B$2,\"\")","v":""},{"$f":"IF($A13<>\"\",'Step 1 -- Commenter information'!$B$3,\"\")","v":""},{"$f":"IF($A13<>\"\",'Step 1 -- Commenter information'!$B$4,\"\")","v":""},{"$f":"IF($A13<>\"\",'Step 1 -- Commenter information'!$B$5,\"\")","v":""}]
[null,null,null,null,null,null,null,{"$f":"IF($A14<>\"\",'Step 1 -- Commenter information'!$B$2,\"\")","v":""},{"$f":"IF($A14<>\"\",'Step 1 -- Commenter information'!$B$3,\"\")","v":""},{"$f":"IF($A14<>\"\",'Step 1 -- Commenter information'!$B$4,\"\")","v":""},{"$f":"IF($A14<>\"\",'Step 1 -- Commenter information'!$B$5,\"\")","v":""}]
[null,null,null,null,null,null,null,{"$f":"IF($A15<>\"\",'Step 1 -- Commenter information'!$B$2,\"\")","v":""},{"$f":"IF($A15<>\"\",'Step 1 -- Commenter information'!$B$3,\"\")","v":""},{"$f":"IF($A15<>\"\",'Step 1 -- Commenter information'!$B$4,\"\")","v":""},{"$f":"IF($A15<>\"\",'Step 1 -- Commenter information'!$B$5,\"\")","v":""}]
[null,null,null,null,null,null,null,{"$f":"IF($A16<>\"\",'Step 1 -- Commenter information'!$B$2,\"\")","v":""},{"$f":"IF($A16<>\"\",'Step 1 -- Commenter information'!$B$3,\"\")","v":""},{"$f":"IF($A16<>\"\",'Step 1 -- Commenter information'!$B$4,\"\")","v":""},{"$f":"IF($A16<>\"\",'Step 1 -- Commenter information'!$B$5,\"\")","v":""}]
[null,null,null,null,null,null,null,{"$f":"IF($A17<>\"\",'Step 1 -- Commenter information'!$B$2,\"\")","v":""},{"$f":"IF($A17<>\"\",'Step 1 -- Commenter information'!$B$3,\"\")","v":""},{"$f":"IF($A17<>\"\",'Step 1 -- Commenter information'!$B$4,\"\")","v":""},{"$f":"IF($A17<>\"\",'Step 1 -- Commenter information'!$B$5,\"\")","v":""}]
[null,null,null,null,null,null,null,{"$f":"IF($A18<>\"\",'Step 1 -- Commenter information'!$B$2,\"\")","v":""},{"$f":"IF($A18<>\"\",'Step 1 -- Commenter information'!$B$3,\"\")","v":""},{"$f":"IF($A18<>\"\",'Step 1 -- Commenter information'!$B$4,\"\")","v":""},{"$f":"IF($A18<>\"\",'Step 1 -- Commenter information'!$B$5,\"\")","v":""}]
[null,null,null,null,null,null,null,{"$f":"IF($A19<>\"\",'Step 1 -- Commenter information'!$B$2,\"\")","v":""},{"$f":"IF($A19<>\"\",'Step 1 -- Commenter information'!$B$3,\"\")","v":""},{"$f":"IF($A19<>\"\",'Step 1 -- Commenter information'!$B$4,\"\")","v":""},{"$f":"IF($A19<>\"\",'Step 1 -- Commenter information'!$B$5,\"\")","v":""}]
[null,null,null,null,null,null,null,{"$f":"IF($A20<>\"\",'Step 1 -- Commenter information'!$B$2,\"\")","v":""},{"$f":"IF($A20<>\"\",'Step 1 -- Commenter information'!$B$3,\"\")","v":""},{"$f":"IF($A20<>\"\",'Step 1 -- Commenter information'!$B$4,\"\")","v":""},{"$f":"IF($A20<>\"\",'Step 1 -- Commenter information'!$B$5,\"\")","v":""}]
[null,null,null,null,null,null,null,{"$f":"IF($A21<>\"\",'Step 1 -- Commenter information'!$B$2,\"\")","v":""},{"$f":"IF($A21<>\"\",'Step 1 -- Commenter information'!$B$3,\"\")","v":""},{"$f":"IF($A21<>\"\",'Step 1 -- Commenter information'!$B$4,\"\")","v":""},{"$f":"IF($A21<>\"\",'Step 1 -- Commenter information'!$B$5,\"\")","v":""}]
[null,null,null,null,null,null,null,{"$f":"IF($A22<>\"\",'Step 1 -- Commenter information'!$B$2,\"\")","v":""},{"$f":"IF($A22<>\"\",'Step 1 -- Commenter information'!$B$3,\"\")","v":""},{"$f":"IF($A22<>\"\",'Step 1 -- Commenter information'!$B$4,\"\")","v":""},{"$f":"IF($A22<>\"\",'Step 1 -- Commenter information'!$B$5,\"\")","v":""}]
[null,null,null,null,null,null,null,{"$f":"IF($A23<>\"\",'Step 1 -- Commenter information'!$B$2,\"\")","v":""},{"$f":"IF($A23<>\"\",'Step 1 -- Commenter information'!$B$3,\"\")","v":""},{"$f":"IF($A23<>\"\",'Step 1 -- Commenter information'!$B$4,\"\")","v":""},{"$f":"IF($A23<>\"\",'Step 1 -- Commenter information'!$B$5,\"\")","v":""}]
[null,null,null,null,null,null,null,{"$f":"IF($A24<>\"\",'Step 1 -- Commenter information'!$B$2,\"\")","v":""},{"$f":"IF($A24<>\"\",'Step 1 -- Commenter information'!$B$3,\"\")","v":""},{"$f":"IF($A24<>\"\",'Step 1 -- Commenter information'!$B$4,\"\")","v":""},{"$f":"IF($A24<>\"\",'Step 1 -- Commenter information'!$B$5,\"\")","v":""}]
[null,null,null,null,null,null,null,{"$f":"IF($A25<>\"\",'Step 1 -- Commenter information'!$B$2,\"\")","v":""},{"$f":"IF($A25<>\"\",'Step 1 -- Commenter information'!$B$3,\"\")","v":""},{"$f":"IF($A25<>\"\",'Step 1 -- Commenter information'!$B$4,\"\")","v":""},{"$f":"IF($A25<>\"\",'Step 1 -- Commenter information'!$B$5,\"\")","v":""}]
[null,null,null,null,null,null,null,{"$f":"IF($A26<>\"\",'Step 1 -- Commenter information'!$B$2,\"\")","v":""},{"$f":"IF($A26<>\"\",'Step 1 -- Commenter information'!$B$3,\"\")","v":""},{"$f":"IF($A26<>\"\",'Step 1 -- Commenter information'!$B$4,\"\")","v":""},{"$f":"IF($A26<>\"\",'Step 1 -- Commenter information'!$B$5,\"\")","v":""}]
[null,null,null,null,null,null,null,{"$f":"IF($A27<>\"\",'Step 1 -- Commenter information'!$B$2,\"\")","v":""},{"$f":"IF($A27<>\"\",'Step 1 -- Commenter information'!$B$3,\"\")","v":""},{"$f":"IF($A27<>\"\",'Step 1 -- Commenter information'!$B$4,\"\")","v":""},{"$f":"IF($A27<>\"\",'Step 1 -- Commenter information'!$B$5,\"\")","v":""}]
[null,null,null,null,null,null,null,{"$f":"IF($A28<>\"\",'Step 1 -- Commenter information'!$B$2,\"\")","v":""},{"$f":"IF($A28<>\"\",'Step 1 -- Commenter information'!$B$3,\"\")","v":""},{"$f":"IF($A28<>\"\",'Step 1 -- Commenter information'!$B$4,\"\")","v":""},{"$f":"IF($A28<>\"\",'Step 1 -- Commenter information'!$B$5,\"\")","v":""}]
[null,null,null,null,null,null,null,{"$f":"IF($A29<>\"\",'Step 1 -- Commenter information'!$B$2,\"\")","v":""},{"$f":"IF($A29<>\"\",'Step 1 -- Commenter information'!$B$3,\"\")","v":""},{"$f":"IF($A29<>\"\",'Step 1 -- Commenter information'!$B$4,\"\")","v":""},{"$f":"IF($A29<>\"\",'Step 1 -- Commenter information'!$B$5,\"\")","v":""}]
[null,null,null,null,null,null,null,{"$f":"IF($A30<>\"\",'Step 1 -- Commenter information'!$B$2,\"\")","v":""},{"$f":"IF($A30<>\"\",'Step 1 -- Commenter information'!$B$3,\"\")","v":""},{"$f":"IF($A30<>\"\",'Step 1 -- Commenter information'!$B$4,\"\")","v":""},{"$f":"IF($A30<>\"\",'Step 1 -- Commenter information'!$B$5,\"\")","v":""}]
[null,null,null,null,null,null,null,{"$f":"IF($A31<>\"\",'Step 1 -- Commenter information'!$B$2,\"\")","v":""},{"$f":"IF($A31<>\"\",'Step 1 -- Commenter information'!$B$3,\"\")","v":""},{"$f":"IF($A31<>\"\",'Step 1 -- Commenter information'!$B$4,\"\")","v":""},{"$f":"IF($A31<>\"\",'Step 1 -- Commenter information'!$B$5,\"\")","v":""}]
[null,null,null,null,null,null,null,{"$f":"IF($A32<>\"\",'Step 1 -- Commenter information'!$B$2,\"\")","v":""},{"$f":"IF($A32<>\"\",'Step 1 -- Commenter information'!$B$3,\"\")","v":""},{"$f":"IF($A32<>\"\",'Step 1 -- Commenter information'!$B$4,\"\")","v":""},{"$f":"IF($A32<>\"\",'Step 1 -- Commenter information'!$B$5,\"\")","v":""}]
[null,null,null,null,null,null,null,{"$f":"IF($A33<>\"\",'Step 1 -- Commenter information'!$B$2,\"\")","v":""},{"$f":"IF($A33<>\"\",'Step 1 -- Commenter information'!$B$3,\"\")","v":""},{"$f":"IF($A33<>\"\",'Step 1 -- Commenter information'!$B$4,\"\")","v":""},{"$f":"IF($A33<>\"\",'Step 1 -- Commenter information'!$B$5,\"\")","v":""}]
[null,null,null,null,null,null,null,{"$f":"IF($A34<>\"\",'Step 1 -- Commenter information'!$B$2,\"\")","v":""},{"$f":"IF($A34<>\"\",'Step 1 -- Commenter information'!$B$3,\"\")","v":""},{"$f":"IF($A34<>\"\",'Step 1 -- Commenter information'!$B$4,\"\")","v":""},{"$f":"IF($A34<>\"\",'Step 1 -- Commenter information'!$B$5,\"\")","v":""}]
[null,null,null,null,null,null,null,{"$f":"IF($A35<>\"\",'Step 1 -- Commenter information'!$B$2,\"\")","v":""},{"$f":"IF($A35<>\"\",'Step 1 -- Commenter information'!$B$3,\"\")","v":""},{"$f":"IF($A35<>\"\",'Step 1 -- Commenter information'!$B$4,\"\")","v":""},{"$f":"IF($A35<>\"\",'Step 1 -- Commenter information'!$B$5,\"\")","v":""}]
[null,null,null,null,null,null,null,{"$f":"IF($A36<>\"\",'Step 1 -- Commenter information'!$B$2,\"\")","v":""},{"$f":"IF($A36<>\"\",'Step 1 -- Commenter information'!$B$3,\"\")","v":""},{"$f":"IF($A36<>\"\",'Step 1 -- Commenter information'!$B$4,\"\")","v":""},{"$f":"IF($A36<>\"\",'Step 1 -- Commenter information'!$B$5,\"\")","v":""}]
[null,null,null,null,null,null,null,{"$f":"IF($A37<>\"\",'Step 1 -- Commenter information'!$B$2,\"\")","v":""},{"$f":"IF($A37<>\"\",'Step 1 -- Commenter information'!$B$3,\"\")","v":""},{"$f":"IF($A37<>\"\",'Step 1 -- Commenter information'!$B$4,\"\")","v":""},{"$f":"IF($A37<>\"\",'Step 1 -- Commenter information'!$B$5,\"\")","v":""}]
[null,null,null,null,null,null,null,{"$f":"IF($A38<>\"\",'Step 1 -- Commenter information'!$B$2,\"\")","v":""},{"$f":"IF($A38<>\"\",'Step 1 -- Commenter information'!$B$3,\"\")","v":""},{"$f":"IF($A38<>\"\",'Step 1 -- Commenter information'!$B$4,\"\")","v":""},{"$f":"IF($A38<>\"\",'Step 1 -- Commenter information'!$B$5,\"\")","v":""}]
[null,null,null,null,null,null,null,{"$f":"IF($A39<>\"\",'Step 1 -- Commenter information'!$B$2,\"\")","v":""},{"$f":"IF($A39<>\"\",'Step 1 -- Commenter information'!$B$3,\"\")","v":""},{"$f":"IF($A39<>\"\",'Step 1 -- Commenter information'!$B$4,\"\")","v":""},{"$f":"IF($A39<>\"\",'Step 1 -- Commenter information'!$B$5,\"\")","v":""}]
[null,null,null,null,null,null,null,{"$f":"IF($A40<>\"\",'Step 1 -- Commenter information'!$B$2,\"\")","v":""},{"$f":"IF($A40<>\"\",'Step 1 -- Commenter information'!$B$3,\"\")","v":""},{"$f":"IF($A40<>\"\",'Step 1 -- Commenter information'!$B$4,\"\")","v":""},{"$f":"IF($A40<>\"\",'Step 1 -- Commenter information'!$B$5,\"\")","v":""}]
[null,null,null,null,null,null,null,{"$f":"IF($A41<>\"\",'Step 1 -- Commenter information'!$B$2,\"\")","v":""},{"$f":"IF($A41<>\"\",'Step 1 -- Commenter information'!$B$3,\"\")","v":""},{"$f":"IF($A41<>\"\",'Step 1 -- Commenter information'!$B$4,\"\")","v":""},{"$f":"IF($A41<>\"\",'Step 1 -- Commenter information'!$B$5,\"\")","v":""}]
[null,null,null,null,null,null,null,{"$f":"IF($A42<>\"\",'Step 1 -- Commenter information'!$B$2,\"\")","v":""},{"$f":"IF($A42<>\"\",'Step 1 -- Commenter information'!$B$3,\"\")","v":""},{"$f":"IF($A42<>\"\",'Step 1 -- Commenter information'!$B$4,\"\")","v":""},{"$f":"IF($A42<>\"\",'Step 1 -- Commenter information'!$B$5,\"\")","v":""}]
[null,null,null,null,null,null,null,{"$f":"IF($A43<>\"\",'Step 1 -- Commenter information'!$B$2,\"\")","v":""},{"$f":"IF($A43<>\"\",'Step 1 -- Commenter information'!$B$3,\"\")","v":""},{"$f":"IF($A43<>\"\",'Step 1 -- Commenter information'!$B$4,\"\")","v":""},{"$f":"IF($A43<>\"\",'Step 1 -- Commenter information'!$B$5,\"\")","v":""}]
[null,null,null,null,null,null,null,{"$f":"IF($A44<>\"\",'Step 1 -- Commenter information'!$B$2,\"\")","v":""},{"$f":"IF($A44<>\"\",'Step 1 -- Commenter information'!$B$3,\"\")","v":""},{"$f":"IF($A44<>\"\",'Step 1 -- Commenter information'!$B$4,\"\")","v":""},{"$f":"IF($A44<>\"\",'Step 1 -- Commenter information'!$B$5,\"\")","v":""}]
[null,null,null,null,null,null,null,{"$f":"IF($A45<>\"\",'Step 1 -- Commenter information'!$B$2,\"\")","v":""},{"$f":"IF($A45<>\"\",'Step 1 -- Commenter information'!$B$3,\"\")","v":""},{"$f":"IF($A45<>\"\",'Step 1 -- Commenter information'!$B$4,\"\")","v":""},{"$f":"IF($A45<>\"\",'Step 1 -- Commenter information'!$B$5,\"\")","v":""}]
[null,null,null,null,null,null,null,{"$f":"IF($A46<>\"\",'Step 1 -- Commenter information'!$B$2,\"\")","v":""},{"$f":"IF($A46<>\"\",'Step 1 -- Commenter information'!$B$3,\"\")","v":""},{"$f":"IF($A46<>\"\",'Step 1 -- Commenter information'!$B$4,\"\")","v":""},{"$f":"IF($A46<>\"\",'Step 1 -- Commenter information'!$B$5,\"\")","v":""}]
[null,null,null,null,null,null,null,{"$f":"IF($A47<>\"\",'Step 1 -- Commenter information'!$B$2,\"\")","v":""},{"$f":"IF($A47<>\"\",'Step 1 -- Commenter information'!$B$3,\"\")","v":""},{"$f":"IF($A47<>\"\",'Step 1 -- Commenter information'!$B$4,\"\")","v":""},{"$f":"IF($A47<>\"\",'Step 1 -- Commenter information'!$B$5,\"\")","v":""}]
[null,null,null,null,null,null,null,{"$f":"IF($A48<>\"\",'Step 1 -- Commenter information'!$B$2,\"\")","v":""},{"$f":"IF($A48<>\"\",'Step 1 -- Commenter information'!$B$3,\"\")","v":""},{"$f":"IF($A48<>\"\",'Step 1 -- Commenter information'!$B$4,\"\")","v":""},{"$f":"IF($A48<>\"\",'Step 1 -- Commenter information'!$B$5,\"\")","v":""}]
[null,null,null,null,null,null,null,{"$f":"IF($A49<>\"\",'Step 1 -- Commenter information'!$B$2,\"\")","v":""},{"$f":"IF($A49<>\"\",'Step 1 -- Commenter information'!$B$3,\"\")","v":""},{"$f":"IF($A49<>\"\",'Step 1 -- Commenter information'!$B$4,\"\")","v":""},{"$f":"IF($A49<>\"\",'Step 1 -- Commenter information'!$B$5,\"\")","v":""}]
[null,null,null,null,null,null,null,{"$f":"IF($A50<>\"\",'Step 1 -- Commenter information'!$B$2,\"\")","v":""},{"$f":"IF($A50<>\"\",'Step 1 -- Commenter information'!$B$3,\"\")","v":""},{"$f":"IF($A50<>\"\",'Step 1 -- Commenter information'!$B$4,\"\")","v":""},{"$f":"IF($A50<>\"\",'Step 1 -- Commenter information'!$B$5,\"\")","v":""}]
[null,null,null,null,null,null,null,{"$f":"IF($A51<>\"\",'Step 1 -- Commenter information'!$B$2,\"\")","v":""},{"$f":"IF($A51<>\"\",'Step 1 -- Commenter information'!$B$3,\"\")","v":""},{"$f":"IF($A51<>\"\",'Step 1 -- Commenter information'!$B$4,\"\")","v":""},{"$f":"IF($A51<>\"\",'Step 1 -- Commenter information'!$B$5,\"\")","v":""}]
[null,null,null,null,null,null,null,{"$f":"IF($A52<>\"\",'Step 1 -- Commenter information'!$B$2,\"\")","v":""},{"$f":"IF($A52<>\"\",'Step 1 -- Commenter information'!$B$3,\"\")","v":""},{"$f":"IF($A52<>\"\",'Step 1 -- Commenter information'!$B$4,\"\")","v":""},{"$f":"IF($A52<>\"\",'Step 1 -- Commenter information'!$B$5,\"\")","v":""}]
[null,null,null,null,null,null,null,{"$f":"IF($A53<>\"\",'Step 1 -- Commenter information'!$B$2,\"\")","v":""},{"$f":"IF($A53<>\"\",'Step 1 -- Commenter information'!$B$3,\"\")","v":""},{"$f":"IF($A53<>\"\",'Step 1 -- Commenter information'!$B$4,\"\")","v":""},{"$f":"IF($A53<>\"\",'Step 1 -- Commenter information'!$B$5,\"\")","v":""}]
[null,null,null,null,null,null,null,{"$f":"IF($A54<>\"\",'Step 1 -- Commenter information'!$B$2,\"\")","v":""},{"$f":"IF($A54<>\"\",'Step 1 -- Commenter information'!$B$3,\"\")","v":""},{"$f":"IF($A54<>\"\",'Step 1 -- Commenter information'!$B$4,\"\")","v":""},{"$f":"IF($A54<>\"\",'Step 1 -- Commenter information'!$B$5,\"\")","v":""}]
[null,null,null,null,null,null,null,{"$f":"IF($A55<>\"\",'Step 1 -- Commenter information'!$B$2,\"\")","v":""},{"$f":"IF($A55<>\"\",'Step 1 -- Commenter information'!$B$3,\"\")","v":""},{"$f":"IF($A55<>\"\",'Step 1 -- Commenter information'!$B$4,\"\")","v":""},{"$f":"IF($A55<>\"\",'Step 1 -- Commenter information'!$B$5,\"\")","v":""}]
[null,null,null,null,null,null,null,{"$f":"IF($A56<>\"\",'Step 1 -- Commenter information'!$B$2,\"\")","v":""},{"$f":"IF($A56<>\"\",'Step 1 -- Commenter information'!$B$3,\"\")","v":""},{"$f":"IF($A56<>\"\",'Step 1 -- Commenter information'!$B$4,\"\")","v":""},{"$f":"IF($A56<>\"\",'Step 1 -- Commenter information'!$B$5,\"\")","v":""}]
[null,null,null,null,null,null,null,{"$f":"IF($A57<>\"\",'Step 1 -- Commenter information'!$B$2,\"\")","v":""},{"$f":"IF($A57<>\"\",'Step 1 -- Commenter information'!$B$3,\"\")","v":""},{"$f":"IF($A57<>\"\",'Step 1 -- Commenter information'!$B$4,\"\")","v":""},{"$f":"IF($A57<>\"\",'Step 1 -- Commenter information'!$B$5,\"\")","v":""}]
[null,null,null,null,null,null,null,{"$f":"IF($A58<>\"\",'Step 1 -- Commenter information'!$B$2,\"\")","v":""},{"$f":"IF($A58<>\"\",'Step 1 -- Commenter information'!$B$3,\"\")","v":""},{"$f":"IF($A58<>\"\",'Step 1 -- Commenter information'!$B$4,\"\")","v":""},{"$f":"IF($A58<>\"\",'Step 1 -- Commenter information'!$B$5,\"\")","v":""}]
[null,null,null,null,null,null,null,{"$f":"IF($A59<>\"\",'Step 1 -- Commenter information'!$B$2,\"\")","v":""},{"$f":"IF($A59<>\"\",'Step 1 -- Commenter information'!$B$3,\"\")","v":""},{"$f":"IF($A59<>\"\",'Step 1 -- Commenter information'!$B$4,\"\")","v":""},{"$f":"IF($A59<>\"\",'Step 1 -- Commenter information'!$B$5,\"\")","v":""}]
[null,null,null,null,null,null,null,{"$f":"IF($A60<>\"\",'Step 1 -- Commenter information'!$B$2,\"\")","v":""},{"$f":"IF($A60<>\"\",'Step 1 -- Commenter information'!$B$3,\"\")","v":""},{"$f":"IF($A60<>\"\",'Step 1 -- Commenter information'!$B$4,\"\")","v":""},{"$f":"IF($A60<>\"\",'Step 1 -- Commenter information'!$B$5,\"\")","v":""}]
[null,null,null,null,null,null,null,{"$f":"IF($A61<>\"\",'Step 1 -- Commenter information'!$B$2,\"\")","v":""},{"$f":"IF($A61<>\"\",'Step 1 -- Commenter information'!$B$3,\"\")","v":""},{"$f":"IF($A61<>\"\",'Step 1 -- Commenter information'!$B$4,\"\")","v":""},{"$f":"IF($A61<>\"\",'Step 1 -- Commenter information'!$B$5,\"\")","v":""}]
[null,null,null,null,null,null,null,{"$f":"IF($A62<>\"\",'Step 1 -- Commenter information'!$B$2,\"\")","v":""},{"$f":"IF($A62<>\"\",'Step 1 -- Commenter information'!$B$3,\"\")","v":""},{"$f":"IF($A62<>\"\",'Step 1 -- Commenter information'!$B$4,\"\")","v":""},{"$f":"IF($A62<>\"\",'Step 1 -- Commenter information'!$B$5,\"\")","v":""}]
[null,null,null,null,null,null,null,{"$f":"IF($A63<>\"\",'Step 1 -- Commenter information'!$B$2,\"\")","v":""},{"$f":"IF($A63<>\"\",'Step 1 -- Commenter information'!$B$3,\"\")","v":""},{"$f":"IF($A63<>\"\",'Step 1 -- Commenter information'!$B$4,\"\")","v":""},{"$f":"IF($A63<>\"\",'Step 1 -- Commenter information'!$B$5,\"\")","v":""}]
[null,null,null,null,null,null,null,{"$f":"IF($A64<>\"\",'Step 1 -- Commenter information'!$B$2,\"\")","v":""},{"$f":"IF($A64<>\"\",'Step 1 -- Commenter information'!$B$3,\"\")","v":""},{"$f":"IF($A64<>\"\",'Step 1 -- Commenter information'!$B$4,\"\")","v":""},{"$f":"IF($A64<>\"\",'Step 1 -- Commenter information'!$B$5,\"\")","v":""}]
[null,null,null,null,null,null,null,{"$f":"IF($A65<>\"\",'Step 1 -- Commenter information'!$B$2,\"\")","v":""},{"$f":"IF($A65<>\"\",'Step 1 -- Commenter information'!$B$3,\"\")","v":""},{"$f":"IF($A65<>\"\",'Step 1 -- Commenter information'!$B$4,\"\")","v":""},{"$f":"IF($A65<>\"\",'Step 1 -- Commenter information'!$B$5,\"\")","v":""}]
[null,null,null,null,null,null,null,{"$f":"IF($A66<>\"\",'Step 1 -- Commenter information'!$B$2,\"\")","v":""},{"$f":"IF($A66<>\"\",'Step 1 -- Commenter information'!$B$3,\"\")","v":""},{"$f":"IF($A66<>\"\",'Step 1 -- Commenter information'!$B$4,\"\")","v":""},{"$f":"IF($A66<>\"\",'Step 1 -- Commenter information'!$B$5,\"\")","v":""}]
[null,null,null,null,null,null,null,{"$f":"IF($A67<>\"\",'Step 1 -- Commenter information'!$B$2,\"\")","v":""},{"$f":"IF($A67<>\"\",'Step 1 -- Commenter information'!$B$3,\"\")","v":""},{"$f":"IF($A67<>\"\",'Step 1 -- Commenter information'!$B$4,\"\")","v":""},{"$f":"IF($A67<>\"\",'Step 1 -- Commenter information'!$B$5,\"\")","v":""}]
[null,null,null,null,null,null,null,{"$f":"IF($A68<>\"\",'Step 1 -- Commenter information'!$B$2,\"\")","v":""},{"$f":"IF($A68<>\"\",'Step 1 -- Commenter information'!$B$3,\"\")","v":""},{"$f":"IF($A68<>\"\",'Step 1 -- Commenter information'!$B$4,\"\")","v":""},{"$f":"IF($A68<>\"\",'Step 1 -- Commenter information'!$B$5,\"\")","v":""}]
[null,null,null,null,null,null,null,{"$f":"IF($A69<>\"\",'Step 1 -- Commenter information'!$B$2,\"\")","v":""},{"$f":"IF($A69<>\"\",'Step 1 -- Commenter information'!$B$3,\"\")","v":""},{"$f":"IF($A69<>\"\",'Step 1 -- Commenter information'!$B$4,\"\")","v":""},{"$f":"IF($A69<>\"\",'Step 1 -- Commenter information'!$B$5,\"\")","v":""}]
[null,null,null,null,null,null,null,{"$f":"IF($A70<>\"\",'Step 1 -- Commenter information'!$B$2,\"\")","v":""},{"$f":"IF($A70<>\"\",'Step 1 -- Commenter information'!$B$3,\"\")","v":""},{"$f":"IF($A70<>\"\",'Step 1 -- Commenter information'!$B$4,\"\")","v":""},{"$f":"IF($A70<>\"\",'Step 1 -- Commenter information'!$B$5,\"\")","v":""}]
[null,null,null,null,null,null,null,{"$f":"IF($A71<>\"\",'Step 1 -- Commenter information'!$B$2,\"\")","v":""},{"$f":"IF($A71<>\"\",'Step 1 -- Commenter information'!$B$3,\"\")","v":""},{"$f":"IF($A71<>\"\",'Step 1 -- Commenter information'!$B$4,\"\")","v":""},{"$f":"IF($A71<>\"\",'Step 1 -- Commenter information'!$B$5,\"\")","v":""}]
[null,null,null,null,null,null,null,{"$f":"IF($A72<>\"\",'Step 1 -- Commenter information'!$B$2,\"\")","v":""},{"$f":"IF($A72<>\"\",'Step 1 -- Commenter information'!$B$3,\"\")","v":""},{"$f":"IF($A72<>\"\",'Step 1 -- Commenter information'!$B$4,\"\")","v":""},{"$f":"IF($A72<>\"\",'Step 1 -- Commenter information'!$B$5,\"\")","v":""}]
[null,null,null,null,null,null,null,{"$f":"IF($A73<>\"\",'Step 1 -- Commenter information'!$B$2,\"\")","v":""},{"$f":"IF($A73<>\"\",'Step 1 -- Commenter information'!$B$3,\"\")","v":""},{"$f":"IF($A73<>\"\",'Step 1 -- Commenter information'!$B$4,\"\")","v":""},{"$f":"IF($A73<>\"\",'Step 1 -- Commenter information'!$B$5,\"\")","v":""}]
[null,null,null,null,null,null,null,{"$f":"IF($A74<>\"\",'Step 1 -- Commenter information'!$B$2,\"\")","v":""},{"$f":"IF($A74<>\"\",'Step 1 -- Commenter information'!$B$3,\"\")","v":""},{"$f":"IF($A74<>\"\",'Step 1 -- Commenter information'!$B$4,\"\")","v":""},{"$f":"IF($A74<>\"\",'Step 1 -- Commenter information'!$B$5,\"\")","v":""}]
[null,null,null,null,null,null,null,{"$f":"IF($A75<>\"\",'Step 1 -- Commenter information'!$B$2,\"\")","v":""},{"$f":"IF($A75<>\"\",'Step 1 -- Commenter information'!$B$3,\"\")","v":""},{"$f":"IF($A75<>\"\",'Step 1 -- Commenter information'!$B$4,\"\")","v":""},{"$f":"IF($A75<>\"\",'Step 1 -- Commenter information'!$B$5,\"\")","v":""}]
[null,null,null,null,null,null,null,{"$f":"IF($A76<>\"\",'Step 1 -- Commenter information'!$B$2,\"\")","v":""},{"$f":"IF($A76<>\"\",'Step 1 -- Commenter information'!$B$3,\"\")","v":""},{"$f":"IF($A76<>\"\",'Step 1 -- Commenter information'!$B$4,\"\")","v":""},{"$f":"IF($A76<>\"\",'Step 1 -- Commenter information'!$B$5,\"\")","v":""}]
[null,null,null,null,null,null,null,{"$f":"IF($A77<>\"\",'Step 1 -- Commenter information'!$B$2,\"\")","v":""},{"$f":"IF($A77<>\"\",'Step 1 -- Commenter information'!$B$3,\"\")","v":""},{"$f":"IF($A77<>\"\",'Step 1 -- Commenter information'!$B$4,\"\")","v":""},{"$f":"IF($A77<>\"\",'Step 1 -- Commenter information'!$B$5,\"\")","v":""}]
[null,null,null,null,null,null,null,{"$f":"IF($A78<>\"\",'Step 1 -- Commenter information'!$B$2,\"\")","v":""},{"$f":"IF($A78<>\"\",'Step 1 -- Commenter information'!$B$3,\"\")","v":""},{"$f":"IF($A78<>\"\",'Step 1 -- Commenter information'!$B$4,\"\")","v":""},{"$f":"IF($A78<>\"\",'Step 1 -- Commenter information'!$B$5,\"\")","v":""}]
[null,null,null,null,null,null,null,{"$f":"IF($A79<>\"\",'Step 1 -- Commenter information'!$B$2,\"\")","v":""},{"$f":"IF($A79<>\"\",'Step 1 -- Commenter information'!$B$3,\"\")","v":""},{"$f":"IF($A79<>\"\",'Step 1 -- Commenter information'!$B$4,\"\")","v":""},{"$f":"IF($A79<>\"\",'Step 1 -- Commenter information'!$B$5,\"\")","v":""}]
[null,null,null,null,null,null,null,{"$f":"IF($A80<>\"\",'Step 1 -- Commenter information'!$B$2,\"\")","v":""},{"$f":"IF($A80<>\"\",'Step 1 -- Commenter information'!$B$3,\"\")","v":""},{"$f":"IF($A80<>\"\",'Step 1 -- Commenter information'!$B$4,\"\")","v":""},{"$f":"IF($A80<>\"\",'Step 1 -- Commenter information'!$B$5,\"\")","v":""}]
[null,null,null,null,null,null,null,{"$f":"IF($A81<>\"\",'Step 1 -- Commenter information'!$B$2,\"\")","v":""},{"$f":"IF($A81<>\"\",'Step 1 -- Commenter information'!$B$3,\"\")","v":""},{"$f":"IF($A81<>\"\",'Step 1 -- Commenter information'!$B$4,\"\")","v":""},{"$f":"IF($A81<>\"\",'Step 1 -- Commenter information'!$B$5,\"\")","v":""}]
[null,null,null,null,null,null,null,{"$f":"IF($A82<>\"\",'Step 1 -- Commenter information'!$B$2,\"\")","v":""},{"$f":"IF($A82<>\"\",'Step 1 -- Commenter information'!$B$3,\"\")","v":""},{"$f":"IF($A82<>\"\",'Step 1 -- Commenter information'!$B$4,\"\")","v":""},{"$f":"IF($A82<>\"\",'Step 1 -- Commenter information'!$B$5,\"\")","v":""}]
[null,null,null,null,null,null,null,{"$f":"IF($A83<>\"\",'Step 1 -- Commenter information'!$B$2,\"\")","v":""},{"$f":"IF($A83<>\"\",'Step 1 -- Commenter information'!$B$3,\"\")","v":""},{"$f":"IF($A83<>\"\",'Step 1 -- Commenter information'!$B$4,\"\")","v":""},{"$f":"IF($A83<>\"\",'Step 1 -- Commenter information'!$B$5,\"\")","v":""}]
[null,null,null,null,null,null,null,{"$f":"IF($A84<>\"\",'Step 1 -- Commenter information'!$B$2,\"\")","v":""},{"$f":"IF($A84<>\"\",'Step 1 -- Commenter information'!$B$3,\"\")","v":""},{"$f":"IF($A84<>\"\",'Step 1 -- Commenter information'!$B$4,\"\")","v":""},{"$f":"IF($A84<>\"\",'Step 1 -- Commenter information'!$B$5,\"\")","v":""}]
[null,null,null,null,null,null,null,{"$f":"IF($A85<>\"\",'Step 1 -- Commenter information'!$B$2,\"\")","v":""},{"$f":"IF($A85<>\"\",'Step 1 -- Commenter information'!$B$3,\"\")","v":""},{"$f":"IF($A85<>\"\",'Step 1 -- Commenter information'!$B$4,\"\")","v":""},{"$f":"IF($A85<>\"\",'Step 1 -- Commenter information'!$B$5,\"\")","v":""}]
[null,null,null,null,null,null,null,{"$f":"IF($A86<>\"\",'Step 1 -- Commenter information'!$B$2,\"\")","v":""},{"$f":"IF($A86<>\"\",'Step 1 -- Commenter information'!$B$3,\"\")","v":""},{"$f":"IF($A86<>\"\",'Step 1 -- Commenter information'!$B$4,\"\")","v":""},{"$f":"IF($A86<>\"\",'Step 1 -- Commenter information'!$B$5,\"\")","v":""}]
[null,null,null,null,null,null,null,{"$f":"IF($A87<>\"\",'Step 1 -- Commenter information'!$B$2,\"\")","v":""},{"$f":"IF($A87<>\"\",'Step 1 -- Commenter information'!$B$3,\"\")","v":""},{"$f":"IF($A87<>\"\",'Step 1 -- Commenter information'!$B$4,\"\")","v":""},{"$f":"IF($A87<>\"\",'Step 1 -- Commenter information'!$B$5,\"\")","v":""}]
[null,null,null,null,null,null,null,{"$f":"IF($A88<>\"\",'Step 1 -- Commenter information'!$B$2,\"\")","v":""},{"$f":"IF($A88<>\"\",'Step 1 -- Commenter information'!$B$3,\"\")","v":""},{"$f":"IF($A88<>\"\",'Step 1 -- Commenter information'!$B$4,\"\")","v":""},{"$f":"IF($A88<>\"\",'Step 1 -- Commenter information'!$B$5,\"\")","v":""}]
[null,null,null,null,null,null,null,{"$f":"IF($A89<>\"\",'Step 1 -- Commenter information'!$B$2,\"\")","v":""},{"$f":"IF($A89<>\"\",'Step 1 -- Commenter information'!$B$3,\"\")","v":""},{"$f":"IF($A89<>\"\",'Step 1 -- Commenter information'!$B$4,\"\")","v":""},{"$f":"IF($A89<>\"\",'Step 1 -- Commenter information'!$B$5,\"\")","v":""}]
[null,null,null,null,null,null,null,{"$f":"IF($A90<>\"\",'Step 1 -- Commenter information'!$B$2,\"\")","v":""},{"$f":"IF($A90<>\"\",'Step 1 -- Commenter information'!$B$3,\"\")","v":""},{"$f":"IF($A90<>\"\",'Step 1 -- Commenter information'!$B$4,\"\")","v":""},{"$f":"IF($A90<>\"\",'Step 1 -- Commenter information'!$B$5,\"\")","v":""}]
[null,null,null,null,null,null,null,{"$f":"IF($A91<>\"\",'Step 1 -- Commenter information'!$B$2,\"\")","v":""},{"$f":"IF($A91<>\"\",'Step 1 -- Commenter information'!$B$3,\"\")","v":""},{"$f":"IF($A91<>\"\",'Step 1 -- Commenter information'!$B$4,\"\")","v":""},{"$f":"IF($A91<>\"\",'Step 1 -- Commenter information'!$B$5,\"\")","v":""}]
[null,null,null,null,null,null,null,{"$f":"IF($A92<>\"\",'Step 1 -- Commenter information'!$B$2,\"\")","v":""},{"$f":"IF($A92<>\"\",'Step 1 -- Commenter information'!$B$3,\"\")","v":""},{"$f":"IF($A92<>\"\",'Step 1 -- Commenter information'!$B$4,\"\")","v":""},{"$f":"IF($A92<>\"\",'Step 1 -- Commenter information'!$B$5,\"\")","v":""}]
[null,null,null,null,null,null,null,{"$f":"IF($A93<>\"\",'Step 1 -- Commenter information'!$B$2,\"\")","v":""},{"$f":"IF($A93<>\"\",'Step 1 -- Commenter information'!$B$3,\"\")","v":""},{"$f":"IF($A93<>\"\",'Step 1 -- Commenter information'!$B$4,\"\")","v":""},{"$f":"IF($A93<>\"\",'Step 1 -- Commenter information'!$B$5,\"\")","v":""}]
[null,null,null,null,null,null,null,{"$f":"IF($A94<>\"\",'Step 1 -- Commenter information'!$B$2,\"\")","v":""},{"$f":"IF($A94<>\"\",'Step 1 -- Commenter information'!$B$3,\"\")","v":""},{"$f":"IF($A94<>\"\",'Step 1 -- Commenter information'!$B$4,\"\")","v":""},{"$f":"IF($A94<>\"\",'Step 1 -- Commenter information'!$B$5,\"\")","v":""}]
[null,null,null,null,null,null,null,{"$f":"IF($A95<>\"\",'Step 1 -- Commenter information'!$B$2,\"\")","v":""},{"$f":"IF($A95<>\"\",'Step 1 -- Commenter information'!$B$3,\"\")","v":""},{"$f":"IF($A95<>\"\",'Step 1 -- Commenter information'!$B$4,\"\")","v":""},{"$f":"IF($A95<>\"\",'Step 1 -- Commenter information'!$B$5,\"\")","v":""}]
[null,null,null,null,null,null,null,{"$f":"IF($A96<>\"\",'Step 1 -- Commenter information'!$B$2,\"\")","v":""},{"$f":"IF($A96<>\"\",'Step 1 -- Commenter information'!$B$3,\"\")","v":""},{"$f":"IF($A96<>\"\",'Step 1 -- Commenter information'!$B$4,\"\")","v":""},{"$f":"IF($A96<>\"\",'Step 1 -- Commenter information'!$B$5,\"\")","v":""}]
[null,null,null,null,null,null,null,{"$f":"IF($A97<>\"\",'Step 1 -- Commenter information'!$B$2,\"\")","v":""},{"$f":"IF($A97<>\"\",'Step 1 -- Commenter information'!$B$3,\"\")","v":""},{"$f":"IF($A97<>\"\",'Step 1 -- Commenter information'!$B$4,\"\")","v":""},{"$f":"IF($A97<>\"\",'Step 1 -- Commenter information'!$B$5,\"\")","v":""}]
[null,null,null,null,null,null,null,{"$f":"IF($A98<>\"\",'Step 1 -- Commenter information'!$B$2,\"\")","v":""},{"$f":"IF($A98<>\"\",'Step 1 -- Commenter information'!$B$3,\"\")","v":""},{"$f":"IF($A98<>\"\",'Step 1 -- Commenter information'!$B$4,\"\")","v":""},{"$f":"IF($A98<>\"\",'Step 1 -- Commenter information'!$B$5,\"\")","v":""}]
[null,null,null,null,null,null,null,{"$f":"IF($A99<>\"\",'Step 1 -- Commenter information'!$B$2,\"\")","v":""},{"$f":"IF($A99<>\"\",'Step 1 -- Commenter information'!$B$3,\"\")","v":""},{"$f":"IF($A99<>\"\",'Step 1 -- Commenter information'!$B$4,\"\")","v":""},{"$f":"IF($A99<>\"\",'Step 1 -- Commenter information'!$B$5,\"\")","v":""}]
[null,null,null,null,null,null,null,{"$f":"IF($A100<>\"\",'Step 1 -- Commenter information'!$B$2,\"\")","v":""},{"$f":"IF($A100<>\"\",'Step 1 -- Commenter information'!$B$3,\"\")","v":""},{"$f":"IF($A100<>\"\",'Step 1 -- Commenter information'!$B$4,\"\")","v":""},{"$f":"IF($A100<>\"\",'Step 1 -- Commenter information'!$B$5,\"\")","v":""}]
[null,null,null,null,null,null,null,{"$f":"IF($A101<>\"\",'Step 1 -- Commenter information'!$B$2,\"\")","v":""},{"$f":"IF($A101<>\"\",'Step 1 -- Commenter information'!$B$3,\"\")","v":""},{"$f":"IF($A101<>\"\",'Step 1 -- Commenter information'!$B$4,\"\")","v":""},{"$f":"IF($A101<>\"\",'Step 1 -- Commenter information'!$B$5,\"\")","v":""}]
[null,null,null,null,null,null,null,{"$f":"IF($A102<>\"\",'Step 1 -- Commenter information'!$B$2,\"\")","v":""},{"$f":"IF($A102<>\"\",'Step 1 -- Commenter information'!$B$3,\"\")","v":""},{"$f":"IF($A102<>\"\",'Step 1 -- Commenter information'!$B$4,\"\")","v":""},{"$f":"IF($A102<>\"\",'Step 1 -- Commenter information'!$B$5,\"\")","v":""}]
[null,null,null,null,null,null,null,{"$f":"IF($A103<>\"\",'Step 1 -- Commenter information'!$B$2,\"\")","v":""},{"$f":"IF($A103<>\"\",'Step 1 -- Commenter information'!$B$3,\"\")","v":""},{"$f":"IF($A103<>\"\",'Step 1 -- Commenter information'!$B$4,\"\")","v":""},{"$f":"IF($A103<>\"\",'Step 1 -- Commenter information'!$B$5,\"\")","v":""}]
[null,null,null,null,null,null,null,{"$f":"IF($A104<>\"\",'Step 1 -- Commenter information'!$B$2,\"\")","v":""},{"$f":"IF($A104<>\"\",'Step 1 -- Commenter information'!$B$3,\"\")","v":""},{"$f":"IF($A104<>\"\",'Step 1 -- Commenter information'!$B$4,\"\")","v":""},{"$f":"IF($A104<>\"\",'Step 1 -- Commenter information'!$B$5,\"\")","v":""}]
[null,null,null,null,null,null,null,{"$f":"IF($A105<>\"\",'Step 1 -- Commenter information'!$B$2,\"\")","v":""},{"$f":"IF($A105<>\"\",'Step 1 -- Commenter information'!$B$3,\"\")","v":""},{"$f":"IF($A105<>\"\",'Step 1 -- Commenter information'!$B$4,\"\")","v":""},{"$f":"IF($A105<>\"\",'Step 1 -- Commenter information'!$B$5,\"\")","v":""}]
[null,null,null,null,null,null,null,{"$f":"IF($A106<>\"\",'Step 1 -- Commenter information'!$B$2,\"\")","v":""},{"$f":"IF($A106<>\"\",'Step 1 -- Commenter information'!$B$3,\"\")","v":""},{"$f":"IF($A106<>\"\",'Step 1 -- Commenter information'!$B$4,\"\")","v":""},{"$f":"IF($A106<>\"\",'Step 1 -- Commenter information'!$B$5,\"\")","v":""}]
[null,null,null,null,null,null,null,{"$f":"IF($A107<>\"\",'Step 1 -- Commenter information'!$B$2,\"\")","v":""},{"$f":"IF($A107<>\"\",'Step 1 -- Commenter information'!$B$3,\"\")","v":""},{"$f":"IF($A107<>\"\",'Step 1 -- Commenter information'!$B$4,\"\")","v":""},{"$f":"IF($A107<>\"\",'Step 1 -- Commenter information'!$B$5,\"\")","v":""}]
[null,null,null,null,null,null,null,{"$f":"IF($A108<>\"\",'Step 1 -- Commenter information'!$B$2,\"\")","v":""},{"$f":"IF($A108<>\"\",'Step 1 -- Commenter information'!$B$3,\"\")","v":""},{"$f":"IF($A108<>\"\",'Step 1 -- Commenter information'!$B$4,\"\")","v":""},{"$f":"IF($A108<>\"\",'Step 1 -- Commenter information'!$B$5,\"\")","v":""}]
[null,null,null,null,null,null,null,{"$f":"IF($A109<>\"\",'Step 1 -- Commenter information'!$B$2,\"\")","v":""},{"$f":"IF($A109<>\"\",'Step 1 -- Commenter information'!$B$3,\"\")","v":""},{"$f":"IF($A109<>\"\",'Step 1 -- Commenter information'!$B$4,\"\")","v":""},{"$f":"IF($A109<>\"\",'Step 1 -- Commenter information'!$B$5,\"\")","v":""}]
[null,null,null,null,null,null,null,{"$f":"IF($A110<>\"\",'Step 1 -- Commenter information'!$B$2,\"\")","v":""},{"$f":"IF($A110<>\"\",'Step 1 -- Commenter information'!$B$3,\"\")","v":""},{"$f":"IF($A110<>\"\",'Step 1 -- Commenter information'!$B$4,\"\")","v":""},{"$f":"IF($A110<>\"\",'Step 1 -- Commenter information'!$B$5,\"\")","v":""}]
[null,null,null,null,null,null,null,{"$f":"IF($A111<>\"\",'Step 1 -- Commenter information'!$B$2,\"\")","v":""},{"$f":"IF($A111<>\"\",'Step 1 -- Commenter information'!$B$3,\"\")","v":""},{"$f":"IF($A111<>\"\",'Step 1 -- Commenter information'!$B$4,\"\")","v":""},{"$f":"IF($A111<>\"\",'Step 1 -- Commenter information'!$B$5,\"\")","v":""}]
[null,null,null,null,null,null,null,{"$f":"IF($A112<>\"\",'Step 1 -- Commenter information'!$B$2,\"\")","v":""},{"$f":"IF($A112<>\"\",'Step 1 -- Commenter information'!$B$3,\"\")","v":""},{"$f":"IF($A112<>\"\",'Step 1 -- Commenter information'!$B$4,\"\")","v":""},{"$f":"IF($A112<>\"\",'Step 1 -- Commenter information'!$B$5,\"\")","v":""}]
[null,null,null,null,null,null,null,{"$f":"IF($A113<>\"\",'Step 1 -- Commenter information'!$B$2,\"\")","v":""},{"$f":"IF($A113<>\"\",'Step 1 -- Commenter information'!$B$3,\"\")","v":""},{"$f":"IF($A113<>\"\",'Step 1 -- Commenter information'!$B$4,\"\")","v":""},{"$f":"IF($A113<>\"\",'Step 1 -- Commenter information'!$B$5,\"\")","v":""}]
[null,null,null,null,null,null,null,{"$f":"IF($A114<>\"\",'Step 1 -- Commenter information'!$B$2,\"\")","v":""},{"$f":"IF($A114<>\"\",'Step 1 -- Commenter information'!$B$3,\"\")","v":""},{"$f":"IF($A114<>\"\",'Step 1 -- Commenter information'!$B$4,\"\")","v":""},{"$f":"IF($A114<>\"\",'Step 1 -- Commenter information'!$B$5,\"\")","v":""}]
[null,null,null,null,null,null,null,{"$f":"IF($A115<>\"\",'Step 1 -- Commenter information'!$B$2,\"\")","v":""},{"$f":"IF($A115<>\"\",'Step 1 -- Commenter information'!$B$3,\"\")","v":""},{"$f":"IF($A115<>\"\",'Step 1 -- Commenter information'!$B$4,\"\")","v":""},{"$f":"IF($A115<>\"\",'Step 1 -- Commenter information'!$B$5,\"\")","v":""}]
[null,null,null,null,null,null,null,{"$f":"IF($A116<>\"\",'Step 1 -- Commenter information'!$B$2,\"\")","v":""},{"$f":"IF($A116<>\"\",'Step 1 -- Commenter information'!$B$3,\"\")","v":""},{"$f":"IF($A116<>\"\",'Step 1 -- Commenter information'!$B$4,\"\")","v":""},{"$f":"IF($A116<>\"\",'Step 1 -- Commenter information'!$B$5,\"\")","v":""}]
[null,null,null,null,null,null,null,{"$f":"IF($A117<>\"\",'Step 1 -- Commenter information'!$B$2,\"\")","v":""},{"$f":"IF($A117<>\"\",'Step 1 -- Commenter information'!$B$3,\"\")","v":""},{"$f":"IF($A117<>\"\",'Step 1 -- Commenter information'!$B$4,\"\")","v":""},{"$f":"IF($A117<>\"\",'Step 1 -- Commenter information'!$B$5,\"\")","v":""}]
[null,null,null,null,null,null,null,{"$f":"IF($A118<>\"\",'Step 1 -- Commenter information'!$B$2,\"\")","v":""},{"$f":"IF($A118<>\"\",'Step 1 -- Commenter information'!$B$3,\"\")","v":""},{"$f":"IF($A118<>\"\",'Step 1 -- Commenter information'!$B$4,\"\")","v":""},{"$f":"IF($A118<>\"\",'Step 1 -- Commenter information'!$B$5,\"\")","v":""}]
[null,null,null,null,null,null,null,{"$f":"IF($A119<>\"\",'Step 1 -- Commenter information'!$B$2,\"\")","v":""},{"$f":"IF($A119<>\"\",'Step 1 -- Commenter information'!$B$3,\"\")","v":""},{"$f":"IF($A119<>\"\",'Step 1 -- Commenter information'!$B$4,\"\")","v":""},{"$f":"IF($A119<>\"\",'Step 1 -- Commenter information'!$B$5,\"\")","v":""}]
[null,null,null,null,null,null,null,{"$f":"IF($A120<>\"\",'Step 1 -- Commenter information'!$B$2,\"\")","v":""},{"$f":"IF($A120<>\"\",'Step 1 -- Commenter information'!$B$3,\"\")","v":""},{"$f":"IF($A120<>\"\",'Step 1 -- Commenter information'!$B$4,\"\")","v":""},{"$f":"IF($A120<>\"\",'Step 1 -- Commenter information'!$B$5,\"\")","v":""}]
[null,null,null,null,null,null,null,{"$f":"IF($A121<>\"\",'Step 1 -- Commenter information'!$B$2,\"\")","v":""},{"$f":"IF($A121<>\"\",'Step 1 -- Commenter information'!$B$3,\"\")","v":""},{"$f":"IF($A121<>\"\",'Step 1 -- Commenter information'!$B$4,\"\")","v":""},{"$f":"IF($A121<>\"\",'Step 1 -- Commenter information'!$B$5,\"\")","v":""}]
[null,null,null,null,null,null,null,{"$f":"IF($A122<>\"\",'Step 1 -- Commenter information'!$B$2,\"\")","v":""},{"$f":"IF($A122<>\"\",'Step 1 -- Commenter information'!$B$3,\"\")","v":""},{"$f":"IF($A122<>\"\",'Step 1 -- Commenter information'!$B$4,\"\")","v":""},{"$f":"IF($A122<>\"\",'Step 1 -- Commenter information'!$B$5,\"\")","v":""}]
[null,null,null,null,null,null,null,{"$f":"IF($A123<>\"\",'Step 1 -- Commenter information'!$B$2,\"\")","v":""},{"$f":"IF($A123<>\"\",'Step 1 -- Commenter information'!$B$3,\"\")","v":""},{"$f":"IF($A123<>\"\",'Step 1 -- Commenter information'!$B$4,\"\")","v":""},{"$f":"IF($A123<>\"\",'Step 1 -- Commenter information'!$B$5,\"\")","v":""}]
[null,null,null,null,null,null,null,{"$f":"IF($A124<>\"\",'Step 1 -- Commenter information'!$B$2,\"\")","v":""},{"$f":"IF($A124<>\"\",'Step 1 -- Commenter information'!$B$3,\"\")","v":""},{"$f":"IF($A124<>\"\",'Step 1 -- Commenter information'!$B$4,\"\")","v":""},{"$f":"IF($A124<>\"\",'Step 1 -- Commenter information'!$B$5,\"\")","v":""}]
[null,null,null,null,null,null,null,{"$f":"IF($A125<>\"\",'Step 1 -- Commenter information'!$B$2,\"\")","v":""},{"$f":"IF($A125<>\"\",'Step 1 -- Commenter information'!$B$3,\"\")","v":""},{"$f":"IF($A125<>\"\",'Step 1 -- Commenter information'!$B$4,\"\")","v":""},{"$f":"IF($A125<>\"\",'Step 1 -- Commenter information'!$B$5,\"\")","v":""}]
[null,null,null,null,null,null,null,{"$f":"IF($A126<>\"\",'Step 1 -- Commenter information'!$B$2,\"\")","v":""},{"$f":"IF($A126<>\"\",'Step 1 -- Commenter information'!$B$3,\"\")","v":""},{"$f":"IF($A126<>\"\",'Step 1 -- Commenter information'!$B$4,\"\")","v":""},{"$f":"IF($A126<>\"\",'Step 1 -- Commenter information'!$B$5,\"\")","v":""}]
[null,null,null,null,null,null,null,{"$f":"IF($A127<>\"\",'Step 1 -- Commenter information'!$B$2,\"\")","v":""},{"$f":"IF($A127<>\"\",'Step 1 -- Commenter information'!$B$3,\"\")","v":""},{"$f":"IF($A127<>\"\",'Step 1 -- Commenter information'!$B$4,\"\")","v":""},{"$f":"IF($A127<>\"\",'Step 1 -- Commenter information'!$B$5,\"\")","v":""}]
[null,null,null,null,null,null,null,{"$f":"IF($A128<>\"\",'Step 1 -- Commenter information'!$B$2,\"\")","v":""},{"$f":"IF($A128<>\"\",'Step 1 -- Commenter information'!$B$3,\"\")","v":""},{"$f":"IF($A128<>\"\",'Step 1 -- Commenter information'!$B$4,\"\")","v":""},{"$f":"IF($A128<>\"\",'Step 1 -- Commenter information'!$B$5,\"\")","v":""}]
[null,null,null,null,null,null,null,{"$f":"IF($A129<>\"\",'Step 1 -- Commenter information'!$B$2,\"\")","v":""},{"$f":"IF($A129<>\"\",'Step 1 -- Commenter information'!$B$3,\"\")","v":""},{"$f":"IF($A129<>\"\",'Step 1 -- Commenter information'!$B$4,\"\")","v":""},{"$f":"IF($A129<>\"\",'Step 1 -- Commenter information'!$B$5,\"\")","v":""}]
[null,null,null,null,null,null,null,{"$f":"IF($A130<>\"\",'Step 1 -- Commenter information'!$B$2,\"\")","v":""},{"$f":"IF($A130<>\"\",'Step 1 -- Commenter information'!$B$3,\"\")","v":""},{"$f":"IF($A130<>\"\",'Step 1 -- Commenter information'!$B$4,\"\")","v":""},{"$f":"IF($A130<>\"\",'Step 1 -- Commenter information'!$B$5,\"\")","v":""}]
[null,null,null,null,null,null,null,{"$f":"IF($A131<>\"\",'Step 1 -- Commenter information'!$B$2,\"\")","v":""},{"$f":"IF($A131<>\"\",'Step 1 -- Commenter information'!$B$3,\"\")","v":""},{"$f":"IF($A131<>\"\",'Step 1 -- Commenter information'!$B$4,\"\")","v":""},{"$f":"IF($A131<>\"\",'Step 1 -- Commenter information'!$B$5,\"\")","v":""}]
[null,null,null,null,null,null,null,{"$f":"IF($A132<>\"\",'Step 1 -- Commenter information'!$B$2,\"\")","v":""},{"$f":"IF($A132<>\"\",'Step 1 -- Commenter information'!$B$3,\"\")","v":""},{"$f":"IF($A132<>\"\",'Step 1 -- Commenter information'!$B$4,\"\")","v":""},{"$f":"IF($A132<>\"\",'Step 1 -- Commenter information'!$B$5,\"\")","v":""}]
[null,null,null,null,null,null,null,{"$f":"IF($A133<>\"\",'Step 1 -- Commenter information'!$B$2,\"\")","v":""},{"$f":"IF($A133<>\"\",'Step 1 -- Commenter information'!$B$3,\"\")","v":""},{"$f":"IF($A133<>\"\",'Step 1 -- Commenter information'!$B$4,\"\")","v":""},{"$f":"IF($A133<>\"\",'Step 1 -- Commenter information'!$B$5,\"\")","v":""}]
[null,null,null,null,null,null,null,{"$f":"IF($A134<>\"\",'Step 1 -- Commenter information'!$B$2,\"\")","v":""},{"$f":"IF($A134<>\"\",'Step 1 -- Commenter information'!$B$3,\"\")","v":""},{"$f":"IF($A134<>\"\",'Step 1 -- Commenter information'!$B$4,\"\")","v":""},{"$f":"IF($A134<>\"\",'Step 1 -- Commenter information'!$B$5,\"\")","v":""}]
[null,null,null,null,null,null,null,{"$f":"IF($A135<>\"\",'Step 1 -- Commenter information'!$B$2,\"\")","v":""},{"$f":"IF($A135<>\"\",'Step 1 -- Commenter information'!$B$3,\"\")","v":""},{"$f":"IF($A135<>\"\",'Step 1 -- Commenter information'!$B$4,\"\")","v":""},{"$f":"IF($A135<>\"\",'Step 1 -- Commenter information'!$B$5,\"\")","v":""}]
[null,null,null,null,null,null,null,{"$f":"IF($A136<>\"\",'Step 1 -- Commenter information'!$B$2,\"\")","v":""},{"$f":"IF($A136<>\"\",'Step 1 -- Commenter information'!$B$3,\"\")","v":""},{"$f":"IF($A136<>\"\",'Step 1 -- Commenter information'!$B$4,\"\")","v":""},{"$f":"IF($A136<>\"\",'Step 1 -- Commenter information'!$B$5,\"\")","v":""}]
[null,null,null,null,null,null,null,{"$f":"IF($A137<>\"\",'Step 1 -- Commenter information'!$B$2,\"\")","v":""},{"$f":"IF($A137<>\"\",'Step 1 -- Commenter information'!$B$3,\"\")","v":""},{"$f":"IF($A137<>\"\",'Step 1 -- Commenter information'!$B$4,\"\")","v":""},{"$f":"IF($A137<>\"\",'Step 1 -- Commenter information'!$B$5,\"\")","v":""}]
[null,null,null,null,null,null,null,{"$f":"IF($A138<>\"\",'Step 1 -- Commenter information'!$B$2,\"\")","v":""},{"$f":"IF($A138<>\"\",'Step 1 -- Commenter information'!$B$3,\"\")","v":""},{"$f":"IF($A138<>\"\",'Step 1 -- Commenter information'!$B$4,\"\")","v":""},{"$f":"IF($A138<>\"\",'Step 1 -- Commenter information'!$B$5,\"\")","v":""}]
[null,null,null,null,null,null,null,{"$f":"IF($A139<>\"\",'Step 1 -- Commenter information'!$B$2,\"\")","v":""},{"$f":"IF($A139<>\"\",'Step 1 -- Commenter information'!$B$3,\"\")","v":""},{"$f":"IF($A139<>\"\",'Step 1 -- Commenter information'!$B$4,\"\")","v":""},{"$f":"IF($A139<>\"\",'Step 1 -- Commenter information'!$B$5,\"\")","v":""}]
[null,null,null,null,null,null,null,{"$f":"IF($A140<>\"\",'Step 1 -- Commenter information'!$B$2,\"\")","v":""},{"$f":"IF($A140<>\"\",'Step 1 -- Commenter information'!$B$3,\"\")","v":""},{"$f":"IF($A140<>\"\",'Step 1 -- Commenter information'!$B$4,\"\")","v":""},{"$f":"IF($A140<>\"\",'Step 1 -- Commenter information'!$B$5,\"\")","v":""}]
[null,null,null,null,null,null,null,{"$f":"IF($A141<>\"\",'Step 1 -- Commenter information'!$B$2,\"\")","v":""},{"$f":"IF($A141<>\"\",'Step 1 -- Commenter information'!$B$3,\"\")","v":""},{"$f":"IF($A141<>\"\",'Step 1 -- Commenter information'!$B$4,\"\")","v":""},{"$f":"IF($A141<>\"\",'Step 1 -- Commenter information'!$B$5,\"\")","v":""}]
[null,null,null,null,null,null,null,{"$f":"IF($A142<>\"\",'Step 1 -- Commenter information'!$B$2,\"\")","v":""},{"$f":"IF($A142<>\"\",'Step 1 -- Commenter information'!$B$3,\"\")","v":""},{"$f":"IF($A142<>\"\",'Step 1 -- Commenter information'!$B$4,\"\")","v":""},{"$f":"IF($A142<>\"\",'Step 1 -- Commenter information'!$B$5,\"\")","v":""}]
[null,null,null,null,null,null,null,{"$f":"IF($A143<>\"\",'Step 1 -- Commenter information'!$B$2,\"\")","v":""},{"$f":"IF($A143<>\"\",'Step 1 -- Commenter information'!$B$3,\"\")","v":""},{"$f":"IF($A143<>\"\",'Step 1 -- Commenter information'!$B$4,\"\")","v":""},{"$f":"IF($A143<>\"\",'Step 1 -- Commenter information'!$B$5,\"\")","v":""}]
[null,null,null,null,null,null,null,{"$f":"IF($A144<>\"\",'Step 1 -- Commenter information'!$B$2,\"\")","v":""},{"$f":"IF($A144<>\"\",'Step 1 -- Commenter information'!$B$3,\"\")","v":""},{"$f":"IF($A144<>\"\",'Step 1 -- Commenter information'!$B$4,\"\")","v":""},{"$f":"IF($A144<>\"\",'Step 1 -- Commenter information'!$B$5,\"\")","v":""}]
[null,null,null,null,null,null,null,{"$f":"IF($A145<>\"\",'Step 1 -- Commenter information'!$B$2,\"\")","v":""},{"$f":"IF($A145<>\"\",'Step 1 -- Commenter information'!$B$3,\"\")","v":""},{"$f":"IF($A145<>\"\",'Step 1 -- Commenter information'!$B$4,\"\")","v":""},{"$f":"IF($A145<>\"\",'Step 1 -- Commenter information'!$B$5,\"\")","v":""}]
[null,null,null,null,null,null,null,{"$f":"IF($A146<>\"\",'Step 1 -- Commenter information'!$B$2,\"\")","v":""},{"$f":"IF($A146<>\"\",'Step 1 -- Commenter information'!$B$3,\"\")","v":""},{"$f":"IF($A146<>\"\",'Step 1 -- Commenter information'!$B$4,\"\")","v":""},{"$f":"IF($A146<>\"\",'Step 1 -- Commenter information'!$B$5,\"\")","v":""}]
[null,null,null,null,null,null,null,{"$f":"IF($A147<>\"\",'Step 1 -- Commenter information'!$B$2,\"\")","v":""},{"$f":"IF($A147<>\"\",'Step 1 -- Commenter information'!$B$3,\"\")","v":""},{"$f":"IF($A147<>\"\",'Step 1 -- Commenter information'!$B$4,\"\")","v":""},{"$f":"IF($A147<>\"\",'Step 1 -- Commenter information'!$B$5,\"\")","v":""}]
[null,null,null,null,null,null,null,{"$f":"IF($A148<>\"\",'Step 1 -- Commenter information'!$B$2,\"\")","v":""},{"$f":"IF($A148<>\"\",'Step 1 -- Commenter information'!$B$3,\"\")","v":""},{"$f":"IF($A148<>\"\",'Step 1 -- Commenter information'!$B$4,\"\")","v":""},{"$f":"IF($A148<>\"\",'Step 1 -- Commenter information'!$B$5,\"\")","v":""}]
[null,null,null,null,null,null,null,{"$f":"IF($A149<>\"\",'Step 1 -- Commenter information'!$B$2,\"\")","v":""},{"$f":"IF($A149<>\"\",'Step 1 -- Commenter information'!$B$3,\"\")","v":""},{"$f":"IF($A149<>\"\",'Step 1 -- Commenter information'!$B$4,\"\")","v":""},{"$f":"IF($A149<>\"\",'Step 1 -- Commenter information'!$B$5,\"\")","v":""}]
[null,null,null,null,null,null,null,{"$f":"IF($A150<>\"\",'Step 1 -- Commenter information'!$B$2,\"\")","v":""},{"$f":"IF($A150<>\"\",'Step 1 -- Commenter information'!$B$3,\"\")","v":""},{"$f":"IF($A150<>\"\",'Step 1 -- Commenter information'!$B$4,\"\")","v":""},{"$f":"IF($A150<>\"\",'Step 1 -- Commenter information'!$B$5,\"\")","v":""}]
[null,null,null,null,null,null,null,{"$f":"IF($A151<>\"\",'Step 1 -- Commenter information'!$B$2,\"\")","v":""},{"$f":"IF($A151<>\"\",'Step 1 -- Commenter information'!$B$3,\"\")","v":""},{"$f":"IF($A151<>\"\",'Step 1 -- Commenter information'!$B$4,\"\")","v":""},{"$f":"IF($A151<>\"\",'Step 1 -- Commenter information'!$B$5,\"\")","v":""}]
[null,null,null,null,null,null,null,{"$f":"IF($A152<>\"\",'Step 1 -- Commenter information'!$B$2,\"\")","v":""},{"$f":"IF($A152<>\"\",'Step 1 -- Commenter information'!$B$3,\"\")","v":""},{"$f":"IF($A152<>\"\",'Step 1 -- Commenter information'!$B$4,\"\")","v":""},{"$f":"IF($A152<>\"\",'Step 1 -- Commenter information'!$B$5,\"\")","v":""}]
[null,null,null,null,null,null,null,{"$f":"IF($A153<>\"\",'Step 1 -- Commenter information'!$B$2,\"\")","v":""},{"$f":"IF($A153<>\"\",'Step 1 -- Commenter information'!$B$3,\"\")","v":""},{"$f":"IF($A153<>\"\",'Step 1 -- Commenter information'!$B$4,\"\")","v":""},{"$f":"IF($A153<>\"\",'Step 1 -- Commenter information'!$B$5,\"\")","v":""}]
[null,null,null,null,null,null,null,{"$f":"IF($A154<>\"\",'Step 1 -- Commenter information'!$B$2,\"\")","v":""},{"$f":"IF($A154<>\"\",'Step 1 -- Commenter information'!$B$3,\"\")","v":""},{"$f":"IF($A154<>\"\",'Step 1 -- Commenter information'!$B$4,\"\")","v":""},{"$f":"IF($A154<>\"\",'Step 1 -- Commenter information'!$B$5,\"\")","v":""}]
[null,null,null,null,null,null,null,{"$f":"IF($A155<>\"\",'Step 1 -- Commenter information'!$B$2,\"\")","v":""},{"$f":"IF($A155<>\"\",'Step 1 -- Commenter information'!$B$3,\"\")","v":""},{"$f":"IF($A155<>\"\",'Step 1 -- Commenter information'!$B$4,\"\")","v":""},{"$f":"IF($A155<>\"\",'Step 1 -- Commenter information'!$B$5,\"\")","v":""}]
[null,null,null,null,null,null,null,{"$f":"IF($A156<>\"\",'Step 1 -- Commenter information'!$B$2,\"\")","v":""},{"$f":"IF($A156<>\"\",'Step 1 -- Commenter information'!$B$3,\"\")","v":""},{"$f":"IF($A156<>\"\",'Step 1 -- Commenter information'!$B$4,\"\")","v":""},{"$f":"IF($A156<>\"\",'Step 1 -- Commenter information'!$B$5,\"\")","v":""}]
[null,null,null,null,null,null,null,{"$f":"IF($A157<>\"\",'Step 1 -- Commenter information'!$B$2,\"\")","v":""},{"$f":"IF($A157<>\"\",'Step 1 -- Commenter information'!$B$3,\"\")","v":""},{"$f":"IF($A157<>\"\",'Step 1 -- Commenter information'!$B$4,\"\")","v":""},{"$f":"IF($A157<>\"\",'Step 1 -- Commenter information'!$B$5,\"\")","v":""}]
[null,null,null,null,null,null,null,{"$f":"IF($A158<>\"\",'Step 1 -- Commenter information'!$B$2,\"\")","v":""},{"$f":"IF($A158<>\"\",'Step 1 -- Commenter information'!$B$3,\"\")","v":""},{"$f":"IF($A158<>\"\",'Step 1 -- Commenter information'!$B$4,\"\")","v":""},{"$f":"IF($A158<>\"\",'Step 1 -- Commenter information'!$B$5,\"\")","v":""}]
[null,null,null,null,null,null,null,{"$f":"IF($A159<>\"\",'Step 1 -- Commenter information'!$B$2,\"\")","v":""},{"$f":"IF($A159<>\"\",'Step 1 -- Commenter information'!$B$3,\"\")","v":""},{"$f":"IF($A159<>\"\",'Step 1 -- Commenter information'!$B$4,\"\")","v":""},{"$f":"IF($A159<>\"\",'Step 1 -- Commenter information'!$B$5,\"\")","v":""}]
[null,null,null,null,null,null,null,{"$f":"IF($A160<>\"\",'Step 1 -- Commenter information'!$B$2,\"\")","v":""},{"$f":"IF($A160<>\"\",'Step 1 -- Commenter information'!$B$3,\"\")","v":""},{"$f":"IF($A160<>\"\",'Step 1 -- Commenter information'!$B$4,\"\")","v":""},{"$f":"IF($A160<>\"\",'Step 1 -- Commenter information'!$B$5,\"\")","v":""}]
[null,null,null,null,null,null,null,{"$f":"IF($A161<>\"\",'Step 1 -- Commenter information'!$B$2,\"\")","v":""},{"$f":"IF($A161<>\"\",'Step 1 -- Commenter information'!$B$3,\"\")","v":""},{"$f":"IF($A161<>\"\",'Step 1 -- Commenter information'!$B$4,\"\")","v":""},{"$f":"IF($A161<>\"\",'Step 1 -- Commenter information'!$B$5,\"\")","v":""}]
[null,null,null,null,null,null,null,{"$f":"IF($A162<>\"\",'Step 1 -- Commenter information'!$B$2,\"\")","v":""},{"$f":"IF($A162<>\"\",'Step 1 -- Commenter information'!$B$3,\"\")","v":""},{"$f":"IF($A162<>\"\",'Step 1 -- Commenter information'!$B$4,\"\")","v":""},{"$f":"IF($A162<>\"\",'Step 1 -- Commenter information'!$B$5,\"\")","v":""}]
[null,null,null,null,null,null,null,{"$f":"IF($A163<>\"\",'Step 1 -- Commenter information'!$B$2,\"\")","v":""},{"$f":"IF($A163<>\"\",'Step 1 -- Commenter information'!$B$3,\"\")","v":""},{"$f":"IF($A163<>\"\",'Step 1 -- Commenter information'!$B$4,\"\")","v":""},{"$f":"IF($A163<>\"\",'Step 1 -- Commenter information'!$B$5,\"\")","v":""}]
[null,null,null,null,null,null,null,{"$f":"IF($A164<>\"\",'Step 1 -- Commenter information'!$B$2,\"\")","v":""},{"$f":"IF($A164<>\"\",'Step 1 -- Commenter information'!$B$3,\"\")","v":""},{"$f":"IF($A164<>\"\",'Step 1 -- Commenter information'!$B$4,\"\")","v":""},{"$f":"IF($A164<>\"\",'Step 1 -- Commenter information'!$B$5,\"\")","v":""}]
[null,null,null,null,null,null,null,{"$f":"IF($A165<>\"\",'Step 1 -- Commenter information'!$B$2,\"\")","v":""},{"$f":"IF($A165<>\"\",'Step 1 -- Commenter information'!$B$3,\"\")","v":""},{"$f":"IF($A165<>\"\",'Step 1 -- Commenter information'!$B$4,\"\")","v":""},{"$f":"IF($A165<>\"\",'Step 1 -- Commenter information'!$B$5,\"\")","v":""}]
[null,null,null,null,null,null,null,{"$f":"IF($A166<>\"\",'Step 1 -- Commenter information'!$B$2,\"\")","v":""},{"$f":"IF($A166<>\"\",'Step 1 -- Commenter information'!$B$3,\"\")","v":""},{"$f":"IF($A166<>\"\",'Step 1 -- Commenter information'!$B$4,\"\")","v":""},{"$f":"IF($A166<>\"\",'Step 1 -- Commenter information'!$B$5,\"\")","v":""}]
[null,null,null,null,null,null,null,{"$f":"IF($A167<>\"\",'Step 1 -- Commenter information'!$B$2,\"\")","v":""},{"$f":"IF($A167<>\"\",'Step 1 -- Commenter information'!$B$3,\"\")","v":""},{"$f":"IF($A167<>\"\",'Step 1 -- Commenter information'!$B$4,\"\")","v":""},{"$f":"IF($A167<>\"\",'Step 1 -- Commenter information'!$B$5,\"\")","v":""}]
[null,null,null,null,null,null,null,{"$f":"IF($A168<>\"\",'Step 1 -- Commenter information'!$B$2,\"\")","v":""},{"$f":"IF($A168<>\"\",'Step 1 -- Commenter information'!$B$3,\"\")","v":""},{"$f":"IF($A168<>\"\",'Step 1 -- Commenter information'!$B$4,\"\")","v":""},{"$f":"IF($A168<>\"\",'Step 1 -- Commenter information'!$B$5,\"\")","v":""}]
[null,null,null,null,null,null,null,{"$f":"IF($A169<>\"\",'Step 1 -- Commenter information'!$B$2,\"\")","v":""},{"$f":"IF($A169<>\"\",'Step 1 -- Commenter information'!$B$3,\"\")","v":""},{"$f":"IF($A169<>\"\",'Step 1 -- Commenter information'!$B$4,\"\")","v":""},{"$f":"IF($A169<>\"\",'Step 1 -- Commenter information'!$B$5,\"\")","v":""}]
[null,null,null,null,null,null,null,{"$f":"IF($A170<>\"\",'Step 1 -- Commenter information'!$B$2,\"\")","v":""},{"$f":"IF($A170<>\"\",'Step 1 -- Commenter information'!$B$3,\"\")","v":""},{"$f":"IF($A170<>\"\",'Step 1 -- Commenter information'!$B$4,\"\")","v":""},{"$f":"IF($A170<>\"\",'Step 1 -- Commenter information'!$B$5,\"\")","v":""}]
[null,null,null,null,null,null,null,{"$f":"IF($A171<>\"\",'Step 1 -- Commenter information'!$B$2,\"\")","v":""},{"$f":"IF($A171<>\"\",'Step 1 -- Commenter information'!$B$3,\"\")","v":""},{"$f":"IF($A171<>\"\",'Step 1 -- Commenter information'!$B$4,\"\")","v":""},{"$f":"IF($A171<>\"\",'Step 1 -- Commenter information'!$B$5,\"\")","v":""}]
[null,null,null,null,null,null,null,{"$f":"IF($A172<>\"\",'Step 1 -- Commenter information'!$B$2,\"\")","v":""},{"$f":"IF($A172<>\"\",'Step 1 -- Commenter information'!$B$3,\"\")","v":""},{"$f":"IF($A172<>\"\",'Step 1 -- Commenter information'!$B$4,\"\")","v":""},{"$f":"IF($A172<>\"\",'Step 1 -- Commenter information'!$B$5,\"\")","v":""}]
[null,null,null,null,null,null,null,{"$f":"IF($A173<>\"\",'Step 1 -- Commenter information'!$B$2,\"\")","v":""},{"$f":"IF($A173<>\"\",'Step 1 -- Commenter information'!$B$3,\"\")","v":""},{"$f":"IF($A173<>\"\",'Step 1 -- Commenter information'!$B$4,\"\")","v":""},{"$f":"IF($A173<>\"\",'Step 1 -- Commenter information'!$B$5,\"\")","v":""}]
[null,null,null,null,null,null,null,{"$f":"IF($A174<>\"\",'Step 1 -- Commenter information'!$B$2,\"\")","v":""},{"$f":"IF($A174<>\"\",'Step 1 -- Commenter information'!$B$3,\"\")","v":""},{"$f":"IF($A174<>\"\",'Step 1 -- Commenter information'!$B$4,\"\")","v":""},{"$f":"IF($A174<>\"\",'Step 1 -- Commenter information'!$B$5,\"\")","v":""}]
[null,null,null,null,null,null,null,{"$f":"IF($A175<>\"\",'Step 1 -- Commenter information'!$B$2,\"\")","v":""},{"$f":"IF($A175<>\"\",'Step 1 -- Commenter information'!$B$3,\"\")","v":""},{"$f":"IF($A175<>\"\",'Step 1 -- Commenter information'!$B$4,\"\")","v":""},{"$f":"IF($A175<>\"\",'Step 1 -- Commenter information'!$B$5,\"\")","v":""}]
[null,null,null,null,null,null,null,{"$f":"IF($A176<>\"\",'Step 1 -- Commenter information'!$B$2,\"\")","v":""},{"$f":"IF($A176<>\"\",'Step 1 -- Commenter information'!$B$3,\"\")","v":""},{"$f":"IF($A176<>\"\",'Step 1 -- Commenter information'!$B$4,\"\")","v":""},{"$f":"IF($A176<>\"\",'Step 1 -- Commenter information'!$B$5,\"\")","v":""}]
[null,null,null,null,null,null,null,{"$f":"IF($A177<>\"\",'Step 1 -- Commenter information'!$B$2,\"\")","v":""},{"$f":"IF($A177<>\"\",'Step 1 -- Commenter information'!$B$3,\"\")","v":""},{"$f":"IF($A177<>\"\",'Step 1 -- Commenter information'!$B$4,\"\")","v":""},{"$f":"IF($A177<>\"\",'Step 1 -- Commenter information'!$B$5,\"\")","v":""}]
[null,null,null,null,null,null,null,{"$f":"IF($A178<>\"\",'Step 1 -- Commenter information'!$B$2,\"\")","v":""},{"$f":"IF($A178<>\"\",'Step 1 -- Commenter information'!$B$3,\"\")","v":""},{"$f":"IF($A178<>\"\",'Step 1 -- Commenter information'!$B$4,\"\")","v":""},{"$f":"IF($A178<>\"\",'Step 1 -- Commenter information'!$B$5,\"\")","v":""}]
[null,null,null,null,null,null,null,{"$f":"IF($A179<>\"\",'Step 1 -- Commenter information'!$B$2,\"\")","v":""},{"$f":"IF($A179<>\"\",'Step 1 -- Commenter information'!$B$3,\"\")","v":""},{"$f":"IF($A179<>\"\",'Step 1 -- Commenter information'!$B$4,\"\")","v":""},{"$f":"IF($A179<>\"\",'Step 1 -- Commenter information'!$B$5,\"\")","v":""}]
[null,null,null,null,null,null,null,{"$f":"IF($A180<>\"\",'Step 1 -- Commenter information'!$B$2,\"\")","v":""},{"$f":"IF($A180<>\"\",'Step 1 -- Commenter information'!$B$3,\"\")","v":""},{"$f":"IF($A180<>\"\",'Step 1 -- Commenter information'!$B$4,\"\")","v":""},{"$f":"IF($A180<>\"\",'Step 1 -- Commenter information'!$B$5,\"\")","v":""}]
[null,null,null,null,null,null,null,{"$f":"IF($A181<>\"\",'Step 1 -- Commenter information'!$B$2,\"\")","v":""},{"$f":"IF($A181<>\"\",'Step 1 -- Commenter information'!$B$3,\"\")","v":""},{"$f":"IF($A181<>\"\",'Step 1 -- Commenter information'!$B$4,\"\")","v":""},{"$f":"IF($A181<>\"\",'Step 1 -- Commenter information'!$B$5,\"\")","v":""}]
[null,null,null,null,null,null,null,{"$f":"IF($A182<>\"\",'Step 1 -- Commenter information'!$B$2,\"\")","v":""},{"$f":"IF($A182<>\"\",'Step 1 -- Commenter information'!$B$3,\"\")","v":""},{"$f":"IF($A182<>\"\",'Step 1 -- Commenter information'!$B$4,\"\")","v":""},{"$f":"IF($A182<>\"\",'Step 1 -- Commenter information'!$B$5,\"\")","v":""}]
[null,null,null,null,null,null,null,{"$f":"IF($A183<>\"\",'Step 1 -- Commenter information'!$B$2,\"\")","v":""},{"$f":"IF($A183<>\"\",'Step 1 -- Commenter information'!$B$3,\"\")","v":""},{"$f":"IF($A183<>\"\",'Step 1 -- Commenter information'!$B$4,\"\")","v":""},{"$f":"IF($A183<>\"\",'Step 1 -- Commenter information'!$B$5,\"\")","v":""}]
[null,null,null,null,null,null,null,{"$f":"IF($A184<>\"\",'Step 1 -- Commenter information'!$B$2,\"\")","v":""},{"$f":"IF($A184<>\"\",'Step 1 -- Commenter information'!$B$3,\"\")","v":""},{"$f":"IF($A184<>\"\",'Step 1 -- Commenter information'!$B$4,\"\")","v":""},{"$f":"IF($A184<>\"\",'Step 1 -- Commenter information'!$B$5,\"\")","v":""}]
[null,null,null,null,null,null,null,{"$f":"IF($A185<>\"\",'Step 1 -- Commenter information'!$B$2,\"\")","v":""},{"$f":"IF($A185<>\"\",'Step 1 -- Commenter information'!$B$3,\"\")","v":""},{"$f":"IF($A185<>\"\",'Step 1 -- Commenter information'!$B$4,\"\")","v":""},{"$f":"IF($A185<>\"\",'Step 1 -- Commenter information'!$B$5,\"\")","v":""}]
[null,null,null,null,null,null,null,{"$f":"IF($A186<>\"\",'Step 1 -- Commenter information'!$B$2,\"\")","v":""},{"$f":"IF($A186<>\"\",'Step 1 -- Commenter information'!$B$3,\"\")","v":""},{"$f":"IF($A186<>\"\",'Step 1 -- Commenter information'!$B$4,\"\")","v":""},{"$f":"IF($A186<>\"\",'Step 1 -- Commenter information'!$B$5,\"\")","v":""}]
[null,null,null,null,null,null,null,{"$f":"IF($A187<>\"\",'Step 1 -- Commenter information'!$B$2,\"\")","v":""},{"$f":"IF($A187<>\"\",'Step 1 -- Commenter information'!$B$3,\"\")","v":""},{"$f":"IF($A187<>\"\",'Step 1 -- Commenter information'!$B$4,\"\")","v":""},{"$f":"IF($A187<>\"\",'Step 1 -- Commenter information'!$B$5,\"\")","v":""}]
[null,null,null,null,null,null,null,{"$f":"IF($A188<>\"\",'Step 1 -- Commenter information'!$B$2,\"\")","v":""},{"$f":"IF($A188<>\"\",'Step 1 -- Commenter information'!$B$3,\"\")","v":""},{"$f":"IF($A188<>\"\",'Step 1 -- Commenter information'!$B$4,\"\")","v":""},{"$f":"IF($A188<>\"\",'Step 1 -- Commenter information'!$B$5,\"\")","v":""}]
[null,null,null,null,null,null,null,{"$f":"IF($A189<>\"\",'Step 1 -- Commenter information'!$B$2,\"\")","v":""},{"$f":"IF($A189<>\"\",'Step 1 -- Commenter information'!$B$3,\"\")","v":""},{"$f":"IF($A189<>\"\",'Step 1 -- Commenter information'!$B$4,\"\")","v":""},{"$f":"IF($A189<>\"\",'Step 1 -- Commenter information'!$B$5,\"\")","v":""}]
[null,null,null,null,null,null,null,{"$f":"IF($A190<>\"\",'Step 1 -- Commenter information'!$B$2,\"\")","v":""},{"$f":"IF($A190<>\"\",'Step 1 -- Commenter information'!$B$3,\"\")","v":""},{"$f":"IF($A190<>\"\",'Step 1 -- Commenter information'!$B$4,\"\")","v":""},{"$f":"IF($A190<>\"\",'Step 1 -- Commenter information'!$B$5,\"\")","v":""}]
[null,null,null,null,null,null,null,{"$f":"IF($A191<>\"\",'Step 1 -- Commenter information'!$B$2,\"\")","v":""},{"$f":"IF($A191<>\"\",'Step 1 -- Commenter information'!$B$3,\"\")","v":""},{"$f":"IF($A191<>\"\",'Step 1 -- Commenter information'!$B$4,\"\")","v":""},{"$f":"IF($A191<>\"\",'Step 1 -- Commenter information'!$B$5,\"\")","v":""}]
[null,null,null,null,null,null,null,{"$f":"IF($A192<>\"\",'Step 1 -- Commenter information'!$B$2,\"\")","v":""},{"$f":"IF($A192<>\"\",'Step 1 -- Commenter information'!$B$3,\"\")","v":""},{"$f":"IF($A192<>\"\",'Step 1 -- Commenter information'!$B$4,\"\")","v":""},{"$f":"IF($A192<>\"\",'Step 1 -- Commenter information'!$B$5,\"\")","v":""}]
[null,null,null,null,null,null,null,{"$f":"IF($A193<>\"\",'Step 1 -- Commenter information'!$B$2,\"\")","v":""},{"$f":"IF($A193<>\"\",'Step 1 -- Commenter information'!$B$3,\"\")","v":""},{"$f":"IF($A193<>\"\",'Step 1 -- Commenter information'!$B$4,\"\")","v":""},{"$f":"IF($A193<>\"\",'Step 1 -- Commenter information'!$B$5,\"\")","v":""}]
[null,null,null,null,null,null,null,{"$f":"IF($A194<>\"\",'Step 1 -- Commenter information'!$B$2,\"\")","v":""},{"$f":"IF($A194<>\"\",'Step 1 -- Commenter information'!$B$3,\"\")","v":""},{"$f":"IF($A194<>\"\",'Step 1 -- Commenter information'!$B$4,\"\")","v":""},{"$f":"IF($A194<>\"\",'Step 1 -- Commenter information'!$B$5,\"\")","v":""}]
[null,null,null,null,null,null,null,{"$f":"IF($A195<>\"\",'Step 1 -- Commenter information'!$B$2,\"\")","v":""},{"$f":"IF($A195<>\"\",'Step 1 -- Commenter information'!$B$3,\"\")","v":""},{"$f":"IF($A195<>\"\",'Step 1 -- Commenter information'!$B$4,\"\")","v":""},{"$f":"IF($A195<>\"\",'Step 1 -- Commenter information'!$B$5,\"\")","v":""}]
[null,null,null,null,null,null,null,{"$f":"IF($A196<>\"\",'Step 1 -- Commenter information'!$B$2,\"\")","v":""},{"$f":"IF($A196<>\"\",'Step 1 -- Commenter information'!$B$3,\"\")","v":""},{"$f":"IF($A196<>\"\",'Step 1 -- Commenter information'!$B$4,\"\")","v":""},{"$f":"IF($A196<>\"\",'Step 1 -- Commenter information'!$B$5,\"\")","v":""}]
[null,null,null,null,null,null,null,{"$f":"IF($A197<>\"\",'Step 1 -- Commenter information'!$B$2,\"\")","v":""},{"$f":"IF($A197<>\"\",'Step 1 -- Commenter information'!$B$3,\"\")","v":""},{"$f":"IF($A197<>\"\",'Step 1 -- Commenter information'!$B$4,\"\")","v":""},{"$f":"IF($A197<>\"\",'Step 1 -- Commenter information'!$B$5,\"\")","v":""}]
[null,null,null,null,null,null,null,{"$f":"IF($A198<>\"\",'Step 1 -- Commenter information'!$B$2,\"\")","v":""},{"$f":"IF($A198<>\"\",'Step 1 -- Commenter information'!$B$3,\"\")","v":""},{"$f":"IF($A198<>\"\",'Step 1 -- Commenter information'!$B$4,\"\")","v":""},{"$f":"IF($A198<>\"\",'Step 1 -- Commenter information'!$B$5,\"\")","v":""}]
[null,null,null,null,null,null,null,{"$f":"IF($A199<>\"\",'Step 1 -- Commenter information'!$B$2,\"\")","v":""},{"$f":"IF($A199<>\"\",'Step 1 -- Commenter information'!$B$3,\"\")","v":""},{"$f":"IF($A199<>\"\",'Step 1 -- Commenter information'!$B$4,\"\")","v":""},{"$f":"IF($A199<>\"\",'Step 1 -- Commenter information'!$B$5,\"\")","v":""}]
[null,null,null,null,null,null,null,{"$f":"IF($A200<>\"\",'Step 1 -- Commenter information'!$B$2,\"\")","v":""},{"$f":"IF($A200<>\"\",'Step 1 -- Commenter information'!$B$3,\"\")","v":""},{"$f":"IF($A200<>\"\",'Step 1 -- Commenter information'!$B$4,\"\")","v":""},{"$f":"IF($A200<>\"\",'Step 1 -- Commenter information'!$B$5,\"\")","v":""}]
[null,null,null,null,null,null,null,{"$f":"IF($A201<>\"\",'Step 1 -- Commenter information'!$B$2,\"\")","v":""},{"$f":"IF($A201<>\"\",'Step 1 -- Commenter information'!$B$3,\"\")","v":""},{"$f":"IF($A201<>\"\",'Step 1 -- Commenter information'!$B$4,\"\")","v":""},{"$f":"IF($A201<>\"\",'Step 1 -- Commenter information'!$B$5,\"\")","v":""}]
[null,null,null,null,null,null,null,{"$f":"IF($A202<>\"\",'Step 1 -- Commenter information'!$B$2,\"\")","v":""},{"$f":"IF($A202<>\"\",'Step 1 -- Commenter information'!$B$3,\"\")","v":""},{"$f":"IF($A202<>\"\",'Step 1 -- Commenter information'!$B$4,\"\")","v":""},{"$f":"IF($A202<>\"\",'Step 1 -- Commenter information'!$B$5,\"\")","v":""}]
[null,null,null,null,null,null,null,{"$f":"IF($A203<>\"\",'Step 1 -- Commenter information'!$B$2,\"\")","v":""},{"$f":"IF($A203<>\"\",'Step 1 -- Commenter information'!$B$3,\"\")","v":""},{"$f":"IF($A203<>\"\",'Step 1 -- Commenter information'!$B$4,\"\")","v":""},{"$f":"IF($A203<>\"\",'Step 1 -- Commenter information'!$B$5,\"\")","v":""}]
[null,null,null,null,null,null,null,{"$f":"IF($A204<>\"\",'Step 1 -- Commenter information'!$B$2,\"\")","v":""},{"$f":"IF($A204<>\"\",'Step 1 -- Commenter information'!$B$3,\"\")","v":""},{"$f":"IF($A204<>\"\",'Step 1 -- Commenter information'!$B$4,\"\")","v":""},{"$f":"IF($A204<>\"\",'Step 1 -- Commenter information'!$B$5,\"\")","v":""}]
[null,null,null,null,null,null,null,{"$f":"IF($A205<>\"\",'Step 1 -- Commenter information'!$B$2,\"\")","v":""},{"$f":"IF($A205<>\"\",'Step 1 -- Commenter information'!$B$3,\"\")","v":""},{"$f":"IF($A205<>\"\",'Step 1 -- Commenter information'!$B$4,\"\")","v":""},{"$f":"IF($A205<>\"\",'Step 1 -- Commenter information'!$B$5,\"\")","v":""}]
[null,null,null,null,null,null,null,{"$f":"IF($A206<>\"\",'Step 1 -- Commenter information'!$B$2,\"\")","v":""},{"$f":"IF($A206<>\"\",'Step 1 -- Commenter information'!$B$3,\"\")","v":""},{"$f":"IF($A206<>\"\",'Step 1 -- Commenter information'!$B$4,\"\")","v":""},{"$f":"IF($A206<>\"\",'Step 1 -- Commenter information'!$B$5,\"\")","v":""}]
[null,null,null,null,null,null,null,{"$f":"IF($A207<>\"\",'Step 1 -- Commenter information'!$B$2,\"\")","v":""},{"$f":"IF($A207<>\"\",'Step 1 -- Commenter information'!$B$3,\"\")","v":""},{"$f":"IF($A207<>\"\",'Step 1 -- Commenter information'!$B$4,\"\")","v":""},{"$f":"IF($A207<>\"\",'Step 1 -- Commenter information'!$B$5,\"\")","v":""}]
[null,null,null,null,null,null,null,{"$f":"IF($A208<>\"\",'Step 1 -- Commenter information'!$B$2,\"\")","v":""},{"$f":"IF($A208<>\"\",'Step 1 -- Commenter information'!$B$3,\"\")","v":""},{"$f":"IF($A208<>\"\",'Step 1 -- Commenter information'!$B$4,\"\")","v":""},{"$f":"IF($A208<>\"\",'Step 1 -- Commenter information'!$B$5,\"\")","v":""}]
[null,null,null,null,null,null,null,{"$f":"IF($A209<>\"\",'Step 1 -- Commenter information'!$B$2,\"\")","v":""},{"$f":"IF($A209<>\"\",'Step 1 -- Commenter information'!$B$3,\"\")","v":""},{"$f":"IF($A209<>\"\",'Step 1 -- Commenter information'!$B$4,\"\")","v":""},{"$f":"IF($A209<>\"\",'Step 1 -- Commenter information'!$B$5,\"\")","v":""}]
[null,null,null,null,null,null,null,{"$f":"IF($A210<>\"\",'Step 1 -- Commenter information'!$B$2,\"\")","v":""},{"$f":"IF($A210<>\"\",'Step 1 -- Commenter information'!$B$3,\"\")","v":""},{"$f":"IF($A210<>\"\",'Step 1 -- Commenter information'!$B$4,\"\")","v":""},{"$f":"IF($A210<>\"\",'Step 1 -- Commenter information'!$B$5,\"\")","v":""}]
[null,null,null,null,null,null,null,{"$f":"IF($A211<>\"\",'Step 1 -- Commenter information'!$B$2,\"\")","v":""},{"$f":"IF($A211<>\"\",'Step 1 -- Commenter information'!$B$3,\"\")","v":""},{"$f":"IF($A211<>\"\",'Step 1 -- Commenter information'!$B$4,\"\")","v":""},{"$f":"IF($A211<>\"\",'Step 1 -- Commenter information'!$B$5,\"\")","v":""}]
[null,null,null,null,null,null,null,{"$f":"IF($A212<>\"\",'Step 1 -- Commenter information'!$B$2,\"\")","v":""},{"$f":"IF($A212<>\"\",'Step 1 -- Commenter information'!$B$3,\"\")","v":""},{"$f":"IF($A212<>\"\",'Step 1 -- Commenter information'!$B$4,\"\")","v":""},{"$f":"IF($A212<>\"\",'Step 1 -- Commenter information'!$B$5,\"\")","v":""}]
[null,null,null,null,null,null,null,{"$f":"IF($A213<>\"\",'Step 1 -- Commenter information'!$B$2,\"\")","v":""},{"$f":"IF($A213<>\"\",'Step 1 -- Commenter information'!$B$3,\"\")","v":""},{"$f":"IF($A213<>\"\",'Step 1 -- Commenter information'!$B$4,\"\")","v":""},{"$f":"IF($A213<>\"\",'Step 1 -- Commenter information'!$B$5,\"\")","v":""}]
[null,null,null,null,null,null,null,{"$f":"IF($A214<>\"\",'Step 1 -- Commenter information'!$B$2,\"\")","v":""},{"$f":"IF($A214<>\"\",'Step 1 -- Commenter information'!$B$3,\"\")","v":""},{"$f":"IF($A214<>\"\",'Step 1 -- Commenter information'!$B$4,\"\")","v":""},{"$f":"IF($A214<>\"\",'Step 1 -- Commenter information'!$B$5,\"\")","v":""}]
[null,null,null,null,null,null,null,{"$f":"IF($A215<>\"\",'Step 1 -- Commenter information'!$B$2,\"\")","v":""},{"$f":"IF($A215<>\"\",'Step 1 -- Commenter information'!$B$3,\"\")","v":""},{"$f":"IF($A215<>\"\",'Step 1 -- Commenter information'!$B$4,\"\")","v":""},{"$f":"IF($A215<>\"\",'Step 1 -- Commenter information'!$B$5,\"\")","v":""}]
[null,null,null,null,null,null,null,{"$f":"IF($A216<>\"\",'Step 1 -- Commenter information'!$B$2,\"\")","v":""},{"$f":"IF($A216<>\"\",'Step 1 -- Commenter information'!$B$3,\"\")","v":""},{"$f":"IF($A216<>\"\",'Step 1 -- Commenter information'!$B$4,\"\")","v":""},{"$f":"IF($A216<>\"\",'Step 1 -- Commenter information'!$B$5,\"\")","v":""}]
[null,null,null,null,null,null,null,{"$f":"IF($A217<>\"\",'Step 1 -- Commenter information'!$B$2,\"\")","v":""},{"$f":"IF($A217<>\"\",'Step 1 -- Commenter information'!$B$3,\"\")","v":""},{"$f":"IF($A217<>\"\",'Step 1 -- Commenter information'!$B$4,\"\")","v":""},{"$f":"IF($A217<>\"\",'Step 1 -- Commenter information'!$B$5,\"\")","v":""}]
[null,null,null,null,null,null,null,{"$f":"IF($A218<>\"\",'Step 1 -- Commenter information'!$B$2,\"\")","v":""},{"$f":"IF($A218<>\"\",'Step 1 -- Commenter information'!$B$3,\"\")","v":""},{"$f":"IF($A218<>\"\",'Step 1 -- Commenter information'!$B$4,\"\")","v":""},{"$f":"IF($A218<>\"\",'Step 1 -- Commenter information'!$B$5,\"\")","v":""}]
[null,null,null,null,null,null,null,{"$f":"IF($A219<>\"\",'Step 1 -- Commenter information'!$B$2,\"\")","v":""},{"$f":"IF($A219<>\"\",'Step 1 -- Commenter information'!$B$3,\"\")","v":""},{"$f":"IF($A219<>\"\",'Step 1 -- Commenter information'!$B$4,\"\")","v":""},{"$f":"IF($A219<>\"\",'Step 1 -- Commenter information'!$B$5,\"\")","v":""}]
[null,null,null,null,null,null,null,{"$f":"IF($A220<>\"\",'Step 1 -- Commenter information'!$B$2,\"\")","v":""},{"$f":"IF($A220<>\"\",'Step 1 -- Commenter information'!$B$3,\"\")","v":""},{"$f":"IF($A220<>\"\",'Step 1 -- Commenter information'!$B$4,\"\")","v":""},{"$f":"IF($A220<>\"\",'Step 1 -- Commenter information'!$B$5,\"\")","v":""}]
[null,null,null,null,null,null,null,{"$f":"IF($A221<>\"\",'Step 1 -- Commenter information'!$B$2,\"\")","v":""},{"$f":"IF($A221<>\"\",'Step 1 -- Commenter information'!$B$3,\"\")","v":""},{"$f":"IF($A221<>\"\",'Step 1 -- Commenter information'!$B$4,\"\")","v":""},{"$f":"IF($A221<>\"\",'Step 1 -- Commenter information'!$B$5,\"\")","v":""}]
[null,null,null,null,null,null,null,{"$f":"IF($A222<>\"\",'Step 1 -- Commenter information'!$B$2,\"\")","v":""},{"$f":"IF($A222<>\"\",'Step 1 -- Commenter information'!$B$3,\"\")","v":""},{"$f":"IF($A222<>\"\",'Step 1 -- Commenter information'!$B$4,\"\")","v":""},{"$f":"IF($A222<>\"\",'Step 1 -- Commenter information'!$B$5,\"\")","v":""}]
[null,null,null,null,null,null,null,{"$f":"IF($A223<>\"\",'Step 1 -- Commenter information'!$B$2,\"\")","v":""},{"$f":"IF($A223<>\"\",'Step 1 -- Commenter information'!$B$3,\"\")","v":""},{"$f":"IF($A223<>\"\",'Step 1 -- Commenter information'!$B$4,\"\")","v":""},{"$f":"IF($A223<>\"\",'Step 1 -- Commenter information'!$B$5,\"\")","v":""}]
[null,null,null,null,null,null,null,{"$f":"IF($A224<>\"\",'Step 1 -- Commenter information'!$B$2,\"\")","v":""},{"$f":"IF($A224<>\"\",'Step 1 -- Commenter information'!$B$3,\"\")","v":""},{"$f":"IF($A224<>\"\",'Step 1 -- Commenter information'!$B$4,\"\")","v":""},{"$f":"IF($A224<>\"\",'Step 1 -- Commenter information'!$B$5,\"\")","v":""}]
[null,null,null,null,null,null,null,{"$f":"IF($A225<>\"\",'Step 1 -- Commenter information'!$B$2,\"\")","v":""},{"$f":"IF($A225<>\"\",'Step 1 -- Commenter information'!$B$3,\"\")","v":""},{"$f":"IF($A225<>\"\",'Step 1 -- Commenter information'!$B$4,\"\")","v":""},{"$f":"IF($A225<>\"\",'Step 1 -- Commenter information'!$B$5,\"\")","v":""}]
[null,null,null,null,null,null,null,{"$f":"IF($A226<>\"\",'Step 1 -- Commenter information'!$B$2,\"\")","v":""},{"$f":"IF($A226<>\"\",'Step 1 -- Commenter information'!$B$3,\"\")","v":""},{"$f":"IF($A226<>\"\",'Step 1 -- Commenter information'!$B$4,\"\")","v":""},{"$f":"IF($A226<>\"\",'Step 1 -- Commenter information'!$B$5,\"\")","v":""}]
[null,null,null,null,null,null,null,{"$f":"IF($A227<>\"\",'Step 1 -- Commenter information'!$B$2,\"\")","v":""},{"$f":"IF($A227<>\"\",'Step 1 -- Commenter information'!$B$3,\"\")","v":""},{"$f":"IF($A227<>\"\",'Step 1 -- Commenter information'!$B$4,\"\")","v":""},{"$f":"IF($A227<>\"\",'Step 1 -- Commenter information'!$B$5,\"\")","v":""}]
[null,null,null,null,null,null,null,{"$f":"IF($A228<>\"\",'Step 1 -- Commenter information'!$B$2,\"\")","v":""},{"$f":"IF($A228<>\"\",'Step 1 -- Commenter information'!$B$3,\"\")","v":""},{"$f":"IF($A228<>\"\",'Step 1 -- Commenter information'!$B$4,\"\")","v":""},{"$f":"IF($A228<>\"\",'Step 1 -- Commenter information'!$B$5,\"\")","v":""}]
[null,null,null,null,null,null,null,{"$f":"IF($A229<>\"\",'Step 1 -- Commenter information'!$B$2,\"\")","v":""},{"$f":"IF($A229<>\"\",'Step 1 -- Commenter information'!$B$3,\"\")","v":""},{"$f":"IF($A229<>\"\",'Step 1 -- Commenter information'!$B$4,\"\")","v":""},{"$f":"IF($A229<>\"\",'Step 1 -- Commenter information'!$B$5,\"\")","v":""}]
[null,null,null,null,null,null,null,{"$f":"IF($A230<>\"\",'Step 1 -- Commenter information'!$B$2,\"\")","v":""},{"$f":"IF($A230<>\"\",'Step 1 -- Commenter information'!$B$3,\"\")","v":""},{"$f":"IF($A230<>\"\",'Step 1 -- Commenter information'!$B$4,\"\")","v":""},{"$f":"IF($A230<>\"\",'Step 1 -- Commenter information'!$B$5,\"\")","v":""}]
[null,null,null,null,null,null,null,{"$f":"IF($A231<>\"\",'Step 1 -- Commenter information'!$B$2,\"\")","v":""},{"$f":"IF($A231<>\"\",'Step 1 -- Commenter information'!$B$3,\"\")","v":""},{"$f":"IF($A231<>\"\",'Step 1 -- Commenter information'!$B$4,\"\")","v":""},{"$f":"IF($A231<>\"\",'Step 1 -- Commenter information'!$B$5,\"\")","v":""}]
[null,null,null,null,null,null,null,{"$f":"IF($A232<>\"\",'Step 1 -- Commenter information'!$B$2,\"\")","v":""},{"$f":"IF($A232<>\"\",'Step 1 -- Commenter information'!$B$3,\"\")","v":""},{"$f":"IF($A232<>\"\",'Step 1 -- Commenter information'!$B$4,\"\")","v":""},{"$f":"IF($A232<>\"\",'Step 1 -- Commenter information'!$B$5,\"\")","v":""}]
[null,null,null,null,null,null,null,{"$f":"IF($A233<>\"\",'Step 1 -- Commenter information'!$B$2,\"\")","v":""},{"$f":"IF($A233<>\"\",'Step 1 -- Commenter information'!$B$3,\"\")","v":""},{"$f":"IF($A233<>\"\",'Step 1 -- Commenter information'!$B$4,\"\")","v":""},{"$f":"IF($A233<>\"\",'Step 1 -- Commenter information'!$B$5,\"\")","v":""}]
[null,null,null,null,null,null,null,{"$f":"IF($A234<>\"\",'Step 1 -- Commenter information'!$B$2,\"\")","v":""},{"$f":"IF($A234<>\"\",'Step 1 -- Commenter information'!$B$3,\"\")","v":""},{"$f":"IF($A234<>\"\",'Step 1 -- Commenter information'!$B$4,\"\")","v":""},{"$f":"IF($A234<>\"\",'Step 1 -- Commenter information'!$B$5,\"\")","v":""}]
[null,null,null,null,null,null,null,{"$f":"IF($A235<>\"\",'Step 1 -- Commenter information'!$B$2,\"\")","v":""},{"$f":"IF($A235<>\"\",'Step 1 -- Commenter information'!$B$3,\"\")","v":""},{"$f":"IF($A235<>\"\",'Step 1 -- Commenter information'!$B$4,\"\")","v":""},{"$f":"IF($A235<>\"\",'Step 1 -- Commenter information'!$B$5,\"\")","v":""}]
[null,null,null,null,null,null,null,{"$f":"IF($A236<>\"\",'Step 1 -- Commenter information'!$B$2,\"\")","v":""},{"$f":"IF($A236<>\"\",'Step 1 -- Commenter information'!$B$3,\"\")","v":""},{"$f":"IF($A236<>\"\",'Step 1 -- Commenter information'!$B$4,\"\")","v":""},{"$f":"IF($A236<>\"\",'Step 1 -- Commenter information'!$B$5,\"\")","v":""}]
[null,null,null,null,null,null,null,{"$f":"IF($A237<>\"\",'Step 1 -- Commenter information'!$B$2,\"\")","v":""},{"$f":"IF($A237<>\"\",'Step 1 -- Commenter information'!$B$3,\"\")","v":""},{"$f":"IF($A237<>\"\",'Step 1 -- Commenter information'!$B$4,\"\")","v":""},{"$f":"IF($A237<>\"\",'Step 1 -- Commenter information'!$B$5,\"\")","v":""}]
[null,null,null,null,null,null,null,{"$f":"IF($A238<>\"\",'Step 1 -- Commenter information'!$B$2,\"\")","v":""},{"$f":"IF($A238<>\"\",'Step 1 -- Commenter information'!$B$3,\"\")","v":""},{"$f":"IF($A238<>\"\",'Step 1 -- Commenter information'!$B$4,\"\")","v":""},{"$f":"IF($A238<>\"\",'Step 1 -- Commenter information'!$B$5,\"\")","v":""}]
[null,null,null,null,null,null,null,{"$f":"IF($A239<>\"\",'Step 1 -- Commenter information'!$B$2,\"\")","v":""},{"$f":"IF($A239<>\"\",'Step 1 -- Commenter information'!$B$3,\"\")","v":""},{"$f":"IF($A239<>\"\",'Step 1 -- Commenter information'!$B$4,\"\")","v":""},{"$f":"IF($A239<>\"\",'Step 1 -- Commenter information'!$B$5,\"\")","v":""}]
[null,null,null,null,null,null,null,{"$f":"IF($A240<>\"\",'Step 1 -- Commenter information'!$B$2,\"\")","v":""},{"$f":"IF($A240<>\"\",'Step 1 -- Commenter information'!$B$3,\"\")","v":""},{"$f":"IF($A240<>\"\",'Step 1 -- Commenter information'!$B$4,\"\")","v":""},{"$f":"IF($A240<>\"\",'Step 1 -- Commenter information'!$B$5,\"\")","v":""}]
[null,null,null,null,null,null,null,{"$f":"IF($A241<>\"\",'Step 1 -- Commenter information'!$B$2,\"\")","v":""},{"$f":"IF($A241<>\"\",'Step 1 -- Commenter information'!$B$3,\"\")","v":""},{"$f":"IF($A241<>\"\",'Step 1 -- Commenter information'!$B$4,\"\")","v":""},{"$f":"IF($A241<>\"\",'Step 1 -- Commenter information'!$B$5,\"\")","v":""}]
[null,null,null,null,null,null,null,{"$f":"IF($A242<>\"\",'Step 1 -- Commenter information'!$B$2,\"\")","v":""},{"$f":"IF($A242<>\"\",'Step 1 -- Commenter information'!$B$3,\"\")","v":""},{"$f":"IF($A242<>\"\",'Step 1 -- Commenter information'!$B$4,\"\")","v":""},{"$f":"IF($A242<>\"\",'Step 1 -- Commenter information'!$B$5,\"\")","v":""}]
[null,null,null,null,null,null,null,{"$f":"IF($A243<>\"\",'Step 1 -- Commenter information'!$B$2,\"\")","v":""},{"$f":"IF($A243<>\"\",'Step 1 -- Commenter information'!$B$3,\"\")","v":""},{"$f":"IF($A243<>\"\",'Step 1 -- Commenter information'!$B$4,\"\")","v":""},{"$f":"IF($A243<>\"\",'Step 1 -- Commenter information'!$B$5,\"\")","v":""}]
[null,null,null,null,null,null,null,{"$f":"IF($A244<>\"\",'Step 1 -- Commenter information'!$B$2,\"\")","v":""},{"$f":"IF($A244<>\"\",'Step 1 -- Commenter information'!$B$3,\"\")","v":""},{"$f":"IF($A244<>\"\",'Step 1 -- Commenter information'!$B$4,\"\")","v":""},{"$f":"IF($A244<>\"\",'Step 1 -- Commenter information'!$B$5,\"\")","v":""}]
[null,null,null,null,null,null,null,{"$f":"IF($A245<>\"\",'Step 1 -- Commenter information'!$B$2,\"\")","v":""},{"$f":"IF($A245<>\"\",'Step 1 -- Commenter information'!$B$3,\"\")","v":""},{"$f":"IF($A245<>\"\",'Step 1 -- Commenter information'!$B$4,\"\")","v":""},{"$f":"IF($A245<>\"\",'Step 1 -- Commenter information'!$B$5,\"\")","v":""}]
[null,null,null,null,null,null,null,{"$f":"IF($A246<>\"\",'Step 1 -- Commenter information'!$B$2,\"\")","v":""},{"$f":"IF($A246<>\"\",'Step 1 -- Commenter information'!$B$3,\"\")","v":""},{"$f":"IF($A246<>\"\",'Step 1 -- Commenter information'!$B$4,\"\")","v":""},{"$f":"IF($A246<>\"\",'Step 1 -- Commenter information'!$B$5,\"\")","v":""}]
[null,null,null,null,null,null,null,{"$f":"IF($A247<>\"\",'Step 1 -- Commenter information'!$B$2,\"\")","v":""},{"$f":"IF($A247<>\"\",'Step 1 -- Commenter information'!$B$3,\"\")","v":""},{"$f":"IF($A247<>\"\",'Step 1 -- Commenter information'!$B$4,\"\")","v":""},{"$f":"IF($A247<>\"\",'Step 1 -- Commenter information'!$B$5,\"\")","v":""}]
[null,null,null,null,null,null,null,{"$f":"IF($A248<>\"\",'Step 1 -- Commenter information'!$B$2,\"\")","v":""},{"$f":"IF($A248<>\"\",'Step 1 -- Commenter information'!$B$3,\"\")","v":""},{"$f":"IF($A248<>\"\",'Step 1 -- Commenter information'!$B$4,\"\")","v":""},{"$f":"IF($A248<>\"\",'Step 1 -- Commenter information'!$B$5,\"\")","v":""}]
[null,null,null,null,null,null,null,{"$f":"IF($A249<>\"\",'Step 1 -- Commenter information'!$B$2,\"\")","v":""},{"$f":"IF($A249<>\"\",'Step 1 -- Commenter information'!$B$3,\"\")","v":""},{"$f":"IF($A249<>\"\",'Step 1 -- Commenter information'!$B$4,\"\")","v":""},{"$f":"IF($A249<>\"\",'Step 1 -- Commenter information'!$B$5,\"\")","v":""}]
[null,null,null,null,null,null,null,{"$f":"IF($A250<>\"\",'Step 1 -- Commenter information'!$B$2,\"\")","v":""},{"$f":"IF($A250<>\"\",'Step 1 -- Commenter information'!$B$3,\"\")","v":""},{"$f":"IF($A250<>\"\",'Step 1 -- Commenter information'!$B$4,\"\")","v":""},{"$f":"IF($A250<>\"\",'Step 1 -- Commenter information'!$B$5,\"\")","v":""}]
[null,null,null,null,null,null,null,{"$f":"IF($A251<>\"\",'Step 1 -- Commenter information'!$B$2,\"\")","v":""},{"$f":"IF($A251<>\"\",'Step 1 -- Commenter information'!$B$3,\"\")","v":""},{"$f":"IF($A251<>\"\",'Step 1 -- Commenter information'!$B$4,\"\")","v":""},{"$f":"IF($A251<>\"\",'Step 1 -- Commenter information'!$B$5,\"\")","v":""}]
[null,null,null,null,null,null,null,{"$f":"IF($A252<>\"\",'Step 1 -- Commenter information'!$B$2,\"\")","v":""},{"$f":"IF($A252<>\"\",'Step 1 -- Commenter information'!$B$3,\"\")","v":""},{"$f":"IF($A252<>\"\",'Step 1 -- Commenter information'!$B$4,\"\")","v":""},{"$f":"IF($A252<>\"\",'Step 1 -- Commenter information'!$B$5,\"\")","v":""}]
[null,null,null,null,null,null,null,{"$f":"IF($A253<>\"\",'Step 1 -- Commenter information'!$B$2,\"\")","v":""},{"$f":"IF($A253<>\"\",'Step 1 -- Commenter information'!$B$3,\"\")","v":""},{"$f":"IF($A253<>\"\",'Step 1 -- Commenter information'!$B$4,\"\")","v":""},{"$f":"IF($A253<>\"\",'Step 1 -- Commenter information'!$B$5,\"\")","v":""}]
[null,null,null,null,null,null,null,{"$f":"IF($A254<>\"\",'Step 1 -- Commenter information'!$B$2,\"\")","v":""},{"$f":"IF($A254<>\"\",'Step 1 -- Commenter information'!$B$3,\"\")","v":""},{"$f":"IF($A254<>\"\",'Step 1 -- Commenter information'!$B$4,\"\")","v":""},{"$f":"IF($A254<>\"\",'Step 1 -- Commenter information'!$B$5,\"\")","v":""}]
[null,null,null,null,null,null,null,{"$f":"IF($A255<>\"\",'Step 1 -- Commenter information'!$B$2,\"\")","v":""},{"$f":"IF($A255<>\"\",'Step 1 -- Commenter information'!$B$3,\"\")","v":""},{"$f":"IF($A255<>\"\",'Step 1 -- Commenter information'!$B$4,\"\")","v":""},{"$f":"IF($A255<>\"\",'Step 1 -- Commenter information'!$B$5,\"\")","v":""}]
[null,null,null,null,null,null,null,{"$f":"IF($A256<>\"\",'Step 1 -- Commenter information'!$B$2,\"\")","v":""},{"$f":"IF($A256<>\"\",'Step 1 -- Commenter information'!$B$3,\"\")","v":""},{"$f":"IF($A256<>\"\",'Step 1 -- Commenter information'!$B$4,\"\")","v":""},{"$f":"IF($A256<>\"\",'Step 1 -- Commenter information'!$B$5,\"\")","v":""}]
[null,null,null,null,null,null,null,{"$f":"IF($A257<>\"\",'Step 1 -- Commenter information'!$B$2,\"\")","v":""},{"$f":"IF($A257<>\"\",'Step 1 -- Commenter information'!$B$3,\"\")","v":""},{"$f":"IF($A257<>\"\",'Step 1 -- Commenter information'!$B$4,\"\")","v":""},{"$f":"IF($A257<>\"\",'Step 1 -- Commenter information'!$B$5,\"\")","v":""}]
[null,null,null,null,null,null,null,{"$f":"IF($A258<>\"\",'Step 1 -- Commenter information'!$B$2,\"\")","v":""},{"$f":"IF($A258<>\"\",'Step 1 -- Commenter information'!$B$3,\"\")","v":""},{"$f":"IF($A258<>\"\",'Step 1 -- Commenter information'!$B$4,\"\")","v":""},{"$f":"IF($A258<>\"\",'Step 1 -- Commenter information'!$B$5,\"\")","v":""}]
[null,null,null,null,null,null,null,{"$f":"IF($A259<>\"\",'Step 1 -- Commenter information'!$B$2,\"\")","v":""},{"$f":"IF($A259<>\"\",'Step 1 -- Commenter information'!$B$3,\"\")","v":""},{"$f":"IF($A259<>\"\",'Step 1 -- Commenter information'!$B$4,\"\")","v":""},{"$f":"IF($A259<>\"\",'Step 1 -- Commenter information'!$B$5,\"\")","v":""}]
[null,null,null,null,null,null,null,{"$f":"IF($A260<>\"\",'Step 1 -- Commenter information'!$B$2,\"\")","v":""},{"$f":"IF($A260<>\"\",'Step 1 -- Commenter information'!$B$3,\"\")","v":""},{"$f":"IF($A260<>\"\",'Step 1 -- Commenter information'!$B$4,\"\")","v":""},{"$f":"IF($A260<>\"\",'Step 1 -- Commenter information'!$B$5,\"\")","v":""}]
[null,null,null,null,null,null,null,{"$f":"IF($A261<>\"\",'Step 1 -- Commenter information'!$B$2,\"\")","v":""},{"$f":"IF($A261<>\"\",'Step 1 -- Commenter information'!$B$3,\"\")","v":""},{"$f":"IF($A261<>\"\",'Step 1 -- Commenter information'!$B$4,\"\")","v":""},{"$f":"IF($A261<>\"\",'Step 1 -- Commenter information'!$B$5,\"\")","v":""}]
[null,null,null,null,null,null,null,{"$f":"IF($A262<>\"\",'Step 1 -- Commenter information'!$B$2,\"\")","v":""},{"$f":"IF($A262<>\"\",'Step 1 -- Commenter information'!$B$3,\"\")","v":""},{"$f":"IF($A262<>\"\",'Step 1 -- Commenter information'!$B$4,\"\")","v":""},{"$f":"IF($A262<>\"\",'Step 1 -- Commenter information'!$B$5,\"\")","v":""}]
[null,null,null,null,null,null,null,{"$f":"IF($A263<>\"\",'Step 1 -- Commenter information'!$B$2,\"\")","v":""},{"$f":"IF($A263<>\"\",'Step 1 -- Commenter information'!$B$3,\"\")","v":""},{"$f":"IF($A263<>\"\",'Step 1 -- Commenter information'!$B$4,\"\")","v":""},{"$f":"IF($A263<>\"\",'Step 1 -- Commenter information'!$B$5,\"\")","v":""}]
[null,null,null,null,null,null,null,{"$f":"IF($A264<>\"\",'Step 1 -- Commenter information'!$B$2,\"\")","v":""},{"$f":"IF($A264<>\"\",'Step 1 -- Commenter information'!$B$3,\"\")","v":""},{"$f":"IF($A264<>\"\",'Step 1 -- Commenter information'!$B$4,\"\")","v":""},{"$f":"IF($A264<>\"\",'Step 1 -- Commenter information'!$B$5,\"\")","v":""}]
[null,null,null,null,null,null,null,{"$f":"IF($A265<>\"\",'Step 1 -- Commenter information'!$B$2,\"\")","v":""},{"$f":"IF($A265<>\"\",'Step 1 -- Commenter information'!$B$3,\"\")","v":""},{"$f":"IF($A265<>\"\",'Step 1 -- Commenter information'!$B$4,\"\")","v":""},{"$f":"IF($A265<>\"\",'Step 1 -- Commenter information'!$B$5,\"\")","v":""}]
[null,null,null,null,null,null,null,{"$f":"IF($A266<>\"\",'Step 1 -- Commenter information'!$B$2,\"\")","v":""},{"$f":"IF($A266<>\"\",'Step 1 -- Commenter information'!$B$3,\"\")","v":""},{"$f":"IF($A266<>\"\",'Step 1 -- Commenter information'!$B$4,\"\")","v":""},{"$f":"IF($A266<>\"\",'Step 1 -- Commenter information'!$B$5,\"\")","v":""}]
[null,null,null,null,null,null,null,{"$f":"IF($A267<>\"\",'Step 1 -- Commenter information'!$B$2,\"\")","v":""},{"$f":"IF($A267<>\"\",'Step 1 -- Commenter information'!$B$3,\"\")","v":""},{"$f":"IF($A267<>\"\",'Step 1 -- Commenter information'!$B$4,\"\")","v":""},{"$f":"IF($A267<>\"\",'Step 1 -- Commenter information'!$B$5,\"\")","v":""}]
[null,null,null,null,null,null,null,{"$f":"IF($A268<>\"\",'Step 1 -- Commenter information'!$B$2,\"\")","v":""},{"$f":"IF($A268<>\"\",'Step 1 -- Commenter information'!$B$3,\"\")","v":""},{"$f":"IF($A268<>\"\",'Step 1 -- Commenter information'!$B$4,\"\")","v":""},{"$f":"IF($A268<>\"\",'Step 1 -- Commenter information'!$B$5,\"\")","v":""}]
[null,null,null,null,null,null,null,{"$f":"IF($A269<>\"\",'Step 1 -- Commenter information'!$B$2,\"\")","v":""},{"$f":"IF($A269<>\"\",'Step 1 -- Commenter information'!$B$3,\"\")","v":""},{"$f":"IF($A269<>\"\",'Step 1 -- Commenter information'!$B$4,\"\")","v":""},{"$f":"IF($A269<>\"\",'Step 1 -- Commenter information'!$B$5,\"\")","v":""}]
[null,null,null,null,null,null,null,{"$f":"IF($A270<>\"\",'Step 1 -- Commenter information'!$B$2,\"\")","v":""},{"$f":"IF($A270<>\"\",'Step 1 -- Commenter information'!$B$3,\"\")","v":""},{"$f":"IF($A270<>\"\",'Step 1 -- Commenter information'!$B$4,\"\")","v":""},{"$f":"IF($A270<>\"\",'Step 1 -- Commenter information'!$B$5,\"\")","v":""}]
[null,null,null,null,null,null,null,{"$f":"IF($A271<>\"\",'Step 1 -- Commenter information'!$B$2,\"\")","v":""},{"$f":"IF($A271<>\"\",'Step 1 -- Commenter information'!$B$3,\"\")","v":""},{"$f":"IF($A271<>\"\",'Step 1 -- Commenter information'!$B$4,\"\")","v":""},{"$f":"IF($A271<>\"\",'Step 1 -- Commenter information'!$B$5,\"\")","v":""}]
[null,null,null,null,null,null,null,{"$f":"IF($A272<>\"\",'Step 1 -- Commenter information'!$B$2,\"\")","v":""},{"$f":"IF($A272<>\"\",'Step 1 -- Commenter information'!$B$3,\"\")","v":""},{"$f":"IF($A272<>\"\",'Step 1 -- Commenter information'!$B$4,\"\")","v":""},{"$f":"IF($A272<>\"\",'Step 1 -- Commenter information'!$B$5,\"\")","v":""}]
[null,null,null,null,null,null,null,{"$f":"IF($A273<>\"\",'Step 1 -- Commenter information'!$B$2,\"\")","v":""},{"$f":"IF($A273<>\"\",'Step 1 -- Commenter information'!$B$3,\"\")","v":""},{"$f":"IF($A273<>\"\",'Step 1 -- Commenter information'!$B$4,\"\")","v":""},{"$f":"IF($A273<>\"\",'Step 1 -- Commenter information'!$B$5,\"\")","v":""}]
[null,null,null,null,null,null,null,{"$f":"IF($A274<>\"\",'Step 1 -- Commenter information'!$B$2,\"\")","v":""},{"$f":"IF($A274<>\"\",'Step 1 -- Commenter information'!$B$3,\"\")","v":""},{"$f":"IF($A274<>\"\",'Step 1 -- Commenter information'!$B$4,\"\")","v":""},{"$f":"IF($A274<>\"\",'Step 1 -- Commenter information'!$B$5,\"\")","v":""}]
[null,null,null,null,null,null,null,{"$f":"IF($A275<>\"\",'Step 1 -- Commenter information'!$B$2,\"\")","v":""},{"$f":"IF($A275<>\"\",'Step 1 -- Commenter information'!$B$3,\"\")","v":""},{"$f":"IF($A275<>\"\",'Step 1 -- Commenter information'!$B$4,\"\")","v":""},{"$f":"IF($A275<>\"\",'Step 1 -- Commenter information'!$B$5,\"\")","v":""}]
[null,null,null,null,null,null,null,{"$f":"IF($A276<>\"\",'Step 1 -- Commenter information'!$B$2,\"\")","v":""},{"$f":"IF($A276<>\"\",'Step 1 -- Commenter information'!$B$3,\"\")","v":""},{"$f":"IF($A276<>\"\",'Step 1 -- Commenter information'!$B$4,\"\")","v":""},{"$f":"IF($A276<>\"\",'Step 1 -- Commenter information'!$B$5,\"\")","v":""}]
[null,null,null,null,null,null,null,{"$f":"IF($A277<>\"\",'Step 1 -- Commenter information'!$B$2,\"\")","v":""},{"$f":"IF($A277<>\"\",'Step 1 -- Commenter information'!$B$3,\"\")","v":""},{"$f":"IF($A277<>\"\",'Step 1 -- Commenter information'!$B$4,\"\")","v":""},{"$f":"IF($A277<>\"\",'Step 1 -- Commenter information'!$B$5,\"\")","v":""}]
[null,null,null,null,null,null,null,{"$f":"IF($A278<>\"\",'Step 1 -- Commenter information'!$B$2,\"\")","v":""},{"$f":"IF($A278<>\"\",'Step 1 -- Commenter information'!$B$3,\"\")","v":""},{"$f":"IF($A278<>\"\",'Step 1 -- Commenter information'!$B$4,\"\")","v":""},{"$f":"IF($A278<>\"\",'Step 1 -- Commenter information'!$B$5,\"\")","v":""}]
[null,null,null,null,null,null,null,{"$f":"IF($A279<>\"\",'Step 1 -- Commenter information'!$B$2,\"\")","v":""},{"$f":"IF($A279<>\"\",'Step 1 -- Commenter information'!$B$3,\"\")","v":""},{"$f":"IF($A279<>\"\",'Step 1 -- Commenter information'!$B$4,\"\")","v":""},{"$f":"IF($A279<>\"\",'Step 1 -- Commenter information'!$B$5,\"\")","v":""}]
[null,null,null,null,null,null,null,{"$f":"IF($A280<>\"\",'Step 1 -- Commenter information'!$B$2,\"\")","v":""},{"$f":"IF($A280<>\"\",'Step 1 -- Commenter information'!$B$3,\"\")","v":""},{"$f":"IF($A280<>\"\",'Step 1 -- Commenter information'!$B$4,\"\")","v":""},{"$f":"IF($A280<>\"\",'Step 1 -- Commenter information'!$B$5,\"\")","v":""}]
[null,null,null,null,null,null,null,{"$f":"IF($A281<>\"\",'Step 1 -- Commenter information'!$B$2,\"\")","v":""},{"$f":"IF($A281<>\"\",'Step 1 -- Commenter information'!$B$3,\"\")","v":""},{"$f":"IF($A281<>\"\",'Step 1 -- Commenter information'!$B$4,\"\")","v":""},{"$f":"IF($A281<>\"\",'Step 1 -- Commenter information'!$B$5,\"\")","v":""}]
[null,null,null,null,null,null,null,{"$f":"IF($A282<>\"\",'Step 1 -- Commenter information'!$B$2,\"\")","v":""},{"$f":"IF($A282<>\"\",'Step 1 -- Commenter information'!$B$3,\"\")","v":""},{"$f":"IF($A282<>\"\",'Step 1 -- Commenter information'!$B$4,\"\")","v":""},{"$f":"IF($A282<>\"\",'Step 1 -- Commenter information'!$B$5,\"\")","v":""}]
[null,null,null,null,null,null,null,{"$f":"IF($A283<>\"\",'Step 1 -- Commenter information'!$B$2,\"\")","v":""},{"$f":"IF($A283<>\"\",'Step 1 -- Commenter information'!$B$3,\"\")","v":""},{"$f":"IF($A283<>\"\",'Step 1 -- Commenter information'!$B$4,\"\")","v":""},{"$f":"IF($A283<>\"\",'Step 1 -- Commenter information'!$B$5,\"\")","v":""}]
[null,null,null,null,null,null,null,{"$f":"IF($A284<>\"\",'Step 1 -- Commenter information'!$B$2,\"\")","v":""},{"$f":"IF($A284<>\"\",'Step 1 -- Commenter information'!$B$3,\"\")","v":""},{"$f":"IF($A284<>\"\",'Step 1 -- Commenter information'!$B$4,\"\")","v":""},{"$f":"IF($A284<>\"\",'Step 1 -- Commenter information'!$B$5,\"\")","v":""}]
[null,null,null,null,null,null,null,{"$f":"IF($A285<>\"\",'Step 1 -- Commenter information'!$B$2,\"\")","v":""},{"$f":"IF($A285<>\"\",'Step 1 -- Commenter information'!$B$3,\"\")","v":""},{"$f":"IF($A285<>\"\",'Step 1 -- Commenter information'!$B$4,\"\")","v":""},{"$f":"IF($A285<>\"\",'Step 1 -- Commenter information'!$B$5,\"\")","v":""}]
[null,null,null,null,null,null,null,{"$f":"IF($A286<>\"\",'Step 1 -- Commenter information'!$B$2,\"\")","v":""},{"$f":"IF($A286<>\"\",'Step 1 -- Commenter information'!$B$3,\"\")","v":""},{"$f":"IF($A286<>\"\",'Step 1 -- Commenter information'!$B$4,\"\")","v":""},{"$f":"IF($A286<>\"\",'Step 1 -- Commenter information'!$B$5,\"\")","v":""}]
[null,null,null,null,null,null,null,{"$f":"IF($A287<>\"\",'Step 1 -- Commenter information'!$B$2,\"\")","v":""},{"$f":"IF($A287<>\"\",'Step 1 -- Commenter information'!$B$3,\"\")","v":""},{"$f":"IF($A287<>\"\",'Step 1 -- Commenter information'!$B$4,\"\")","v":""},{"$f":"IF($A287<>\"\",'Step 1 -- Commenter information'!$B$5,\"\")","v":""}]
[null,null,null,null,null,null,null,{"$f":"IF($A288<>\"\",'Step 1 -- Commenter information'!$B$2,\"\")","v":""},{"$f":"IF($A288<>\"\",'Step 1 -- Commenter information'!$B$3,\"\")","v":""},{"$f":"IF($A288<>\"\",'Step 1 -- Commenter information'!$B$4,\"\")","v":""},{"$f":"IF($A288<>\"\",'Step 1 -- Commenter information'!$B$5,\"\")","v":""}]
[null,null,null,null,null,null,null,{"$f":"IF($A289<>\"\",'Step 1 -- Commenter information'!$B$2,\"\")","v":""},{"$f":"IF($A289<>\"\",'Step 1 -- Commenter information'!$B$3,\"\")","v":""},{"$f":"IF($A289<>\"\",'Step 1 -- Commenter information'!$B$4,\"\")","v":""},{"$f":"IF($A289<>\"\",'Step 1 -- Commenter information'!$B$5,\"\")","v":""}]
[null,null,null,null,null,null,null,{"$f":"IF($A290<>\"\",'Step 1 -- Commenter information'!$B$2,\"\")","v":""},{"$f":"IF($A290<>\"\",'Step 1 -- Commenter information'!$B$3,\"\")","v":""},{"$f":"IF($A290<>\"\",'Step 1 -- Commenter information'!$B$4,\"\")","v":""},{"$f":"IF($A290<>\"\",'Step 1 -- Commenter information'!$B$5,\"\")","v":""}]
[null,null,null,null,null,null,null,{"$f":"IF($A291<>\"\",'Step 1 -- Commenter information'!$B$2,\"\")","v":""},{"$f":"IF($A291<>\"\",'Step 1 -- Commenter information'!$B$3,\"\")","v":""},{"$f":"IF($A291<>\"\",'Step 1 -- Commenter information'!$B$4,\"\")","v":""},{"$f":"IF($A291<>\"\",'Step 1 -- Commenter information'!$B$5,\"\")","v":""}]
[null,null,null,null,null,null,null,{"$f":"IF($A292<>\"\",'Step 1 -- Commenter information'!$B$2,\"\")","v":""},{"$f":"IF($A292<>\"\",'Step 1 -- Commenter information'!$B$3,\"\")","v":""},{"$f":"IF($A292<>\"\",'Step 1 -- Commenter information'!$B$4,\"\")","v":""},{"$f":"IF($A292<>\"\",'Step 1 -- Commenter information'!$B$5,\"\")","v":""}]
[null,null,null,null,null,null,null,{"$f":"IF($A293<>\"\",'Step 1 -- Commenter information'!$B$2,\"\")","v":""},{"$f":"IF($A293<>\"\",'Step 1 -- Commenter information'!$B$3,\"\")","v":""},{"$f":"IF($A293<>\"\",'Step 1 -- Commenter information'!$B$4,\"\")","v":""},{"$f":"IF($A293<>\"\",'Step 1 -- Commenter information'!$B$5,\"\")","v":""}]
[null,null,null,null,null,null,null,{"$f":"IF($A294<>\"\",'Step 1 -- Commenter information'!$B$2,\"\")","v":""},{"$f":"IF($A294<>\"\",'Step 1 -- Commenter information'!$B$3,\"\")","v":""},{"$f":"IF($A294<>\"\",'Step 1 -- Commenter information'!$B$4,\"\")","v":""},{"$f":"IF($A294<>\"\",'Step 1 -- Commenter information'!$B$5,\"\")","v":""}]
[null,null,null,null,null,null,null,{"$f":"IF($A295<>\"\",'Step 1 -- Commenter information'!$B$2,\"\")","v":""},{"$f":"IF($A295<>\"\",'Step 1 -- Commenter information'!$B$3,\"\")","v":""},{"$f":"IF($A295<>\"\",'Step 1 -- Commenter information'!$B$4,\"\")","v":""},{"$f":"IF($A295<>\"\",'Step 1 -- Commenter information'!$B$5,\"\")","v":""}]
[null,null,null,null,null,null,null,{"$f":"IF($A296<>\"\",'Step 1 -- Commenter information'!$B$2,\"\")","v":""},{"$f":"IF($A296<>\"\",'Step 1 -- Commenter information'!$B$3,\"\")","v":""},{"$f":"IF($A296<>\"\",'Step 1 -- Commenter information'!$B$4,\"\")","v":""},{"$f":"IF($A296<>\"\",'Step 1 -- Commenter information'!$B$5,\"\")","v":""}]
[null,null,null,null,null,null,null,{"$f":"IF($A297<>\"\",'Step 1 -- Commenter information'!$B$2,\"\")","v":""},{"$f":"IF($A297<>\"\",'Step 1 -- Commenter information'!$B$3,\"\")","v":""},{"$f":"IF($A297<>\"\",'Step 1 -- Commenter information'!$B$4,\"\")","v":""},{"$f":"IF($A297<>\"\",'Step 1 -- Commenter information'!$B$5,\"\")","v":""}]
[null,null,null,null,null,null,null,{"$f":"IF($A298<>\"\",'Step 1 -- Commenter information'!$B$2,\"\")","v":""},{"$f":"IF($A298<>\"\",'Step 1 -- Commenter information'!$B$3,\"\")","v":""},{"$f":"IF($A298<>\"\",'Step 1 -- Commenter information'!$B$4,\"\")","v":""},{"$f":"IF($A298<>\"\",'Step 1 -- Commenter information'!$B$5,\"\")","v":""}]
[null,null,null,null,null,null,null,{"$f":"IF($A299<>\"\",'Step 1 -- Commenter information'!$B$2,\"\")","v":""},{"$f":"IF($A299<>\"\",'Step 1 -- Commenter information'!$B$3,\"\")","v":""},{"$f":"IF($A299<>\"\",'Step 1 -- Commenter information'!$B$4,\"\")","v":""},{"$f":"IF($A299<>\"\",'Step 1 -- Commenter information'!$B$5,\"\")","v":""}]
[null,null,null,null,null,null,null,{"$f":"IF($A300<>\"\",'Step 1 -- Commenter information'!$B$2,\"\")","v":""},{"$f":"IF($A300<>\"\",'Step 1 -- Commenter information'!$B$3,\"\")","v":""},{"$f":"IF($A300<>\"\",'Step 1 -- Commenter information'!$B$4,\"\")","v":""},{"$f":"IF($A300<>\"\",'Step 1 -- Commenter information'!$B$5,\"\")","v":""}]
[null,null,null,null,null,null,null,{"$f":"IF($A301<>\"\",'Step 1 -- Commenter information'!$B$2,\"\")","v":""},null,{"$f":"IF($A301<>\"\",'Step 1 -- Commenter information'!$B$4,\"\")","v":""},{"$f":"IF($A301<>\"\",'Step 1 -- Commenter information'!$B$5,\"\")","v":""}]
[null,null,null,null,null,null,null,{"$f":"IF($A302<>\"\",'Step 1 -- Commenter information'!$B$2,\"\")","v":""},{"$f":"IF($A302<>\"\",'Step 1 -- Commenter information'!$B$3,\"\")","v":""},{"$f":"IF($A302<>\"\",'Step 1 -- Commenter information'!$B$4,\"\")","v":""},{"$f":"IF($A302<>\"\",'Step 1 -- Commenter information'!$B$5,\"\")","v":""}]
[null,null,null,null,null,null,null,{"$f":"IF($A303<>\"\",'Step 1 -- Commenter information'!$B$2,\"\")","v":""},{"$f":"IF($A303<>\"\",'Step 1 -- Commenter information'!$B$3,\"\")","v":""},{"$f":"IF($A303<>\"\",'Step 1 -- Commenter information'!$B$4,\"\")","v":""},{"$f":"IF($A303<>\"\",'Step 1 -- Commenter information'!$B$5,\"\")","v":""}]
[null,null,null,null,null,null,null,null,{"$f":"IF($A304<>\"\",'Step 1 -- Commenter information'!$B$3,\"\")","v":""},{"$f":"IF($A304<>\"\",'Step 1 -- Commenter information'!$B$4,\"\")","v":""},{"$f":"IF($A304<>\"\",'Step 1 -- Commenter information'!$B$5,\"\")","v":""}]
[null,null,null,null,null,null,null,{"$f":"IF($A305<>\"\",'Step 1 -- Commenter information'!$B$2,\"\")","v":""},{"$f":"IF($A305<>\"\",'Step 1 -- Commenter information'!$B$3,\"\")","v":""},{"$f":"IF($A305<>\"\",'Step 1 -- Commenter information'!$B$4,\"\")","v":""},{"$f":"IF($A305<>\"\",'Step 1 -- Commenter information'!$B$5,\"\")","v":""}]
[null,null,null,null,null,null,null,{"$f":"IF($A306<>\"\",'Step 1 -- Commenter information'!$B$2,\"\")","v":""},{"$f":"IF($A306<>\"\",'Step 1 -- Commenter information'!$B$3,\"\")","v":""},{"$f":"IF($A306<>\"\",'Step 1 -- Commenter information'!$B$4,\"\")","v":""},{"$f":"IF($A306<>\"\",'Step 1 -- Commenter information'!$B$5,\"\")","v":""}]
[null,null,null,null,null,null,null,{"$f":"IF($A307<>\"\",'Step 1 -- Commenter information'!$B$2,\"\")","v":""},{"$f":"IF($A307<>\"\",'Step 1 -- Commenter information'!$B$3,\"\")","v":""},{"$f":"IF($A307<>\"\",'Step 1 -- Commenter information'!$B$4,\"\")","v":""},{"$f":"IF($A307<>\"\",'Step 1 -- Commenter information'!$B$5,\"\")","v":""}]
[null,null,null,null,null,null,null,{"$f":"IF($A308<>\"\",'Step 1 -- Commenter information'!$B$2,\"\")","v":""},{"$f":"IF($A308<>\"\",'Step 1 -- Commenter information'!$B$3,\"\")","v":""},{"$f":"IF($A308<>\"\",'Step 1 -- Commenter information'!$B$4,\"\")","v":""},{"$f":"IF($A308<>\"\",'Step 1 -- Commenter information'!$B$5,\"\")","v":""}]
[null,null,null,null,null,null,null,{"$f":"IF($A309<>\"\",'Step 1 -- Commenter information'!$B$2,\"\")","v":""},{"$f":"IF($A309<>\"\",'Step 1 -- Commenter information'!$B$3,\"\")","v":""},{"$f":"IF($A309<>\"\",'Step 1 -- Commenter information'!$B$4,\"\")","v":""},{"$f":"IF($A309<>\"\",'Step 1 -- Commenter information'!$B$5,\"\")","v":""}]
[null,null,null,null,null,null,null,{"$f":"IF($A310<>\"\",'Step 1 -- Commenter information'!$B$2,\"\")","v":""},{"$f":"IF($A310<>\"\",'Step 1 -- Commenter information'!$B$3,\"\")","v":""},{"$f":"IF($A310<>\"\",'Step 1 -- Commenter information'!$B$4,\"\")","v":""},{"$f":"IF($A310<>\"\",'Step 1 -- Commenter information'!$B$5,\"\")","v":""}]
[null,null,null,null,null,null,null,{"$f":"IF($A311<>\"\",'Step 1 -- Commenter information'!$B$2,\"\")","v":""},{"$f":"IF($A311<>\"\",'Step 1 -- Commenter information'!$B$3,\"\")","v":""},{"$f":"IF($A311<>\"\",'Step 1 -- Commenter information'!$B$4,\"\")","v":""},{"$f":"IF($A311<>\"\",'Step 1 -- Commenter information'!$B$5,\"\")","v":""}]
[null,null,null,null,null,null,null,{"$f":"IF($A312<>\"\",'Step 1 -- Commenter information'!$B$2,\"\")","v":""},{"$f":"IF($A312<>\"\",'Step 1 -- Commenter information'!$B$3,\"\")","v":""},{"$f":"IF($A312<>\"\",'Step 1 -- Commenter information'!$B$4,\"\")","v":""},{"$f":"IF($A312<>\"\",'Step 1 -- Commenter information'!$B$5,\"\")","v":""}]
[null,null,null,null,null,null,null,{"$f":"IF($A313<>\"\",'Step 1 -- Commenter information'!$B$2,\"\")","v":""},{"$f":"IF($A313<>\"\",'Step 1 -- Commenter information'!$B$3,\"\")","v":""},{"$f":"IF($A313<>\"\",'Step 1 -- Commenter information'!$B$4,\"\")","v":""},{"$f":"IF($A313<>\"\",'Step 1 -- Commenter information'!$B$5,\"\")","v":""}]
[null,null,null,null,null,null,null,{"$f":"IF($A314<>\"\",'Step 1 -- Commenter information'!$B$2,\"\")","v":""},{"$f":"IF($A314<>\"\",'Step 1 -- Commenter information'!$B$3,\"\")","v":""},{"$f":"IF($A314<>\"\",'Step 1 -- Commenter information'!$B$4,\"\")","v":""},{"$f":"IF($A314<>\"\",'Step 1 -- Commenter information'!$B$5,\"\")","v":""}]
[null,null,null,null,null,null,null,{"$f":"IF($A315<>\"\",'Step 1 -- Commenter information'!$B$2,\"\")","v":""},{"$f":"IF($A315<>\"\",'Step 1 -- Commenter information'!$B$3,\"\")","v":""},{"$f":"IF($A315<>\"\",'Step 1 -- Commenter information'!$B$4,\"\")","v":""},{"$f":"IF($A315<>\"\",'Step 1 -- Commenter information'!$B$5,\"\")","v":""}]
[null,null,null,null,null,null,null,{"$f":"IF($A316<>\"\",'Step 1 -- Commenter information'!$B$2,\"\")","v":""},{"$f":"IF($A316<>\"\",'Step 1 -- Commenter information'!$B$3,\"\")","v":""},{"$f":"IF($A316<>\"\",'Step 1 -- Commenter information'!$B$4,\"\")","v":""},{"$f":"IF($A316<>\"\",'Step 1 -- Commenter information'!$B$5,\"\")","v":""}]
[null,null,null,null,null,null,null,{"$f":"IF($A317<>\"\",'Step 1 -- Commenter information'!$B$2,\"\")","v":""},{"$f":"IF($A317<>\"\",'Step 1 -- Commenter information'!$B$3,\"\")","v":""},{"$f":"IF($A317<>\"\",'Step 1 -- Commenter information'!$B$4,\"\")","v":""},{"$f":"IF($A317<>\"\",'Step 1 -- Commenter information'!$B$5,\"\")","v":""}]
[null,null,null,null,null,null,null,{"$f":"IF($A318<>\"\",'Step 1 -- Commenter information'!$B$2,\"\")","v":""},{"$f":"IF($A318<>\"\",'Step 1 -- Commenter information'!$B$3,\"\")","v":""},{"$f":"IF($A318<>\"\",'Step 1 -- Commenter information'!$B$4,\"\")","v":""},{"$f":"IF($A318<>\"\",'Step 1 -- Commenter information'!$B$5,\"\")","v":""}]
[null,null,null,null,null,null,null,{"$f":"IF($A319<>\"\",'Step 1 -- Commenter information'!$B$2,\"\")","v":""},{"$f":"IF($A319<>\"\",'Step 1 -- Commenter information'!$B$3,\"\")","v":""},{"$f":"IF($A319<>\"\",'Step 1 -- Commenter information'!$B$4,\"\")","v":""},{"$f":"IF($A319<>\"\",'Step 1 -- Commenter information'!$B$5,\"\")","v":""}]
[null,null,null,null,null,null,null,{"$f":"IF($A320<>\"\",'Step 1 -- Commenter information'!$B$2,\"\")","v":""},{"$f":"IF($A320<>\"\",'Step 1 -- Commenter information'!$B$3,\"\")","v":""},{"$f":"IF($A320<>\"\",'Step 1 -- Commenter information'!$B$4,\"\")","v":""},{"$f":"IF($A320<>\"\",'Step 1 -- Commenter information'!$B$5,\"\")","v":""}]
[null,null,null,null,null,null,null,{"$f":"IF($A321<>\"\",'Step 1 -- Commenter information'!$B$2,\"\")","v":""},{"$f":"IF($A321<>\"\",'Step 1 -- Commenter information'!$B$3,\"\")","v":""},{"$f":"IF($A321<>\"\",'Step 1 -- Commenter information'!$B$4,\"\")","v":""},{"$f":"IF($A321<>\"\",'Step 1 -- Commenter information'!$B$5,\"\")","v":""}]
[null,null,null,null,null,null,null,{"$f":"IF($A322<>\"\",'Step 1 -- Commenter information'!$B$2,\"\")","v":""},{"$f":"IF($A322<>\"\",'Step 1 -- Commenter information'!$B$3,\"\")","v":""},{"$f":"IF($A322<>\"\",'Step 1 -- Commenter information'!$B$4,\"\")","v":""},{"$f":"IF($A322<>\"\",'Step 1 -- Commenter information'!$B$5,\"\")","v":""}]
[null,null,null,null,null,null,null,{"$f":"IF($A323<>\"\",'Step 1 -- Commenter information'!$B$2,\"\")","v":""},{"$f":"IF($A323<>\"\",'Step 1 -- Commenter information'!$B$3,\"\")","v":""},{"$f":"IF($A323<>\"\",'Step 1 -- Commenter information'!$B$4,\"\")","v":""},{"$f":"IF($A323<>\"\",'Step 1 -- Commenter information'!$B$5,\"\")","v":""}]
[null,null,null,null,null,null,null,{"$f":"IF($A324<>\"\",'Step 1 -- Commenter information'!$B$2,\"\")","v":""},{"$f":"IF($A324<>\"\",'Step 1 -- Commenter information'!$B$3,\"\")","v":""},{"$f":"IF($A324<>\"\",'Step 1 -- Commenter information'!$B$4,\"\")","v":""},{"$f":"IF($A324<>\"\",'Step 1 -- Commenter information'!$B$5,\"\")","v":""}]
[null,null,null,null,null,null,null,{"$f":"IF($A325<>\"\",'Step 1 -- Commenter information'!$B$2,\"\")","v":""},{"$f":"IF($A325<>\"\",'Step 1 -- Commenter information'!$B$3,\"\")","v":""},{"$f":"IF($A325<>\"\",'Step 1 -- Commenter information'!$B$4,\"\")","v":""},{"$f":"IF($A325<>\"\",'Step 1 -- Commenter information'!$B$5,\"\")","v":""}]
[null,null,null,null,null,null,null,{"$f":"IF($A326<>\"\",'Step 1 -- Commenter information'!$B$2,\"\")","v":""},{"$f":"IF($A326<>\"\",'Step 1 -- Commenter information'!$B$3,\"\")","v":""},{"$f":"IF($A326<>\"\",'Step 1 -- Commenter information'!$B$4,\"\")","v":""},{"$f":"IF($A326<>\"\",'Step 1 -- Commenter information'!$B$5,\"\")","v":""}]
[null,null,null,null,null,null,null,{"$f":"IF($A327<>\"\",'Step 1 -- Commenter information'!$B$2,\"\")","v":""},{"$f":"IF($A327<>\"\",'Step 1 -- Commenter information'!$B$3,\"\")","v":""},{"$f":"IF($A327<>\"\",'Step 1 -- Commenter information'!$B$4,\"\")","v":""},{"$f":"IF($A327<>\"\",'Step 1 -- Commenter information'!$B$5,\"\")","v":""}]
[null,null,null,null,null,null,null,{"$f":"IF($A328<>\"\",'Step 1 -- Commenter information'!$B$2,\"\")","v":""},{"$f":"IF($A328<>\"\",'Step 1 -- Commenter information'!$B$3,\"\")","v":""},{"$f":"IF($A328<>\"\",'Step 1 -- Commenter information'!$B$4,\"\")","v":""},{"$f":"IF($A328<>\"\",'Step 1 -- Commenter information'!$B$5,\"\")","v":""}]
[null,null,null,null,null,null,null,{"$f":"IF($A329<>\"\",'Step 1 -- Commenter information'!$B$2,\"\")","v":""},{"$f":"IF($A329<>\"\",'Step 1 -- Commenter information'!$B$3,\"\")","v":""},{"$f":"IF($A329<>\"\",'Step 1 -- Commenter information'!$B$4,\"\")","v":""},{"$f":"IF($A329<>\"\",'Step 1 -- Commenter information'!$B$5,\"\")","v":""}]
[null,null,null,null,null,null,null,{"$f":"IF($A330<>\"\",'Step 1 -- Commenter information'!$B$2,\"\")","v":""},{"$f":"IF($A330<>\"\",'Step 1 -- Commenter information'!$B$3,\"\")","v":""},{"$f":"IF($A330<>\"\",'Step 1 -- Commenter information'!$B$4,\"\")","v":""},{"$f":"IF($A330<>\"\",'Step 1 -- Commenter information'!$B$5,\"\")","v":""}]
[null,null,null,null,null,null,null,{"$f":"IF($A331<>\"\",'Step 1 -- Commenter information'!$B$2,\"\")","v":""},{"$f":"IF($A331<>\"\",'Step 1 -- Commenter information'!$B$3,\"\")","v":""},{"$f":"IF($A331<>\"\",'Step 1 -- Commenter information'!$B$4,\"\")","v":""},{"$f":"IF($A331<>\"\",'Step 1 -- Commenter information'!$B$5,\"\")","v":""}]
[null,null,null,null,null,null,null,{"$f":"IF($A332<>\"\",'Step 1 -- Commenter information'!$B$2,\"\")","v":""},{"$f":"IF($A332<>\"\",'Step 1 -- Commenter information'!$B$3,\"\")","v":""},{"$f":"IF($A332<>\"\",'Step 1 -- Commenter information'!$B$4,\"\")","v":""},{"$f":"IF($A332<>\"\",'Step 1 -- Commenter information'!$B$5,\"\")","v":""}]
[null,null,null,null,null,null,null,{"$f":"IF($A333<>\"\",'Step 1 -- Commenter information'!$B$2,\"\")","v":""},{"$f":"IF($A333<>\"\",'Step 1 -- Commenter information'!$B$3,\"\")","v":""},{"$f":"IF($A333<>\"\",'Step 1 -- Commenter information'!$B$4,\"\")","v":""},{"$f":"IF($A333<>\"\",'Step 1 -- Commenter information'!$B$5,\"\")","v":""}]
[null,null,null,null,null,null,null,{"$f":"IF($A334<>\"\",'Step 1 -- Commenter information'!$B$2,\"\")","v":""},{"$f":"IF($A334<>\"\",'Step 1 -- Commenter information'!$B$3,\"\")","v":""},{"$f":"IF($A334<>\"\",'Step 1 -- Commenter information'!$B$4,\"\")","v":""},{"$f":"IF($A334<>\"\",'Step 1 -- Commenter information'!$B$5,\"\")","v":""}]
[null,null,null,null,null,null,null,{"$f":"IF($A335<>\"\",'Step 1 -- Commenter information'!$B$2,\"\")","v":""},{"$f":"IF($A335<>\"\",'Step 1 -- Commenter information'!$B$3,\"\")","v":""},{"$f":"IF($A335<>\"\",'Step 1 -- Commenter information'!$B$4,\"\")","v":""},{"$f":"IF($A335<>\"\",'Step 1 -- Commenter information'!$B$5,\"\")","v":""}]
[null,null,null,null,null,null,null,{"$f":"IF($A336<>\"\",'Step 1 -- Commenter information'!$B$2,\"\")","v":""},{"$f":"IF($A336<>\"\",'Step 1 -- Commenter information'!$B$3,\"\")","v":""},{"$f":"IF($A336<>\"\",'Step 1 -- Commenter information'!$B$4,\"\")","v":""},{"$f":"IF($A336<>\"\",'Step 1 -- Commenter information'!$B$5,\"\")","v":""}]
[null,null,null,null,null,null,null,{"$f":"IF($A337<>\"\",'Step 1 -- Commenter information'!$B$2,\"\")","v":""},{"$f":"IF($A337<>\"\",'Step 1 -- Commenter information'!$B$3,\"\")","v":""},{"$f":"IF($A337<>\"\",'Step 1 -- Commenter information'!$B$4,\"\")","v":""},{"$f":"IF($A337<>\"\",'Step 1 -- Commenter information'!$B$5,\"\")","v":""}]
[null,null,null,null,null,null,null,{"$f":"IF($A338<>\"\",'Step 1 -- Commenter information'!$B$2,\"\")","v":""},{"$f":"IF($A338<>\"\",'Step 1 -- Commenter information'!$B$3,\"\")","v":""},{"$f":"IF($A338<>\"\",'Step 1 -- Commenter information'!$B$4,\"\")","v":""},{"$f":"IF($A338<>\"\",'Step 1 -- Commenter information'!$B$5,\"\")","v":""}]
[null,null,null,null,null,null,null,{"$f":"IF($A339<>\"\",'Step 1 -- Commenter information'!$B$2,\"\")","v":""},{"$f":"IF($A339<>\"\",'Step 1 -- Commenter information'!$B$3,\"\")","v":""},{"$f":"IF($A339<>\"\",'Step 1 -- Commenter information'!$B$4,\"\")","v":""},{"$f":"IF($A339<>\"\",'Step 1 -- Commenter information'!$B$5,\"\")","v":""}]
[null,null,null,null,null,null,null,{"$f":"IF($A340<>\"\",'Step 1 -- Commenter information'!$B$2,\"\")","v":""},{"$f":"IF($A340<>\"\",'Step 1 -- Commenter information'!$B$3,\"\")","v":""},{"$f":"IF($A340<>\"\",'Step 1 -- Commenter information'!$B$4,\"\")","v":""},{"$f":"IF($A340<>\"\",'Step 1 -- Commenter information'!$B$5,\"\")","v":""}]
[null,null,null,null,null,null,null,{"$f":"IF($A341<>\"\",'Step 1 -- Commenter information'!$B$2,\"\")","v":""},{"$f":"IF($A341<>\"\",'Step 1 -- Commenter information'!$B$3,\"\")","v":""},{"$f":"IF($A341<>\"\",'Step 1 -- Commenter information'!$B$4,\"\")","v":""},{"$f":"IF($A341<>\"\",'Step 1 -- Commenter information'!$B$5,\"\")","v":""}]
[null,null,null,null,null,null,null,{"$f":"IF($A342<>\"\",'Step 1 -- Commenter information'!$B$2,\"\")","v":""},{"$f":"IF($A342<>\"\",'Step 1 -- Commenter information'!$B$3,\"\")","v":""},{"$f":"IF($A342<>\"\",'Step 1 -- Commenter information'!$B$4,\"\")","v":""},{"$f":"IF($A342<>\"\",'Step 1 -- Commenter information'!$B$5,\"\")","v":""}]
[null,null,null,null,null,null,null,{"$f":"IF($A343<>\"\",'Step 1 -- Commenter information'!$B$2,\"\")","v":""},{"$f":"IF($A343<>\"\",'Step 1 -- Commenter information'!$B$3,\"\")","v":""},{"$f":"IF($A343<>\"\",'Step 1 -- Commenter information'!$B$4,\"\")","v":""},{"$f":"IF($A343<>\"\",'Step 1 -- Commenter information'!$B$5,\"\")","v":""}]
[null,null,null,null,null,null,null,{"$f":"IF($A344<>\"\",'Step 1 -- Commenter information'!$B$2,\"\")","v":""},{"$f":"IF($A344<>\"\",'Step 1 -- Commenter information'!$B$3,\"\")","v":""},{"$f":"IF($A344<>\"\",'Step 1 -- Commenter information'!$B$4,\"\")","v":""},{"$f":"IF($A344<>\"\",'Step 1 -- Commenter information'!$B$5,\"\")","v":""}]
[null,null,null,null,null,null,null,{"$f":"IF($A345<>\"\",'Step 1 -- Commenter information'!$B$2,\"\")","v":""},{"$f":"IF($A345<>\"\",'Step 1 -- Commenter information'!$B$3,\"\")","v":""},{"$f":"IF($A345<>\"\",'Step 1 -- Commenter information'!$B$4,\"\")","v":""},{"$f":"IF($A345<>\"\",'Step 1 -- Commenter information'!$B$5,\"\")","v":""}]
[null,null,null,null,null,null,null,{"$f":"IF($A346<>\"\",'Step 1 -- Commenter information'!$B$2,\"\")","v":""},{"$f":"IF($A346<>\"\",'Step 1 -- Commenter information'!$B$3,\"\")","v":""},{"$f":"IF($A346<>\"\",'Step 1 -- Commenter information'!$B$4,\"\")","v":""},{"$f":"IF($A346<>\"\",'Step 1 -- Commenter information'!$B$5,\"\")","v":""}]
[null,null,null,null,null,null,null,{"$f":"IF($A347<>\"\",'Step 1 -- Commenter information'!$B$2,\"\")","v":""},{"$f":"IF($A347<>\"\",'Step 1 -- Commenter information'!$B$3,\"\")","v":""},{"$f":"IF($A347<>\"\",'Step 1 -- Commenter information'!$B$4,\"\")","v":""},{"$f":"IF($A347<>\"\",'Step 1 -- Commenter information'!$B$5,\"\")","v":""}]
[null,null,null,null,null,null,null,{"$f":"IF($A348<>\"\",'Step 1 -- Commenter information'!$B$2,\"\")","v":""},{"$f":"IF($A348<>\"\",'Step 1 -- Commenter information'!$B$3,\"\")","v":""},{"$f":"IF($A348<>\"\",'Step 1 -- Commenter information'!$B$4,\"\")","v":""},{"$f":"IF($A348<>\"\",'Step 1 -- Commenter information'!$B$5,\"\")","v":""}]
[null,null,null,null,null,null,null,{"$f":"IF($A349<>\"\",'Step 1 -- Commenter information'!$B$2,\"\")","v":""},{"$f":"IF($A349<>\"\",'Step 1 -- Commenter information'!$B$3,\"\")","v":""},{"$f":"IF($A349<>\"\",'Step 1 -- Commenter information'!$B$4,\"\")","v":""},{"$f":"IF($A349<>\"\",'Step 1 -- Commenter information'!$B$5,\"\")","v":""}]
[null,null,null,null,null,null,null,{"$f":"IF($A350<>\"\",'Step 1 -- Commenter information'!$B$2,\"\")","v":""},{"$f":"IF($A350<>\"\",'Step 1 -- Commenter information'!$B$3,\"\")","v":""},{"$f":"IF($A350<>\"\",'Step 1 -- Commenter information'!$B$4,\"\")","v":""},{"$f":"IF($A350<>\"\",'Step 1 -- Commenter information'!$B$5,\"\")","v":""}]
[null,null,null,null,null,null,null,{"$f":"IF($A351<>\"\",'Step 1 -- Commenter information'!$B$2,\"\")","v":""},{"$f":"IF($A351<>\"\",'Step 1 -- Commenter information'!$B$3,\"\")","v":""},{"$f":"IF($A351<>\"\",'Step 1 -- Commenter information'!$B$4,\"\")","v":""},{"$f":"IF($A351<>\"\",'Step 1 -- Commenter information'!$B$5,\"\")","v":""}]
[null,null,null,null,null,null,null,{"$f":"IF($A352<>\"\",'Step 1 -- Commenter information'!$B$2,\"\")","v":""},{"$f":"IF($A352<>\"\",'Step 1 -- Commenter information'!$B$3,\"\")","v":""},{"$f":"IF($A352<>\"\",'Step 1 -- Commenter information'!$B$4,\"\")","v":""},{"$f":"IF($A352<>\"\",'Step 1 -- Commenter information'!$B$5,\"\")","v":""}]
[null,null,null,null,null,null,null,{"$f":"IF($A353<>\"\",'Step 1 -- Commenter information'!$B$2,\"\")","v":""},{"$f":"IF($A353<>\"\",'Step 1 -- Commenter information'!$B$3,\"\")","v":""},{"$f":"IF($A353<>\"\",'Step 1 -- Commenter information'!$B$4,\"\")","v":""},{"$f":"IF($A353<>\"\",'Step 1 -- Commenter information'!$B$5,\"\")","v":""}]
[null,null,null,null,null,null,null,{"$f":"IF($A354<>\"\",'Step 1 -- Commenter information'!$B$2,\"\")","v":""},{"$f":"IF($A354<>\"\",'Step 1 -- Commenter information'!$B$3,\"\")","v":""},{"$f":"IF($A354<>\"\",'Step 1 -- Commenter information'!$B$4,\"\")","v":""},{"$f":"IF($A354<>\"\",'Step 1 -- Commenter information'!$B$5,\"\")","v":""}]
[null,null,null,null,null,null,null,{"$f":"IF($A355<>\"\",'Step 1 -- Commenter information'!$B$2,\"\")","v":""},{"$f":"IF($A355<>\"\",'Step 1 -- Commenter information'!$B$3,\"\")","v":""},{"$f":"IF($A355<>\"\",'Step 1 -- Commenter information'!$B$4,\"\")","v":""},{"$f":"IF($A355<>\"\",'Step 1 -- Commenter information'!$B$5,\"\")","v":""}]
[null,null,null,null,null,null,null,{"$f":"IF($A356<>\"\",'Step 1 -- Commenter information'!$B$2,\"\")","v":""},{"$f":"IF($A356<>\"\",'Step 1 -- Commenter information'!$B$3,\"\")","v":""},{"$f":"IF($A356<>\"\",'Step 1 -- Commenter information'!$B$4,\"\")","v":""},{"$f":"IF($A356<>\"\",'Step 1 -- Commenter information'!$B$5,\"\")","v":""}]
[null,null,null,null,null,null,null,{"$f":"IF($A357<>\"\",'Step 1 -- Commenter information'!$B$2,\"\")","v":""},{"$f":"IF($A357<>\"\",'Step 1 -- Commenter information'!$B$3,\"\")","v":""},{"$f":"IF($A357<>\"\",'Step 1 -- Commenter information'!$B$4,\"\")","v":""},{"$f":"IF($A357<>\"\",'Step 1 -- Commenter information'!$B$5,\"\")","v":""}]
[null,null,null,null,null,null,null,{"$f":"IF($A358<>\"\",'Step 1 -- Commenter information'!$B$2,\"\")","v":""},{"$f":"IF($A358<>\"\",'Step 1 -- Commenter information'!$B$3,\"\")","v":""},{"$f":"IF($A358<>\"\",'Step 1 -- Commenter information'!$B$4,\"\")","v":""},{"$f":"IF($A358<>\"\",'Step 1 -- Commenter information'!$B$5,\"\")","v":""}]
[null,null,null,null,null,null,null,{"$f":"IF($A359<>\"\",'Step 1 -- Commenter information'!$B$2,\"\")","v":""},{"$f":"IF($A359<>\"\",'Step 1 -- Commenter information'!$B$3,\"\")","v":""},{"$f":"IF($A359<>\"\",'Step 1 -- Commenter information'!$B$4,\"\")","v":""},{"$f":"IF($A359<>\"\",'Step 1 -- Commenter information'!$B$5,\"\")","v":""}]
[null,null,null,null,null,null,null,{"$f":"IF($A360<>\"\",'Step 1 -- Commenter information'!$B$2,\"\")","v":""},{"$f":"IF($A360<>\"\",'Step 1 -- Commenter information'!$B$3,\"\")","v":""},{"$f":"IF($A360<>\"\",'Step 1 -- Commenter information'!$B$4,\"\")","v":""},{"$f":"IF($A360<>\"\",'Step 1 -- Commenter information'!$B$5,\"\")","v":""}]
[null,null,null,null,null,null,null,{"$f":"IF($A361<>\"\",'Step 1 -- Commenter information'!$B$2,\"\")","v":""},{"$f":"IF($A361<>\"\",'Step 1 -- Commenter information'!$B$3,\"\")","v":""},{"$f":"IF($A361<>\"\",'Step 1 -- Commenter information'!$B$4,\"\")","v":""},{"$f":"IF($A361<>\"\",'Step 1 -- Commenter information'!$B$5,\"\")","v":""}]
[null,null,null,null,null,null,null,{"$f":"IF($A362<>\"\",'Step 1 -- Commenter information'!$B$2,\"\")","v":""},{"$f":"IF($A362<>\"\",'Step 1 -- Commenter information'!$B$3,\"\")","v":""},{"$f":"IF($A362<>\"\",'Step 1 -- Commenter information'!$B$4,\"\")","v":""},{"$f":"IF($A362<>\"\",'Step 1 -- Commenter information'!$B$5,\"\")","v":""}]
[null,null,null,null,null,null,null,{"$f":"IF($A363<>\"\",'Step 1 -- Commenter information'!$B$2,\"\")","v":""},{"$f":"IF($A363<>\"\",'Step 1 -- Commenter information'!$B$3,\"\")","v":""},{"$f":"IF($A363<>\"\",'Step 1 -- Commenter information'!$B$4,\"\")","v":""},{"$f":"IF($A363<>\"\",'Step 1 -- Commenter information'!$B$5,\"\")","v":""}]
[null,null,null,null,null,null,null,{"$f":"IF($A364<>\"\",'Step 1 -- Commenter information'!$B$2,\"\")","v":""},{"$f":"IF($A364<>\"\",'Step 1 -- Commenter information'!$B$3,\"\")","v":""},{"$f":"IF($A364<>\"\",'Step 1 -- Commenter information'!$B$4,\"\")","v":""},{"$f":"IF($A364<>\"\",'Step 1 -- Commenter information'!$B$5,\"\")","v":""}]
[null,null,null,null,null,null,null,{"$f":"IF($A365<>\"\",'Step 1 -- Commenter information'!$B$2,\"\")","v":""},{"$f":"IF($A365<>\"\",'Step 1 -- Commenter information'!$B$3,\"\")","v":""},{"$f":"IF($A365<>\"\",'Step 1 -- Commenter information'!$B$4,\"\")","v":""},{"$f":"IF($A365<>\"\",'Step 1 -- Commenter information'!$B$5,\"\")","v":""}]
[null,null,null,null,null,null,null,{"$f":"IF($A366<>\"\",'Step 1 -- Commenter information'!$B$2,\"\")","v":""},{"$f":"IF($A366<>\"\",'Step 1 -- Commenter information'!$B$3,\"\")","v":""},{"$f":"IF($A366<>\"\",'Step 1 -- Commenter information'!$B$4,\"\")","v":""},{"$f":"IF($A366<>\"\",'Step 1 -- Commenter information'!$B$5,\"\")","v":""}]
[null,null,null,null,null,null,null,{"$f":"IF($A367<>\"\",'Step 1 -- Commenter information'!$B$2,\"\")","v":""},{"$f":"IF($A367<>\"\",'Step 1 -- Commenter information'!$B$3,\"\")","v":""},{"$f":"IF($A367<>\"\",'Step 1 -- Commenter information'!$B$4,\"\")","v":""},{"$f":"IF($A367<>\"\",'Step 1 -- Commenter information'!$B$5,\"\")","v":""}]
[null,null,null,null,null,null,null,{"$f":"IF($A368<>\"\",'Step 1 -- Commenter information'!$B$2,\"\")","v":""},{"$f":"IF($A368<>\"\",'Step 1 -- Commenter information'!$B$3,\"\")","v":""},{"$f":"IF($A368<>\"\",'Step 1 -- Commenter information'!$B$4,\"\")","v":""},{"$f":"IF($A368<>\"\",'Step 1 -- Commenter information'!$B$5,\"\")","v":""}]
[null,null,null,null,null,null,null,{"$f":"IF($A369<>\"\",'Step 1 -- Commenter information'!$B$2,\"\")","v":""},{"$f":"IF($A369<>\"\",'Step 1 -- Commenter information'!$B$3,\"\")","v":""},{"$f":"IF($A369<>\"\",'Step 1 -- Commenter information'!$B$4,\"\")","v":""},{"$f":"IF($A369<>\"\",'Step 1 -- Commenter information'!$B$5,\"\")","v":""}]
[null,null,null,null,null,null,null,{"$f":"IF($A370<>\"\",'Step 1 -- Commenter information'!$B$2,\"\")","v":""},{"$f":"IF($A370<>\"\",'Step 1 -- Commenter information'!$B$3,\"\")","v":""},{"$f":"IF($A370<>\"\",'Step 1 -- Commenter information'!$B$4,\"\")","v":""},{"$f":"IF($A370<>\"\",'Step 1 -- Commenter information'!$B$5,\"\")","v":""}]
[null,null,null,null,null,null,null,{"$f":"IF($A371<>\"\",'Step 1 -- Commenter information'!$B$2,\"\")","v":""},{"$f":"IF($A371<>\"\",'Step 1 -- Commenter information'!$B$3,\"\")","v":""},{"$f":"IF($A371<>\"\",'Step 1 -- Commenter information'!$B$4,\"\")","v":""},{"$f":"IF($A371<>\"\",'Step 1 -- Commenter information'!$B$5,\"\")","v":""}]
[null,null,null,null,null,null,null,{"$f":"IF($A372<>\"\",'Step 1 -- Commenter information'!$B$2,\"\")","v":""},{"$f":"IF($A372<>\"\",'Step 1 -- Commenter information'!$B$3,\"\")","v":""},{"$f":"IF($A372<>\"\",'Step 1 -- Commenter information'!$B$4,\"\")","v":""},{"$f":"IF($A372<>\"\",'Step 1 -- Commenter information'!$B$5,\"\")","v":""}]
[null,null,null,null,null,null,null,{"$f":"IF($A373<>\"\",'Step 1 -- Commenter information'!$B$2,\"\")","v":""},{"$f":"IF($A373<>\"\",'Step 1 -- Commenter information'!$B$3,\"\")","v":""},{"$f":"IF($A373<>\"\",'Step 1 -- Commenter information'!$B$4,\"\")","v":""},{"$f":"IF($A373<>\"\",'Step 1 -- Commenter information'!$B$5,\"\")","v":""}]
[null,null,null,null,null,null,null,{"$f":"IF($A374<>\"\",'Step 1 -- Commenter information'!$B$2,\"\")","v":""},{"$f":"IF($A374<>\"\",'Step 1 -- Commenter information'!$B$3,\"\")","v":""},{"$f":"IF($A374<>\"\",'Step 1 -- Commenter information'!$B$4,\"\")","v":""},{"$f":"IF($A374<>\"\",'Step 1 -- Commenter information'!$B$5,\"\")","v":""}]
[null,null,null,null,null,null,null,{"$f":"IF($A375<>\"\",'Step 1 -- Commenter information'!$B$2,\"\")","v":""},{"$f":"IF($A375<>\"\",'Step 1 -- Commenter information'!$B$3,\"\")","v":""},{"$f":"IF($A375<>\"\",'Step 1 -- Commenter information'!$B$4,\"\")","v":""},{"$f":"IF($A375<>\"\",'Step 1 -- Commenter information'!$B$5,\"\")","v":""}]
[null,null,null,null,null,null,null,{"$f":"IF($A376<>\"\",'Step 1 -- Commenter information'!$B$2,\"\")","v":""},{"$f":"IF($A376<>\"\",'Step 1 -- Commenter information'!$B$3,\"\")","v":""},{"$f":"IF($A376<>\"\",'Step 1 -- Commenter information'!$B$4,\"\")","v":""},{"$f":"IF($A376<>\"\",'Step 1 -- Commenter information'!$B$5,\"\")","v":""}]
[null,null,null,null,null,null,null,{"$f":"IF($A377<>\"\",'Step 1 -- Commenter information'!$B$2,\"\")","v":""},{"$f":"IF($A377<>\"\",'Step 1 -- Commenter information'!$B$3,\"\")","v":""},{"$f":"IF($A377<>\"\",'Step 1 -- Commenter information'!$B$4,\"\")","v":""},{"$f":"IF($A377<>\"\",'Step 1 -- Commenter information'!$B$5,\"\")","v":""}]
[null,null,null,null,null,null,null,{"$f":"IF($A378<>\"\",'Step 1 -- Commenter information'!$B$2,\"\")","v":""},{"$f":"IF($A378<>\"\",'Step 1 -- Commenter information'!$B$3,\"\")","v":""},{"$f":"IF($A378<>\"\",'Step 1 -- Commenter information'!$B$4,\"\")","v":""},{"$f":"IF($A378<>\"\",'Step 1 -- Commenter information'!$B$5,\"\")","v":""}]
[null,null,null,null,null,null,null,{"$f":"IF($A379<>\"\",'Step 1 -- Commenter information'!$B$2,\"\")","v":""},{"$f":"IF($A379<>\"\",'Step 1 -- Commenter information'!$B$3,\"\")","v":""},{"$f":"IF($A379<>\"\",'Step 1 -- Commenter information'!$B$4,\"\")","v":""},{"$f":"IF($A379<>\"\",'Step 1 -- Commenter information'!$B$5,\"\")","v":""}]
[null,null,null,null,null,null,null,{"$f":"IF($A380<>\"\",'Step 1 -- Commenter information'!$B$2,\"\")","v":""},{"$f":"IF($A380<>\"\",'Step 1 -- Commenter information'!$B$3,\"\")","v":""},{"$f":"IF($A380<>\"\",'Step 1 -- Commenter information'!$B$4,\"\")","v":""},{"$f":"IF($A380<>\"\",'Step 1 -- Commenter information'!$B$5,\"\")","v":""}]
[null,null,null,null,null,null,null,{"$f":"IF($A381<>\"\",'Step 1 -- Commenter information'!$B$2,\"\")","v":""},{"$f":"IF($A381<>\"\",'Step 1 -- Commenter information'!$B$3,\"\")","v":""},{"$f":"IF($A381<>\"\",'Step 1 -- Commenter information'!$B$4,\"\")","v":""},{"$f":"IF($A381<>\"\",'Step 1 -- Commenter information'!$B$5,\"\")","v":""}]
[null,null,null,null,null,null,null,{"$f":"IF($A382<>\"\",'Step 1 -- Commenter information'!$B$2,\"\")","v":""},{"$f":"IF($A382<>\"\",'Step 1 -- Commenter information'!$B$3,\"\")","v":""},{"$f":"IF($A382<>\"\",'Step 1 -- Commenter information'!$B$4,\"\")","v":""},{"$f":"IF($A382<>\"\",'Step 1 -- Commenter information'!$B$5,\"\")","v":""}]
[null,null,null,null,null,null,null,{"$f":"IF($A383<>\"\",'Step 1 -- Commenter information'!$B$2,\"\")","v":""},{"$f":"IF($A383<>\"\",'Step 1 -- Commenter information'!$B$3,\"\")","v":""},{"$f":"IF($A383<>\"\",'Step 1 -- Commenter information'!$B$4,\"\")","v":""},{"$f":"IF($A383<>\"\",'Step 1 -- Commenter information'!$B$5,\"\")","v":""}]
[null,null,null,null,null,null,null,{"$f":"IF($A384<>\"\",'Step 1 -- Commenter information'!$B$2,\"\")","v":""},{"$f":"IF($A384<>\"\",'Step 1 -- Commenter information'!$B$3,\"\")","v":""},{"$f":"IF($A384<>\"\",'Step 1 -- Commenter information'!$B$4,\"\")","v":""},{"$f":"IF($A384<>\"\",'Step 1 -- Commenter information'!$B$5,\"\")","v":""}]
[null,null,null,null,null,null,null,{"$f":"IF($A385<>\"\",'Step 1 -- Commenter information'!$B$2,\"\")","v":""},{"$f":"IF($A385<>\"\",'Step 1 -- Commenter information'!$B$3,\"\")","v":""},{"$f":"IF($A385<>\"\",'Step 1 -- Commenter information'!$B$4,\"\")","v":""},{"$f":"IF($A385<>\"\",'Step 1 -- Commenter information'!$B$5,\"\")","v":""}]
[null,null,null,null,null,null,null,{"$f":"IF($A386<>\"\",'Step 1 -- Commenter information'!$B$2,\"\")","v":""},{"$f":"IF($A386<>\"\",'Step 1 -- Commenter information'!$B$3,\"\")","v":""},{"$f":"IF($A386<>\"\",'Step 1 -- Commenter information'!$B$4,\"\")","v":""},{"$f":"IF($A386<>\"\",'Step 1 -- Commenter information'!$B$5,\"\")","v":""}]
[null,null,null,null,null,null,null,{"$f":"IF($A387<>\"\",'Step 1 -- Commenter information'!$B$2,\"\")","v":""},{"$f":"IF($A387<>\"\",'Step 1 -- Commenter information'!$B$3,\"\")","v":""},{"$f":"IF($A387<>\"\",'Step 1 -- Commenter information'!$B$4,\"\")","v":""},{"$f":"IF($A387<>\"\",'Step 1 -- Commenter information'!$B$5,\"\")","v":""}]
[null,null,null,null,null,null,null,{"$f":"IF($A388<>\"\",'Step 1 -- Commenter information'!$B$2,\"\")","v":""},{"$f":"IF($A388<>\"\",'Step 1 -- Commenter information'!$B$3,\"\")","v":""},{"$f":"IF($A388<>\"\",'Step 1 -- Commenter information'!$B$4,\"\")","v":""},{"$f":"IF($A388<>\"\",'Step 1 -- Commenter information'!$B$5,\"\")","v":""}]
[null,null,null,null,null,null,null,{"$f":"IF($A389<>\"\",'Step 1 -- Commenter information'!$B$2,\"\")","v":""},{"$f":"IF($A389<>\"\",'Step 1 -- Commenter information'!$B$3,\"\")","v":""},{"$f":"IF($A389<>\"\",'Step 1 -- Commenter information'!$B$4,\"\")","v":""},{"$f":"IF($A389<>\"\",'Step 1 -- Commenter information'!$B$5,\"\")","v":""}]
[null,null,null,null,null,null,null,{"$f":"IF($A390<>\"\",'Step 1 -- Commenter information'!$B$2,\"\")","v":""},{"$f":"IF($A390<>\"\",'Step 1 -- Commenter information'!$B$3,\"\")","v":""},{"$f":"IF($A390<>\"\",'Step 1 -- Commenter information'!$B$4,\"\")","v":""},{"$f":"IF($A390<>\"\",'Step 1 -- Commenter information'!$B$5,\"\")","v":""}]
[null,null,null,null,null,null,null,{"$f":"IF($A391<>\"\",'Step 1 -- Commenter information'!$B$2,\"\")","v":""},{"$f":"IF($A391<>\"\",'Step 1 -- Commenter information'!$B$3,\"\")","v":""},{"$f":"IF($A391<>\"\",'Step 1 -- Commenter information'!$B$4,\"\")","v":""},{"$f":"IF($A391<>\"\",'Step 1 -- Commenter information'!$B$5,\"\")","v":""}]
[null,null,null,null,null,null,null,{"$f":"IF($A392<>\"\",'Step 1 -- Commenter information'!$B$2,\"\")","v":""},{"$f":"IF($A392<>\"\",'Step 1 -- Commenter information'!$B$3,\"\")","v":""},{"$f":"IF($A392<>\"\",'Step 1 -- Commenter information'!$B$4,\"\")","v":""},{"$f":"IF($A392<>\"\",'Step 1 -- Commenter information'!$B$5,\"\")","v":""}]
[null,null,null,null,null,null,null,{"$f":"IF($A393<>\"\",'Step 1 -- Commenter information'!$B$2,\"\")","v":""},{"$f":"IF($A393<>\"\",'Step 1 -- Commenter information'!$B$3,\"\")","v":""},{"$f":"IF($A393<>\"\",'Step 1 -- Commenter information'!$B$4,\"\")","v":""},{"$f":"IF($A393<>\"\",'Step 1 -- Commenter information'!$B$5,\"\")","v":""}]
[null,null,null,null,null,null,null,{"$f":"IF($A394<>\"\",'Step 1 -- Commenter information'!$B$2,\"\")","v":""},{"$f":"IF($A394<>\"\",'Step 1 -- Commenter information'!$B$3,\"\")","v":""},{"$f":"IF($A394<>\"\",'Step 1 -- Commenter information'!$B$4,\"\")","v":""},{"$f":"IF($A394<>\"\",'Step 1 -- Commenter information'!$B$5,\"\")","v":""}]
[null,null,null,null,null,null,null,{"$f":"IF($A395<>\"\",'Step 1 -- Commenter information'!$B$2,\"\")","v":""},{"$f":"IF($A395<>\"\",'Step 1 -- Commenter information'!$B$3,\"\")","v":""},{"$f":"IF($A395<>\"\",'Step 1 -- Commenter information'!$B$4,\"\")","v":""},{"$f":"IF($A395<>\"\",'Step 1 -- Commenter information'!$B$5,\"\")","v":""}]
[null,null,null,null,null,null,null,{"$f":"IF($A396<>\"\",'Step 1 -- Commenter information'!$B$2,\"\")","v":""},{"$f":"IF($A396<>\"\",'Step 1 -- Commenter information'!$B$3,\"\")","v":""},{"$f":"IF($A396<>\"\",'Step 1 -- Commenter information'!$B$4,\"\")","v":""},{"$f":"IF($A396<>\"\",'Step 1 -- Commenter information'!$B$5,\"\")","v":""}]
[null,null,null,null,null,null,null,{"$f":"IF($A397<>\"\",'Step 1 -- Commenter information'!$B$2,\"\")","v":""},{"$f":"IF($A397<>\"\",'Step 1 -- Commenter information'!$B$3,\"\")","v":""},{"$f":"IF($A397<>\"\",'Step 1 -- Commenter information'!$B$4,\"\")","v":""},{"$f":"IF($A397<>\"\",'Step 1 -- Commenter information'!$B$5,\"\")","v":""}]
[null,null,null,null,null,null,null,{"$f":"IF($A398<>\"\",'Step 1 -- Commenter information'!$B$2,\"\")","v":""},{"$f":"IF($A398<>\"\",'Step 1 -- Commenter information'!$B$3,\"\")","v":""},{"$f":"IF($A398<>\"\",'Step 1 -- Commenter information'!$B$4,\"\")","v":""},{"$f":"IF($A398<>\"\",'Step 1 -- Commenter information'!$B$5,\"\")","v":""}]
[null,null,null,null,null,null,null,{"$f":"IF($A399<>\"\",'Step 1 -- Commenter information'!$B$2,\"\")","v":""},{"$f":"IF($A399<>\"\",'Step 1 -- Commenter information'!$B$3,\"\")","v":""},{"$f":"IF($A399<>\"\",'Step 1 -- Commenter information'!$B$4,\"\")","v":""},{"$f":"IF($A399<>\"\",'Step 1 -- Commenter information'!$B$5,\"\")","v":""}]
[null,null,null,null,null,null,null,{"$f":"IF($A400<>\"\",'Step 1 -- Commenter information'!$B$2,\"\")","v":""},{"$f":"IF($A400<>\"\",'Step 1 -- Commenter information'!$B$3,\"\")","v":""},{"$f":"IF($A400<>\"\",'Step 1 -- Commenter information'!$B$4,\"\")","v":""},{"$f":"IF($A400<>\"\",'Step 1 -- Commenter information'!$B$5,\"\")","v":""}]
[null,null,null,null,null,null,null,{"$f":"IF($A401<>\"\",'Step 1 -- Commenter information'!$B$2,\"\")","v":""},{"$f":"IF($A401<>\"\",'Step 1 -- Commenter information'!$B$3,\"\")","v":""},{"$f":"IF($A401<>\"\",'Step 1 -- Commenter information'!$B$4,\"\")","v":""},{"$f":"IF($A401<>\"\",'Step 1 -- Commenter information'!$B$5,\"\")","v":""}]
[null,null,null,null,null,null,null,{"$f":"IF($A402<>\"\",'Step 1 -- Commenter information'!$B$2,\"\")","v":""},{"$f":"IF($A402<>\"\",'Step 1 -- Commenter information'!$B$3,\"\")","v":""},{"$f":"IF($A402<>\"\",'Step 1 -- Commenter information'!$B$4,\"\")","v":""},{"$f":"IF($A402<>\"\",'Step 1 -- Commenter information'!$B$5,\"\")","v":""}]
[null,null,null,null,null,null,null,{"$f":"IF($A403<>\"\",'Step 1 -- Commenter information'!$B$2,\"\")","v":""},{"$f":"IF($A403<>\"\",'Step 1 -- Commenter information'!$B$3,\"\")","v":""},{"$f":"IF($A403<>\"\",'Step 1 -- Commenter information'!$B$4,\"\")","v":""},{"$f":"IF($A403<>\"\",'Step 1 -- Commenter information'!$B$5,\"\")","v":""}]
[null,null,null,null,null,null,null,{"$f":"IF($A404<>\"\",'Step 1 -- Commenter information'!$B$2,\"\")","v":""},{"$f":"IF($A404<>\"\",'Step 1 -- Commenter information'!$B$3,\"\")","v":""},{"$f":"IF($A404<>\"\",'Step 1 -- Commenter information'!$B$4,\"\")","v":""},{"$f":"IF($A404<>\"\",'Step 1 -- Commenter information'!$B$5,\"\")","v":""}]
[null,null,null,null,null,null,null,{"$f":"IF($A405<>\"\",'Step 1 -- Commenter information'!$B$2,\"\")","v":""},{"$f":"IF($A405<>\"\",'Step 1 -- Commenter information'!$B$3,\"\")","v":""},{"$f":"IF($A405<>\"\",'Step 1 -- Commenter information'!$B$4,\"\")","v":""},{"$f":"IF($A405<>\"\",'Step 1 -- Commenter information'!$B$5,\"\")","v":""}]
[null,null,null,null,null,null,null,{"$f":"IF($A406<>\"\",'Step 1 -- Commenter information'!$B$2,\"\")","v":""},{"$f":"IF($A406<>\"\",'Step 1 -- Commenter information'!$B$3,\"\")","v":""},{"$f":"IF($A406<>\"\",'Step 1 -- Commenter information'!$B$4,\"\")","v":""},{"$f":"IF($A406<>\"\",'Step 1 -- Commenter information'!$B$5,\"\")","v":""}]
[null,null,null,null,null,null,null,{"$f":"IF($A407<>\"\",'Step 1 -- Commenter information'!$B$2,\"\")","v":""},{"$f":"IF($A407<>\"\",'Step 1 -- Commenter information'!$B$3,\"\")","v":""},{"$f":"IF($A407<>\"\",'Step 1 -- Commenter information'!$B$4,\"\")","v":""},{"$f":"IF($A407<>\"\",'Step 1 -- Commenter information'!$B$5,\"\")","v":""}]
[null,null,null,null,null,null,null,{"$f":"IF($A408<>\"\",'Step 1 -- Commenter information'!$B$2,\"\")","v":""},{"$f":"IF($A408<>\"\",'Step 1 -- Commenter information'!$B$3,\"\")","v":""},{"$f":"IF($A408<>\"\",'Step 1 -- Commenter information'!$B$4,\"\")","v":""},{"$f":"IF($A408<>\"\",'Step 1 -- Commenter information'!$B$5,\"\")","v":""}]
[null,null,null,null,null,null,null,{"$f":"IF($A409<>\"\",'Step 1 -- Commenter information'!$B$2,\"\")","v":""},{"$f":"IF($A409<>\"\",'Step 1 -- Commenter information'!$B$3,\"\")","v":""},{"$f":"IF($A409<>\"\",'Step 1 -- Commenter information'!$B$4,\"\")","v":""},{"$f":"IF($A409<>\"\",'Step 1 -- Commenter information'!$B$5,\"\")","v":""}]
[null,null,null,null,null,null,null,{"$f":"IF($A410<>\"\",'Step 1 -- Commenter information'!$B$2,\"\")","v":""},{"$f":"IF($A410<>\"\",'Step 1 -- Commenter information'!$B$3,\"\")","v":""},{"$f":"IF($A410<>\"\",'Step 1 -- Commenter information'!$B$4,\"\")","v":""},{"$f":"IF($A410<>\"\",'Step 1 -- Commenter information'!$B$5,\"\")","v":""}]
[null,null,null,null,null,null,null,{"$f":"IF($A411<>\"\",'Step 1 -- Commenter information'!$B$2,\"\")","v":""},{"$f":"IF($A411<>\"\",'Step 1 -- Commenter information'!$B$3,\"\")","v":""},{"$f":"IF($A411<>\"\",'Step 1 -- Commenter information'!$B$4,\"\")","v":""},{"$f":"IF($A411<>\"\",'Step 1 -- Commenter information'!$B$5,\"\")","v":""}]
[null,null,null,null,null,null,null,{"$f":"IF($A412<>\"\",'Step 1 -- Commenter information'!$B$2,\"\")","v":""},{"$f":"IF($A412<>\"\",'Step 1 -- Commenter information'!$B$3,\"\")","v":""},{"$f":"IF($A412<>\"\",'Step 1 -- Commenter information'!$B$4,\"\")","v":""},{"$f":"IF($A412<>\"\",'Step 1 -- Commenter information'!$B$5,\"\")","v":""}]
[null,null,null,null,null,null,null,{"$f":"IF($A413<>\"\",'Step 1 -- Commenter information'!$B$2,\"\")","v":""},{"$f":"IF($A413<>\"\",'Step 1 -- Commenter information'!$B$3,\"\")","v":""},{"$f":"IF($A413<>\"\",'Step 1 -- Commenter information'!$B$4,\"\")","v":""},{"$f":"IF($A413<>\"\",'Step 1 -- Commenter information'!$B$5,\"\")","v":""}]
[null,null,null,null,null,null,null,{"$f":"IF($A414<>\"\",'Step 1 -- Commenter information'!$B$2,\"\")","v":""},{"$f":"IF($A414<>\"\",'Step 1 -- Commenter information'!$B$3,\"\")","v":""},{"$f":"IF($A414<>\"\",'Step 1 -- Commenter information'!$B$4,\"\")","v":""},{"$f":"IF($A414<>\"\",'Step 1 -- Commenter information'!$B$5,\"\")","v":""}]
[null,null,null,null,null,null,null,{"$f":"IF($A415<>\"\",'Step 1 -- Commenter information'!$B$2,\"\")","v":""},{"$f":"IF($A415<>\"\",'Step 1 -- Commenter information'!$B$3,\"\")","v":""},{"$f":"IF($A415<>\"\",'Step 1 -- Commenter information'!$B$4,\"\")","v":""},{"$f":"IF($A415<>\"\",'Step 1 -- Commenter information'!$B$5,\"\")","v":""}]
[null,null,null,null,null,null,null,{"$f":"IF($A416<>\"\",'Step 1 -- Commenter information'!$B$2,\"\")","v":""},{"$f":"IF($A416<>\"\",'Step 1 -- Commenter information'!$B$3,\"\")","v":""},{"$f":"IF($A416<>\"\",'Step 1 -- Commenter information'!$B$4,\"\")","v":""},{"$f":"IF($A416<>\"\",'Step 1 -- Commenter information'!$B$5,\"\")","v":""}]
[null,null,null,null,null,null,null,{"$f":"IF($A417<>\"\",'Step 1 -- Commenter information'!$B$2,\"\")","v":""},{"$f":"IF($A417<>\"\",'Step 1 -- Commenter information'!$B$3,\"\")","v":""},{"$f":"IF($A417<>\"\",'Step 1 -- Commenter information'!$B$4,\"\")","v":""},{"$f":"IF($A417<>\"\",'Step 1 -- Commenter information'!$B$5,\"\")","v":""}]
[null,null,null,null,null,null,null,{"$f":"IF($A418<>\"\",'Step 1 -- Commenter information'!$B$2,\"\")","v":""},{"$f":"IF($A418<>\"\",'Step 1 -- Commenter information'!$B$3,\"\")","v":""},{"$f":"IF($A418<>\"\",'Step 1 -- Commenter information'!$B$4,\"\")","v":""},{"$f":"IF($A418<>\"\",'Step 1 -- Commenter information'!$B$5,\"\")","v":""}]
[null,null,null,null,null,null,null,{"$f":"IF($A419<>\"\",'Step 1 -- Commenter information'!$B$2,\"\")","v":""},{"$f":"IF($A419<>\"\",'Step 1 -- Commenter information'!$B$3,\"\")","v":""},{"$f":"IF($A419<>\"\",'Step 1 -- Commenter information'!$B$4,\"\")","v":""},{"$f":"IF($A419<>\"\",'Step 1 -- Commenter information'!$B$5,\"\")","v":""}]
[null,null,null,null,null,null,null,{"$f":"IF($A420<>\"\",'Step 1 -- Commenter information'!$B$2,\"\")","v":""},{"$f":"IF($A420<>\"\",'Step 1 -- Commenter information'!$B$3,\"\")","v":""},{"$f":"IF($A420<>\"\",'Step 1 -- Commenter information'!$B$4,\"\")","v":""},{"$f":"IF($A420<>\"\",'Step 1 -- Commenter information'!$B$5,\"\")","v":""}]
[null,null,null,null,null,null,null,{"$f":"IF($A421<>\"\",'Step 1 -- Commenter information'!$B$2,\"\")","v":""},{"$f":"IF($A421<>\"\",'Step 1 -- Commenter information'!$B$3,\"\")","v":""},{"$f":"IF($A421<>\"\",'Step 1 -- Commenter information'!$B$4,\"\")","v":""},{"$f":"IF($A421<>\"\",'Step 1 -- Commenter information'!$B$5,\"\")","v":""}]
[null,null,null,null,null,null,null,{"$f":"IF($A422<>\"\",'Step 1 -- Commenter information'!$B$2,\"\")","v":""},{"$f":"IF($A422<>\"\",'Step 1 -- Commenter information'!$B$3,\"\")","v":""},{"$f":"IF($A422<>\"\",'Step 1 -- Commenter information'!$B$4,\"\")","v":""},{"$f":"IF($A422<>\"\",'Step 1 -- Commenter information'!$B$5,\"\")","v":""}]
[null,null,null,null,null,null,null,{"$f":"IF($A423<>\"\",'Step 1 -- Commenter information'!$B$2,\"\")","v":""},{"$f":"IF($A423<>\"\",'Step 1 -- Commenter information'!$B$3,\"\")","v":""},{"$f":"IF($A423<>\"\",'Step 1 -- Commenter information'!$B$4,\"\")","v":""},{"$f":"IF($A423<>\"\",'Step 1 -- Commenter information'!$B$5,\"\")","v":""}]
[null,null,null,null,null,null,null,{"$f":"IF($A424<>\"\",'Step 1 -- Commenter information'!$B$2,\"\")","v":""},{"$f":"IF($A424<>\"\",'Step 1 -- Commenter information'!$B$3,\"\")","v":""},{"$f":"IF($A424<>\"\",'Step 1 -- Commenter information'!$B$4,\"\")","v":""},{"$f":"IF($A424<>\"\",'Step 1 -- Commenter information'!$B$5,\"\")","v":""}]
[null,null,null,null,null,null,null,{"$f":"IF($A425<>\"\",'Step 1 -- Commenter information'!$B$2,\"\")","v":""},{"$f":"IF($A425<>\"\",'Step 1 -- Commenter information'!$B$3,\"\")","v":""},{"$f":"IF($A425<>\"\",'Step 1 -- Commenter information'!$B$4,\"\")","v":""},{"$f":"IF($A425<>\"\",'Step 1 -- Commenter information'!$B$5,\"\")","v":""}]
[null,null,null,null,null,null,null,{"$f":"IF($A426<>\"\",'Step 1 -- Commenter information'!$B$2,\"\")","v":""},{"$f":"IF($A426<>\"\",'Step 1 -- Commenter information'!$B$3,\"\")","v":""},{"$f":"IF($A426<>\"\",'Step 1 -- Commenter information'!$B$4,\"\")","v":""},{"$f":"IF($A426<>\"\",'Step 1 -- Commenter information'!$B$5,\"\")","v":""}]
[null,null,null,null,null,null,null,{"$f":"IF($A427<>\"\",'Step 1 -- Commenter information'!$B$2,\"\")","v":""},{"$f":"IF($A427<>\"\",'Step 1 -- Commenter information'!$B$3,\"\")","v":""},{"$f":"IF($A427<>\"\",'Step 1 -- Commenter information'!$B$4,\"\")","v":""},{"$f":"IF($A427<>\"\",'Step 1 -- Commenter information'!$B$5,\"\")","v":""}]
[null,null,null,null,null,null,null,{"$f":"IF($A428<>\"\",'Step 1 -- Commenter information'!$B$2,\"\")","v":""},{"$f":"IF($A428<>\"\",'Step 1 -- Commenter information'!$B$3,\"\")","v":""},{"$f":"IF($A428<>\"\",'Step 1 -- Commenter information'!$B$4,\"\")","v":""},{"$f":"IF($A428<>\"\",'Step 1 -- Commenter information'!$B$5,\"\")","v":""}]
[null,null,null,null,null,null,null,{"$f":"IF($A429<>\"\",'Step 1 -- Commenter information'!$B$2,\"\")","v":""},{"$f":"IF($A429<>\"\",'Step 1 -- Commenter information'!$B$3,\"\")","v":""},{"$f":"IF($A429<>\"\",'Step 1 -- Commenter information'!$B$4,\"\")","v":""},{"$f":"IF($A429<>\"\",'Step 1 -- Commenter information'!$B$5,\"\")","v":""}]
[null,null,null,null,null,null,null,{"$f":"IF($A430<>\"\",'Step 1 -- Commenter information'!$B$2,\"\")","v":""},{"$f":"IF($A430<>\"\",'Step 1 -- Commenter information'!$B$3,\"\")","v":""},{"$f":"IF($A430<>\"\",'Step 1 -- Commenter information'!$B$4,\"\")","v":""},{"$f":"IF($A430<>\"\",'Step 1 -- Commenter information'!$B$5,\"\")","v":""}]
[null,null,null,null,null,null,null,{"$f":"IF($A431<>\"\",'Step 1 -- Commenter information'!$B$2,\"\")","v":""},{"$f":"IF($A431<>\"\",'Step 1 -- Commenter information'!$B$3,\"\")","v":""},{"$f":"IF($A431<>\"\",'Step 1 -- Commenter information'!$B$4,\"\")","v":""},{"$f":"IF($A431<>\"\",'Step 1 -- Commenter information'!$B$5,\"\")","v":""}]
[null,null,null,null,null,null,null,{"$f":"IF($A432<>\"\",'Step 1 -- Commenter information'!$B$2,\"\")","v":""},{"$f":"IF($A432<>\"\",'Step 1 -- Commenter information'!$B$3,\"\")","v":""},{"$f":"IF($A432<>\"\",'Step 1 -- Commenter information'!$B$4,\"\")","v":""},{"$f":"IF($A432<>\"\",'Step 1 -- Commenter information'!$B$5,\"\")","v":""}]
[null,null,null,null,null,null,null,{"$f":"IF($A433<>\"\",'Step 1 -- Commenter information'!$B$2,\"\")","v":""},{"$f":"IF($A433<>\"\",'Step 1 -- Commenter information'!$B$3,\"\")","v":""},{"$f":"IF($A433<>\"\",'Step 1 -- Commenter information'!$B$4,\"\")","v":""},{"$f":"IF($A433<>\"\",'Step 1 -- Commenter information'!$B$5,\"\")","v":""}]
[null,null,null,null,null,null,null,{"$f":"IF($A434<>\"\",'Step 1 -- Commenter information'!$B$2,\"\")","v":""},{"$f":"IF($A434<>\"\",'Step 1 -- Commenter information'!$B$3,\"\")","v":""},{"$f":"IF($A434<>\"\",'Step 1 -- Commenter information'!$B$4,\"\")","v":""},{"$f":"IF($A434<>\"\",'Step 1 -- Commenter information'!$B$5,\"\")","v":""}]
[null,null,null,null,null,null,null,{"$f":"IF($A435<>\"\",'Step 1 -- Commenter information'!$B$2,\"\")","v":""},{"$f":"IF($A435<>\"\",'Step 1 -- Commenter information'!$B$3,\"\")","v":""},{"$f":"IF($A435<>\"\",'Step 1 -- Commenter information'!$B$4,\"\")","v":""},{"$f":"IF($A435<>\"\",'Step 1 -- Commenter information'!$B$5,\"\")","v":""}]
[null,null,null,null,null,null,null,{"$f":"IF($A436<>\"\",'Step 1 -- Commenter information'!$B$2,\"\")","v":""},{"$f":"IF($A436<>\"\",'Step 1 -- Commenter information'!$B$3,\"\")","v":""},{"$f":"IF($A436<>\"\",'Step 1 -- Commenter information'!$B$4,\"\")","v":""},{"$f":"IF($A436<>\"\",'Step 1 -- Commenter information'!$B$5,\"\")","v":""}]
[null,null,null,null,null,null,null,{"$f":"IF($A437<>\"\",'Step 1 -- Commenter information'!$B$2,\"\")","v":""},{"$f":"IF($A437<>\"\",'Step 1 -- Commenter information'!$B$3,\"\")","v":""},{"$f":"IF($A437<>\"\",'Step 1 -- Commenter information'!$B$4,\"\")","v":""},{"$f":"IF($A437<>\"\",'Step 1 -- Commenter information'!$B$5,\"\")","v":""}]
[null,null,null,null,null,null,null,{"$f":"IF($A438<>\"\",'Step 1 -- Commenter information'!$B$2,\"\")","v":""},{"$f":"IF($A438<>\"\",'Step 1 -- Commenter information'!$B$3,\"\")","v":""},{"$f":"IF($A438<>\"\",'Step 1 -- Commenter information'!$B$4,\"\")","v":""},{"$f":"IF($A438<>\"\",'Step 1 -- Commenter information'!$B$5,\"\")","v":""}]
[null,null,null,null,null,null,null,{"$f":"IF($A439<>\"\",'Step 1 -- Commenter information'!$B$2,\"\")","v":""},{"$f":"IF($A439<>\"\",'Step 1 -- Commenter information'!$B$3,\"\")","v":""},{"$f":"IF($A439<>\"\",'Step 1 -- Commenter information'!$B$4,\"\")","v":""},{"$f":"IF($A439<>\"\",'Step 1 -- Commenter information'!$B$5,\"\")","v":""}]
[null,null,null,null,null,null,null,{"$f":"IF($A440<>\"\",'Step 1 -- Commenter information'!$B$2,\"\")","v":""},{"$f":"IF($A440<>\"\",'Step 1 -- Commenter information'!$B$3,\"\")","v":""},{"$f":"IF($A440<>\"\",'Step 1 -- Commenter information'!$B$4,\"\")","v":""},{"$f":"IF($A440<>\"\",'Step 1 -- Commenter information'!$B$5,\"\")","v":""}]
[null,null,null,null,null,null,null,{"$f":"IF($A441<>\"\",'Step 1 -- Commenter information'!$B$2,\"\")","v":""},{"$f":"IF($A441<>\"\",'Step 1 -- Commenter information'!$B$3,\"\")","v":""},{"$f":"IF($A441<>\"\",'Step 1 -- Commenter information'!$B$4,\"\")","v":""},{"$f":"IF($A441<>\"\",'Step 1 -- Commenter information'!$B$5,\"\")","v":""}]
[null,null,null,null,null,null,null,{"$f":"IF($A442<>\"\",'Step 1 -- Commenter information'!$B$2,\"\")","v":""},{"$f":"IF($A442<>\"\",'Step 1 -- Commenter information'!$B$3,\"\")","v":""},{"$f":"IF($A442<>\"\",'Step 1 -- Commenter information'!$B$4,\"\")","v":""},{"$f":"IF($A442<>\"\",'Step 1 -- Commenter information'!$B$5,\"\")","v":""}]
[null,null,null,null,null,null,null,{"$f":"IF($A443<>\"\",'Step 1 -- Commenter information'!$B$2,\"\")","v":""},{"$f":"IF($A443<>\"\",'Step 1 -- Commenter information'!$B$3,\"\")","v":""},{"$f":"IF($A443<>\"\",'Step 1 -- Commenter information'!$B$4,\"\")","v":""},{"$f":"IF($A443<>\"\",'Step 1 -- Commenter information'!$B$5,\"\")","v":""}]
[null,null,null,null,null,null,null,{"$f":"IF($A444<>\"\",'Step 1 -- Commenter information'!$B$2,\"\")","v":""},{"$f":"IF($A444<>\"\",'Step 1 -- Commenter information'!$B$3,\"\")","v":""},{"$f":"IF($A444<>\"\",'Step 1 -- Commenter information'!$B$4,\"\")","v":""},{"$f":"IF($A444<>\"\",'Step 1 -- Commenter information'!$B$5,\"\")","v":""}]
[null,null,null,null,null,null,null,{"$f":"IF($A445<>\"\",'Step 1 -- Commenter information'!$B$2,\"\")","v":""},{"$f":"IF($A445<>\"\",'Step 1 -- Commenter information'!$B$3,\"\")","v":""},{"$f":"IF($A445<>\"\",'Step 1 -- Commenter information'!$B$4,\"\")","v":""},{"$f":"IF($A445<>\"\",'Step 1 -- Commenter information'!$B$5,\"\")","v":""}]
[null,null,null,null,null,null,null,{"$f":"IF($A446<>\"\",'Step 1 -- Commenter information'!$B$2,\"\")","v":""},{"$f":"IF($A446<>\"\",'Step 1 -- Commenter information'!$B$3,\"\")","v":""},{"$f":"IF($A446<>\"\",'Step 1 -- Commenter information'!$B$4,\"\")","v":""},{"$f":"IF($A446<>\"\",'Step 1 -- Commenter information'!$B$5,\"\")","v":""}]
[null,null,null,null,null,null,null,{"$f":"IF($A447<>\"\",'Step 1 -- Commenter information'!$B$2,\"\")","v":""},{"$f":"IF($A447<>\"\",'Step 1 -- Commenter information'!$B$3,\"\")","v":""},{"$f":"IF($A447<>\"\",'Step 1 -- Commenter information'!$B$4,\"\")","v":""},{"$f":"IF($A447<>\"\",'Step 1 -- Commenter information'!$B$5,\"\")","v":""}]
[null,null,null,null,null,null,null,{"$f":"IF($A448<>\"\",'Step 1 -- Commenter information'!$B$2,\"\")","v":""},{"$f":"IF($A448<>\"\",'Step 1 -- Commenter information'!$B$3,\"\")","v":""},{"$f":"IF($A448<>\"\",'Step 1 -- Commenter information'!$B$4,\"\")","v":""},{"$f":"IF($A448<>\"\",'Step 1 -- Commenter information'!$B$5,\"\")","v":""}]
[null,null,null,null,null,null,null,{"$f":"IF($A449<>\"\",'Step 1 -- Commenter information'!$B$2,\"\")","v":""},{"$f":"IF($A449<>\"\",'Step 1 -- Commenter information'!$B$3,\"\")","v":""},{"$f":"IF($A449<>\"\",'Step 1 -- Commenter information'!$B$4,\"\")","v":""},{"$f":"IF($A449<>\"\",'Step 1 -- Commenter information'!$B$5,\"\")","v":""}]
[null,null,null,null,null,null,null,{"$f":"IF($A450<>\"\",'Step 1 -- Commenter information'!$B$2,\"\")","v":""},{"$f":"IF($A450<>\"\",'Step 1 -- Commenter information'!$B$3,\"\")","v":""},{"$f":"IF($A450<>\"\",'Step 1 -- Commenter information'!$B$4,\"\")","v":""},{"$f":"IF($A450<>\"\",'Step 1 -- Commenter information'!$B$5,\"\")","v":""}]
[null,null,null,null,null,null,null,{"$f":"IF($A451<>\"\",'Step 1 -- Commenter information'!$B$2,\"\")","v":""},{"$f":"IF($A451<>\"\",'Step 1 -- Commenter information'!$B$3,\"\")","v":""},{"$f":"IF($A451<>\"\",'Step 1 -- Commenter information'!$B$4,\"\")","v":""},{"$f":"IF($A451<>\"\",'Step 1 -- Commenter information'!$B$5,\"\")","v":""}]
[null,null,null,null,null,null,null,{"$f":"IF($A452<>\"\",'Step 1 -- Commenter information'!$B$2,\"\")","v":""},{"$f":"IF($A452<>\"\",'Step 1 -- Commenter information'!$B$3,\"\")","v":""},{"$f":"IF($A452<>\"\",'Step 1 -- Commenter information'!$B$4,\"\")","v":""},{"$f":"IF($A452<>\"\",'Step 1 -- Commenter information'!$B$5,\"\")","v":""}]
[null,null,null,null,null,null,null,{"$f":"IF($A453<>\"\",'Step 1 -- Commenter information'!$B$2,\"\")","v":""},{"$f":"IF($A453<>\"\",'Step 1 -- Commenter information'!$B$3,\"\")","v":""},{"$f":"IF($A453<>\"\",'Step 1 -- Commenter information'!$B$4,\"\")","v":""},{"$f":"IF($A453<>\"\",'Step 1 -- Commenter information'!$B$5,\"\")","v":""}]
[null,null,null,null,null,null,null,{"$f":"IF($A454<>\"\",'Step 1 -- Commenter information'!$B$2,\"\")","v":""},{"$f":"IF($A454<>\"\",'Step 1 -- Commenter information'!$B$3,\"\")","v":""},{"$f":"IF($A454<>\"\",'Step 1 -- Commenter information'!$B$4,\"\")","v":""},{"$f":"IF($A454<>\"\",'Step 1 -- Commenter information'!$B$5,\"\")","v":""}]
[null,null,null,null,null,null,null,{"$f":"IF($A455<>\"\",'Step 1 -- Commenter information'!$B$2,\"\")","v":""},{"$f":"IF($A455<>\"\",'Step 1 -- Commenter information'!$B$3,\"\")","v":""},{"$f":"IF($A455<>\"\",'Step 1 -- Commenter information'!$B$4,\"\")","v":""},{"$f":"IF($A455<>\"\",'Step 1 -- Commenter information'!$B$5,\"\")","v":""}]
[null,null,null,null,null,null,null,{"$f":"IF($A456<>\"\",'Step 1 -- Commenter information'!$B$2,\"\")","v":""},{"$f":"IF($A456<>\"\",'Step 1 -- Commenter information'!$B$3,\"\")","v":""},{"$f":"IF($A456<>\"\",'Step 1 -- Commenter information'!$B$4,\"\")","v":""},{"$f":"IF($A456<>\"\",'Step 1 -- Commenter information'!$B$5,\"\")","v":""}]
[null,null,null,null,null,null,null,{"$f":"IF($A457<>\"\",'Step 1 -- Commenter information'!$B$2,\"\")","v":""},{"$f":"IF($A457<>\"\",'Step 1 -- Commenter information'!$B$3,\"\")","v":""},{"$f":"IF($A457<>\"\",'Step 1 -- Commenter information'!$B$4,\"\")","v":""},{"$f":"IF($A457<>\"\",'Step 1 -- Commenter information'!$B$5,\"\")","v":""}]
[null,null,null,null,null,null,null,{"$f":"IF($A458<>\"\",'Step 1 -- Commenter information'!$B$2,\"\")","v":""},{"$f":"IF($A458<>\"\",'Step 1 -- Commenter information'!$B$3,\"\")","v":""},{"$f":"IF($A458<>\"\",'Step 1 -- Commenter information'!$B$4,\"\")","v":""},{"$f":"IF($A458<>\"\",'Step 1 -- Commenter information'!$B$5,\"\")","v":""}]
[null,null,null,null,null,null,null,{"$f":"IF($A459<>\"\",'Step 1 -- Commenter information'!$B$2,\"\")","v":""},{"$f":"IF($A459<>\"\",'Step 1 -- Commenter information'!$B$3,\"\")","v":""},{"$f":"IF($A459<>\"\",'Step 1 -- Commenter information'!$B$4,\"\")","v":""},{"$f":"IF($A459<>\"\",'Step 1 -- Commenter information'!$B$5,\"\")","v":""}]
[null,null,null,null,null,null,null,{"$f":"IF($A460<>\"\",'Step 1 -- Commenter information'!$B$2,\"\")","v":""},{"$f":"IF($A460<>\"\",'Step 1 -- Commenter information'!$B$3,\"\")","v":""},{"$f":"IF($A460<>\"\",'Step 1 -- Commenter information'!$B$4,\"\")","v":""},{"$f":"IF($A460<>\"\",'Step 1 -- Commenter information'!$B$5,\"\")","v":""}]
[null,null,null,null,null,null,null,{"$f":"IF($A461<>\"\",'Step 1 -- Commenter information'!$B$2,\"\")","v":""},{"$f":"IF($A461<>\"\",'Step 1 -- Commenter information'!$B$3,\"\")","v":""},{"$f":"IF($A461<>\"\",'Step 1 -- Commenter information'!$B$4,\"\")","v":""},{"$f":"IF($A461<>\"\",'Step 1 -- Commenter information'!$B$5,\"\")","v":""}]
[null,null,null,null,null,null,null,{"$f":"IF($A462<>\"\",'Step 1 -- Commenter information'!$B$2,\"\")","v":""},{"$f":"IF($A462<>\"\",'Step 1 -- Commenter information'!$B$3,\"\")","v":""},{"$f":"IF($A462<>\"\",'Step 1 -- Commenter information'!$B$4,\"\")","v":""},{"$f":"IF($A462<>\"\",'Step 1 -- Commenter information'!$B$5,\"\")","v":""}]
[null,null,null,null,null,null,null,{"$f":"IF($A463<>\"\",'Step 1 -- Commenter information'!$B$2,\"\")","v":""},{"$f":"IF($A463<>\"\",'Step 1 -- Commenter information'!$B$3,\"\")","v":""},{"$f":"IF($A463<>\"\",'Step 1 -- Commenter information'!$B$4,\"\")","v":""},{"$f":"IF($A463<>\"\",'Step 1 -- Commenter information'!$B$5,\"\")","v":""}]
[null,null,null,null,null,null,null,{"$f":"IF($A464<>\"\",'Step 1 -- Commenter information'!$B$2,\"\")","v":""},{"$f":"IF($A464<>\"\",'Step 1 -- Commenter information'!$B$3,\"\")","v":""},{"$f":"IF($A464<>\"\",'Step 1 -- Commenter information'!$B$4,\"\")","v":""},{"$f":"IF($A464<>\"\",'Step 1 -- Commenter information'!$B$5,\"\")","v":""}]
[null,null,null,null,null,null,null,{"$f":"IF($A465<>\"\",'Step 1 -- Commenter information'!$B$2,\"\")","v":""},{"$f":"IF($A465<>\"\",'Step 1 -- Commenter information'!$B$3,\"\")","v":""},{"$f":"IF($A465<>\"\",'Step 1 -- Commenter information'!$B$4,\"\")","v":""},{"$f":"IF($A465<>\"\",'Step 1 -- Commenter information'!$B$5,\"\")","v":""}]
[null,null,null,null,null,null,null,{"$f":"IF($A466<>\"\",'Step 1 -- Commenter information'!$B$2,\"\")","v":""},{"$f":"IF($A466<>\"\",'Step 1 -- Commenter information'!$B$3,\"\")","v":""},{"$f":"IF($A466<>\"\",'Step 1 -- Commenter information'!$B$4,\"\")","v":""},{"$f":"IF($A466<>\"\",'Step 1 -- Commenter information'!$B$5,\"\")","v":""}]
[null,null,null,null,null,null,null,{"$f":"IF($A467<>\"\",'Step 1 -- Commenter information'!$B$2,\"\")","v":""},{"$f":"IF($A467<>\"\",'Step 1 -- Commenter information'!$B$3,\"\")","v":""},{"$f":"IF($A467<>\"\",'Step 1 -- Commenter information'!$B$4,\"\")","v":""},{"$f":"IF($A467<>\"\",'Step 1 -- Commenter information'!$B$5,\"\")","v":""}]
[null,null,null,null,null,null,null,{"$f":"IF($A468<>\"\",'Step 1 -- Commenter information'!$B$2,\"\")","v":""},{"$f":"IF($A468<>\"\",'Step 1 -- Commenter information'!$B$3,\"\")","v":""},{"$f":"IF($A468<>\"\",'Step 1 -- Commenter information'!$B$4,\"\")","v":""},{"$f":"IF($A468<>\"\",'Step 1 -- Commenter information'!$B$5,\"\")","v":""}]
[null,null,null,null,null,null,null,{"$f":"IF($A469<>\"\",'Step 1 -- Commenter information'!$B$2,\"\")","v":""},{"$f":"IF($A469<>\"\",'Step 1 -- Commenter information'!$B$3,\"\")","v":""},{"$f":"IF($A469<>\"\",'Step 1 -- Commenter information'!$B$4,\"\")","v":""},{"$f":"IF($A469<>\"\",'Step 1 -- Commenter information'!$B$5,\"\")","v":""}]
[null,null,null,null,null,null,null,{"$f":"IF($A470<>\"\",'Step 1 -- Commenter information'!$B$2,\"\")","v":""},{"$f":"IF($A470<>\"\",'Step 1 -- Commenter information'!$B$3,\"\")","v":""},{"$f":"IF($A470<>\"\",'Step 1 -- Commenter information'!$B$4,\"\")","v":""},{"$f":"IF($A470<>\"\",'Step 1 -- Commenter information'!$B$5,\"\")","v":""}]
[null,null,null,null,null,null,null,{"$f":"IF($A471<>\"\",'Step 1 -- Commenter information'!$B$2,\"\")","v":""},{"$f":"IF($A471<>\"\",'Step 1 -- Commenter information'!$B$3,\"\")","v":""},{"$f":"IF($A471<>\"\",'Step 1 -- Commenter information'!$B$4,\"\")","v":""},{"$f":"IF($A471<>\"\",'Step 1 -- Commenter information'!$B$5,\"\")","v":""}]
[null,null,null,null,null,null,null,{"$f":"IF($A472<>\"\",'Step 1 -- Commenter information'!$B$2,\"\")","v":""},{"$f":"IF($A472<>\"\",'Step 1 -- Commenter information'!$B$3,\"\")","v":""},{"$f":"IF($A472<>\"\",'Step 1 -- Commenter information'!$B$4,\"\")","v":""},{"$f":"IF($A472<>\"\",'Step 1 -- Commenter information'!$B$5,\"\")","v":""}]
[null,null,null,null,null,null,null,{"$f":"IF($A473<>\"\",'Step 1 -- Commenter information'!$B$2,\"\")","v":""},{"$f":"IF($A473<>\"\",'Step 1 -- Commenter information'!$B$3,\"\")","v":""},{"$f":"IF($A473<>\"\",'Step 1 -- Commenter information'!$B$4,\"\")","v":""},{"$f":"IF($A473<>\"\",'Step 1 -- Commenter information'!$B$5,\"\")","v":""}]
[null,null,null,null,null,null,null,{"$f":"IF($A474<>\"\",'Step 1 -- Commenter information'!$B$2,\"\")","v":""},{"$f":"IF($A474<>\"\",'Step 1 -- Commenter information'!$B$3,\"\")","v":""},{"$f":"IF($A474<>\"\",'Step 1 -- Commenter information'!$B$4,\"\")","v":""},{"$f":"IF($A474<>\"\",'Step 1 -- Commenter information'!$B$5,\"\")","v":""}]
[null,null,null,null,null,null,null,{"$f":"IF($A475<>\"\",'Step 1 -- Commenter information'!$B$2,\"\")","v":""},{"$f":"IF($A475<>\"\",'Step 1 -- Commenter information'!$B$3,\"\")","v":""},{"$f":"IF($A475<>\"\",'Step 1 -- Commenter information'!$B$4,\"\")","v":""},{"$f":"IF($A475<>\"\",'Step 1 -- Commenter information'!$B$5,\"\")","v":""}]
[null,null,null,null,null,null,null,{"$f":"IF($A476<>\"\",'Step 1 -- Commenter information'!$B$2,\"\")","v":""},{"$f":"IF($A476<>\"\",'Step 1 -- Commenter information'!$B$3,\"\")","v":""},{"$f":"IF($A476<>\"\",'Step 1 -- Commenter information'!$B$4,\"\")","v":""},{"$f":"IF($A476<>\"\",'Step 1 -- Commenter information'!$B$5,\"\")","v":""}]
[null,null,null,null,null,null,null,{"$f":"IF($A477<>\"\",'Step 1 -- Commenter information'!$B$2,\"\")","v":""},{"$f":"IF($A477<>\"\",'Step 1 -- Commenter information'!$B$3,\"\")","v":""},{"$f":"IF($A477<>\"\",'Step 1 -- Commenter information'!$B$4,\"\")","v":""},{"$f":"IF($A477<>\"\",'Step 1 -- Commenter information'!$B$5,\"\")","v":""}]
[null,null,null,null,null,null,null,{"$f":"IF($A478<>\"\",'Step 1 -- Commenter information'!$B$2,\"\")","v":""},{"$f":"IF($A478<>\"\",'Step 1 -- Commenter information'!$B$3,\"\")","v":""},{"$f":"IF($A478<>\"\",'Step 1 -- Commenter information'!$B$4,\"\")","v":""},{"$f":"IF($A478<>\"\",'Step 1 -- Commenter information'!$B$5,\"\")","v":""}]
[null,null,null,null,null,null,null,{"$f":"IF($A479<>\"\",'Step 1 -- Commenter information'!$B$2,\"\")","v":""},{"$f":"IF($A479<>\"\",'Step 1 -- Commenter information'!$B$3,\"\")","v":""},{"$f":"IF($A479<>\"\",'Step 1 -- Commenter information'!$B$4,\"\")","v":""},{"$f":"IF($A479<>\"\",'Step 1 -- Commenter information'!$B$5,\"\")","v":""}]
[null,null,null,null,null,null,null,{"$f":"IF($A480<>\"\",'Step 1 -- Commenter information'!$B$2,\"\")","v":""},{"$f":"IF($A480<>\"\",'Step 1 -- Commenter information'!$B$3,\"\")","v":""},{"$f":"IF($A480<>\"\",'Step 1 -- Commenter information'!$B$4,\"\")","v":""},{"$f":"IF($A480<>\"\",'Step 1 -- Commenter information'!$B$5,\"\")","v":""}]
[null,null,null,null,null,null,null,{"$f":"IF($A481<>\"\",'Step 1 -- Commenter information'!$B$2,\"\")","v":""},{"$f":"IF($A481<>\"\",'Step 1 -- Commenter information'!$B$3,\"\")","v":""},{"$f":"IF($A481<>\"\",'Step 1 -- Commenter information'!$B$4,\"\")","v":""},{"$f":"IF($A481<>\"\",'Step 1 -- Commenter information'!$B$5,\"\")","v":""}]
[null,null,null,null,null,null,null,{"$f":"IF($A482<>\"\",'Step 1 -- Commenter information'!$B$2,\"\")","v":""},{"$f":"IF($A482<>\"\",'Step 1 -- Commenter information'!$B$3,\"\")","v":""},{"$f":"IF($A482<>\"\",'Step 1 -- Commenter information'!$B$4,\"\")","v":""},{"$f":"IF($A482<>\"\",'Step 1 -- Commenter information'!$B$5,\"\")","v":""}]
[null,null,null,null,null,null,null,{"$f":"IF($A483<>\"\",'Step 1 -- Commenter information'!$B$2,\"\")","v":""},{"$f":"IF($A483<>\"\",'Step 1 -- Commenter information'!$B$3,\"\")","v":""},{"$f":"IF($A483<>\"\",'Step 1 -- Commenter information'!$B$4,\"\")","v":""},{"$f":"IF($A483<>\"\",'Step 1 -- Commenter information'!$B$5,\"\")","v":""}]
[null,null,null,null,null,null,null,{"$f":"IF($A484<>\"\",'Step 1 -- Commenter information'!$B$2,\"\")","v":""},{"$f":"IF($A484<>\"\",'Step 1 -- Commenter information'!$B$3,\"\")","v":""},{"$f":"IF($A484<>\"\",'Step 1 -- Commenter information'!$B$4,\"\")","v":""},{"$f":"IF($A484<>\"\",'Step 1 -- Commenter information'!$B$5,\"\")","v":""}]
[null,null,null,null,null,null,null,{"$f":"IF($A485<>\"\",'Step 1 -- Commenter information'!$B$2,\"\")","v":""},{"$f":"IF($A485<>\"\",'Step 1 -- Commenter information'!$B$3,\"\")","v":""},{"$f":"IF($A485<>\"\",'Step 1 -- Commenter information'!$B$4,\"\")","v":""},{"$f":"IF($A485<>\"\",'Step 1 -- Commenter information'!$B$5,\"\")","v":""}]
[null,null,null,null,null,null,null,{"$f":"IF($A486<>\"\",'Step 1 -- Commenter information'!$B$2,\"\")","v":""},{"$f":"IF($A486<>\"\",'Step 1 -- Commenter information'!$B$3,\"\")","v":""},{"$f":"IF($A486<>\"\",'Step 1 -- Commenter information'!$B$4,\"\")","v":""},{"$f":"IF($A486<>\"\",'Step 1 -- Commenter information'!$B$5,\"\")","v":""}]
[null,null,null,null,null,null,null,{"$f":"IF($A487<>\"\",'Step 1 -- Commenter information'!$B$2,\"\")","v":""},{"$f":"IF($A487<>\"\",'Step 1 -- Commenter information'!$B$3,\"\")","v":""},{"$f":"IF($A487<>\"\",'Step 1 -- Commenter information'!$B$4,\"\")","v":""},{"$f":"IF($A487<>\"\",'Step 1 -- Commenter information'!$B$5,\"\")","v":""}]
[null,null,null,null,null,null,null,{"$f":"IF($A488<>\"\",'Step 1 -- Commenter information'!$B$2,\"\")","v":""},{"$f":"IF($A488<>\"\",'Step 1 -- Commenter information'!$B$3,\"\")","v":""},{"$f":"IF($A488<>\"\",'Step 1 -- Commenter information'!$B$4,\"\")","v":""},{"$f":"IF($A488<>\"\",'Step 1 -- Commenter information'!$B$5,\"\")","v":""}]
[null,null,null,null,null,null,null,{"$f":"IF($A489<>\"\",'Step 1 -- Commenter information'!$B$2,\"\")","v":""},{"$f":"IF($A489<>\"\",'Step 1 -- Commenter information'!$B$3,\"\")","v":""},{"$f":"IF($A489<>\"\",'Step 1 -- Commenter information'!$B$4,\"\")","v":""},{"$f":"IF($A489<>\"\",'Step 1 -- Commenter information'!$B$5,\"\")","v":""}]
[null,null,null,null,null,null,null,{"$f":"IF($A490<>\"\",'Step 1 -- Commenter information'!$B$2,\"\")","v":""},{"$f":"IF($A490<>\"\",'Step 1 -- Commenter information'!$B$3,\"\")","v":""},{"$f":"IF($A490<>\"\",'Step 1 -- Commenter information'!$B$4,\"\")","v":""},{"$f":"IF($A490<>\"\",'Step 1 -- Commenter information'!$B$5,\"\")","v":""}]
[null,null,null,null,null,null,null,{"$f":"IF($A491<>\"\",'Step 1 -- Commenter information'!$B$2,\"\")","v":""},{"$f":"IF($A491<>\"\",'Step 1 -- Commenter information'!$B$3,\"\")","v":""},{"$f":"IF($A491<>\"\",'Step 1 -- Commenter information'!$B$4,\"\")","v":""},{"$f":"IF($A491<>\"\",'Step 1 -- Commenter information'!$B$5,\"\")","v":""}]
[null,null,null,null,null,null,null,{"$f":"IF($A492<>\"\",'Step 1 -- Commenter information'!$B$2,\"\")","v":""},{"$f":"IF($A492<>\"\",'Step 1 -- Commenter information'!$B$3,\"\")","v":""},{"$f":"IF($A492<>\"\",'Step 1 -- Commenter information'!$B$4,\"\")","v":""},{"$f":"IF($A492<>\"\",'Step 1 -- Commenter information'!$B$5,\"\")","v":""}]
[null,null,null,null,null,null,null,{"$f":"IF($A493<>\"\",'Step 1 -- Commenter information'!$B$2,\"\")","v":""},{"$f":"IF($A493<>\"\",'Step 1 -- Commenter information'!$B$3,\"\")","v":""},{"$f":"IF($A493<>\"\",'Step 1 -- Commenter information'!$B$4,\"\")","v":""},{"$f":"IF($A493<>\"\",'Step 1 -- Commenter information'!$B$5,\"\")","v":""}]
[null,null,null,null,null,null,null,{"$f":"IF($A494<>\"\",'Step 1 -- Commenter information'!$B$2,\"\")","v":""},{"$f":"IF($A494<>\"\",'Step 1 -- Commenter information'!$B$3,\"\")","v":""},{"$f":"IF($A494<>\"\",'Step 1 -- Commenter information'!$B$4,\"\")","v":""},{"$f":"IF($A494<>\"\",'Step 1 -- Commenter information'!$B$5,\"\")","v":""}]
[null,null,null,null,null,null,null,{"$f":"IF($A495<>\"\",'Step 1 -- Commenter information'!$B$2,\"\")","v":""},{"$f":"IF($A495<>\"\",'Step 1 -- Commenter information'!$B$3,\"\")","v":""},{"$f":"IF($A495<>\"\",'Step 1 -- Commenter information'!$B$4,\"\")","v":""},{"$f":"IF($A495<>\"\",'Step 1 -- Commenter information'!$B$5,\"\")","v":""}]
[null,null,null,null,null,null,null,{"$f":"IF($A496<>\"\",'Step 1 -- Commenter information'!$B$2,\"\")","v":""},{"$f":"IF($A496<>\"\",'Step 1 -- Commenter information'!$B$3,\"\")","v":""},{"$f":"IF($A496<>\"\",'Step 1 -- Commenter information'!$B$4,\"\")","v":""},{"$f":"IF($A496<>\"\",'Step 1 -- Commenter information'!$B$5,\"\")","v":""}]
[null,null,null,null,null,null,null,{"$f":"IF($A497<>\"\",'Step 1 -- Commenter information'!$B$2,\"\")","v":""},{"$f":"IF($A497<>\"\",'Step 1 -- Commenter information'!$B$3,\"\")","v":""},{"$f":"IF($A497<>\"\",'Step 1 -- Commenter information'!$B$4,\"\")","v":""},{"$f":"IF($A497<>\"\",'Step 1 -- Commenter information'!$B$5,\"\")","v":""}]
[null,null,null,null,null,null,null,{"$f":"IF($A498<>\"\",'Step 1 -- Commenter information'!$B$2,\"\")","v":""},{"$f":"IF($A498<>\"\",'Step 1 -- Commenter information'!$B$3,\"\")","v":""},{"$f":"IF($A498<>\"\",'Step 1 -- Commenter information'!$B$4,\"\")","v":""},{"$f":"IF($A498<>\"\",'Step 1 -- Commenter information'!$B$5,\"\")","v":""}]
[null,null,null,null,null,null,null,{"$f":"IF($A499<>\"\",'Step 1 -- Commenter information'!$B$2,\"\")","v":""},{"$f":"IF($A499<>\"\",'Step 1 -- Commenter information'!$B$3,\"\")","v":""},{"$f":"IF($A499<>\"\",'Step 1 -- Commenter information'!$B$4,\"\")","v":""},{"$f":"IF($A499<>\"\",'Step 1 -- Commenter information'!$B$5,\"\")","v":""}]
[null,null,null,null,null,null,null,{"$f":"IF($A500<>\"\",'Step 1 -- Commenter information'!$B$2,\"\")","v":""},{"$f":"IF($A500<>\"\",'Step 1 -- Commenter information'!$B$3,\"\")","v":""},{"$f":"IF($A500<>\"\",'Step 1 -- Commenter information'!$B$4,\"\")","v":""},{"$f":"IF($A500<>\"\",'Step 1 -- Commenter information'!$B$5,\"\")","v":""}]